{"text_format":"1","workbook":"xlsx","n_sheets":7,"sheets":["Latitude en longitude","Postcode en huisnr","Calc","UK","UTMConstants","WGS842UTM","UTM2WGS84"],"not_rendered":{"charts":0,"images":0,"macros":1,"external_links":1,"defined_names":189,"comments":1,"pivot_tables":0},"unopened":[],"bounds":{"document_bytes":16777216,"sheet_cells":100000,"rows_first":2000,"rows_last":500,"rows_between":2000,"halvings":0,"cell_chars":16384,"cell_head_chars":4096},"cells_cut":0,"cells_raw":0,"read":"whole","date_system":"1900"}

{"sheet":"Latitude en longitude","index":0,"n_rows":203,"n_cols":6,"rows_kept":203,"cut":false,"hidden":false,"merged":[[0,1,0,2],[0,4,0,5]]}
[null,"Oud coordinaten systeem\n(zoals uit google)",null,null,"Juiste coordinaten systeem voor zwerfafval.incijfers.nl - kopiëren en plakken naar SUF\n(plakken van waarden)"]
["Vooraf ingevuld","Invullen door gemeente ","Invullen door gemeente ",null,"Automatisch gegenereerd","Automatisch gegenereerd"]
["Meetlocatienummer","Latitude - Y (vaak xx,xxxxxxx)","Longitude - X (vaak x,xxxxxx)",null,"X","Y"]
[1,null,null,null,{"$f":"155000+SUM({190094.945,-11832.228,-144.221,-32.391,-0.705,-2.34,-0.608,-0.008,0.148}*(0.36*(B4-52.1551744))^{0,1,2,0,1,3,1,0,2}*(0.36*(C4-5.38720621))^{1,1,1,3,0,1,3,2,3})","v":-576174.57035138155},{"$f":"463000+SUM({309056.544,3638.893,73.077,-157.984,59.788,0.433,-6.439,-0.032,0.092,-0.054}*(0.36*(B4-52.1551744))^{1,0,2,1,3,0,2,1,0,1}*(0.36*(C4-5.38720621))^{0,2,0,2,0,1,2,1,4,4})","v":-5693465.1738227727}]
[2,null,null,null,{"$f":"155000+SUM({190094.945,-11832.228,-144.221,-32.391,-0.705,-2.34,-0.608,-0.008,0.148}*(0.36*(B5-52.1551744))^{0,1,2,0,1,3,1,0,2}*(0.36*(C5-5.38720621))^{1,1,1,3,0,1,3,2,3})","v":-576174.57035138155},{"$f":"463000+SUM({309056.544,3638.893,73.077,-157.984,59.788,0.433,-6.439,-0.032,0.092,-0.054}*(0.36*(B5-52.1551744))^{1,0,2,1,3,0,2,1,0,1}*(0.36*(C5-5.38720621))^{0,2,0,2,0,1,2,1,4,4})","v":-5693465.1738227727}]
[3,null,null,null,{"$f":"155000+SUM({190094.945,-11832.228,-144.221,-32.391,-0.705,-2.34,-0.608,-0.008,0.148}*(0.36*(B6-52.1551744))^{0,1,2,0,1,3,1,0,2}*(0.36*(C6-5.38720621))^{1,1,1,3,0,1,3,2,3})","v":-576174.57035138155},{"$f":"463000+SUM({309056.544,3638.893,73.077,-157.984,59.788,0.433,-6.439,-0.032,0.092,-0.054}*(0.36*(B6-52.1551744))^{1,0,2,1,3,0,2,1,0,1}*(0.36*(C6-5.38720621))^{0,2,0,2,0,1,2,1,4,4})","v":-5693465.1738227727}]
[4,null,null,null,{"$f":"155000+SUM({190094.945,-11832.228,-144.221,-32.391,-0.705,-2.34,-0.608,-0.008,0.148}*(0.36*(B7-52.1551744))^{0,1,2,0,1,3,1,0,2}*(0.36*(C7-5.38720621))^{1,1,1,3,0,1,3,2,3})","v":-576174.57035138155},{"$f":"463000+SUM({309056.544,3638.893,73.077,-157.984,59.788,0.433,-6.439,-0.032,0.092,-0.054}*(0.36*(B7-52.1551744))^{1,0,2,1,3,0,2,1,0,1}*(0.36*(C7-5.38720621))^{0,2,0,2,0,1,2,1,4,4})","v":-5693465.1738227727}]
[5,null,null,null,{"$f":"155000+SUM({190094.945,-11832.228,-144.221,-32.391,-0.705,-2.34,-0.608,-0.008,0.148}*(0.36*(B8-52.1551744))^{0,1,2,0,1,3,1,0,2}*(0.36*(C8-5.38720621))^{1,1,1,3,0,1,3,2,3})","v":-576174.57035138155},{"$f":"463000+SUM({309056.544,3638.893,73.077,-157.984,59.788,0.433,-6.439,-0.032,0.092,-0.054}*(0.36*(B8-52.1551744))^{1,0,2,1,3,0,2,1,0,1}*(0.36*(C8-5.38720621))^{0,2,0,2,0,1,2,1,4,4})","v":-5693465.1738227727}]
[6,null,null,null,{"$f":"155000+SUM({190094.945,-11832.228,-144.221,-32.391,-0.705,-2.34,-0.608,-0.008,0.148}*(0.36*(B9-52.1551744))^{0,1,2,0,1,3,1,0,2}*(0.36*(C9-5.38720621))^{1,1,1,3,0,1,3,2,3})","v":-576174.57035138155},{"$f":"463000+SUM({309056.544,3638.893,73.077,-157.984,59.788,0.433,-6.439,-0.032,0.092,-0.054}*(0.36*(B9-52.1551744))^{1,0,2,1,3,0,2,1,0,1}*(0.36*(C9-5.38720621))^{0,2,0,2,0,1,2,1,4,4})","v":-5693465.1738227727}]
[7,null,null,null,{"$f":"155000+SUM({190094.945,-11832.228,-144.221,-32.391,-0.705,-2.34,-0.608,-0.008,0.148}*(0.36*(B10-52.1551744))^{0,1,2,0,1,3,1,0,2}*(0.36*(C10-5.38720621))^{1,1,1,3,0,1,3,2,3})","v":-576174.57035138155},{"$f":"463000+SUM({309056.544,3638.893,73.077,-157.984,59.788,0.433,-6.439,-0.032,0.092,-0.054}*(0.36*(B10-52.1551744))^{1,0,2,1,3,0,2,1,0,1}*(0.36*(C10-5.38720621))^{0,2,0,2,0,1,2,1,4,4})","v":-5693465.1738227727}]
[8,null,null,null,{"$f":"155000+SUM({190094.945,-11832.228,-144.221,-32.391,-0.705,-2.34,-0.608,-0.008,0.148}*(0.36*(B11-52.1551744))^{0,1,2,0,1,3,1,0,2}*(0.36*(C11-5.38720621))^{1,1,1,3,0,1,3,2,3})","v":-576174.57035138155},{"$f":"463000+SUM({309056.544,3638.893,73.077,-157.984,59.788,0.433,-6.439,-0.032,0.092,-0.054}*(0.36*(B11-52.1551744))^{1,0,2,1,3,0,2,1,0,1}*(0.36*(C11-5.38720621))^{0,2,0,2,0,1,2,1,4,4})","v":-5693465.1738227727}]
[9,null,null,null,{"$f":"155000+SUM({190094.945,-11832.228,-144.221,-32.391,-0.705,-2.34,-0.608,-0.008,0.148}*(0.36*(B12-52.1551744))^{0,1,2,0,1,3,1,0,2}*(0.36*(C12-5.38720621))^{1,1,1,3,0,1,3,2,3})","v":-576174.57035138155},{"$f":"463000+SUM({309056.544,3638.893,73.077,-157.984,59.788,0.433,-6.439,-0.032,0.092,-0.054}*(0.36*(B12-52.1551744))^{1,0,2,1,3,0,2,1,0,1}*(0.36*(C12-5.38720621))^{0,2,0,2,0,1,2,1,4,4})","v":-5693465.1738227727}]
[10,null,null,null,{"$f":"155000+SUM({190094.945,-11832.228,-144.221,-32.391,-0.705,-2.34,-0.608,-0.008,0.148}*(0.36*(B13-52.1551744))^{0,1,2,0,1,3,1,0,2}*(0.36*(C13-5.38720621))^{1,1,1,3,0,1,3,2,3})","v":-576174.57035138155},{"$f":"463000+SUM({309056.544,3638.893,73.077,-157.984,59.788,0.433,-6.439,-0.032,0.092,-0.054}*(0.36*(B13-52.1551744))^{1,0,2,1,3,0,2,1,0,1}*(0.36*(C13-5.38720621))^{0,2,0,2,0,1,2,1,4,4})","v":-5693465.1738227727}]
[11,null,null,null,{"$f":"155000+SUM({190094.945,-11832.228,-144.221,-32.391,-0.705,-2.34,-0.608,-0.008,0.148}*(0.36*(B14-52.1551744))^{0,1,2,0,1,3,1,0,2}*(0.36*(C14-5.38720621))^{1,1,1,3,0,1,3,2,3})","v":-576174.57035138155},{"$f":"463000+SUM({309056.544,3638.893,73.077,-157.984,59.788,0.433,-6.439,-0.032,0.092,-0.054}*(0.36*(B14-52.1551744))^{1,0,2,1,3,0,2,1,0,1}*(0.36*(C14-5.38720621))^{0,2,0,2,0,1,2,1,4,4})","v":-5693465.1738227727}]
[12,null,null,null,{"$f":"155000+SUM({190094.945,-11832.228,-144.221,-32.391,-0.705,-2.34,-0.608,-0.008,0.148}*(0.36*(B15-52.1551744))^{0,1,2,0,1,3,1,0,2}*(0.36*(C15-5.38720621))^{1,1,1,3,0,1,3,2,3})","v":-576174.57035138155},{"$f":"463000+SUM({309056.544,3638.893,73.077,-157.984,59.788,0.433,-6.439,-0.032,0.092,-0.054}*(0.36*(B15-52.1551744))^{1,0,2,1,3,0,2,1,0,1}*(0.36*(C15-5.38720621))^{0,2,0,2,0,1,2,1,4,4})","v":-5693465.1738227727}]
[13,null,null,null,{"$f":"155000+SUM({190094.945,-11832.228,-144.221,-32.391,-0.705,-2.34,-0.608,-0.008,0.148}*(0.36*(B16-52.1551744))^{0,1,2,0,1,3,1,0,2}*(0.36*(C16-5.38720621))^{1,1,1,3,0,1,3,2,3})","v":-576174.57035138155},{"$f":"463000+SUM({309056.544,3638.893,73.077,-157.984,59.788,0.433,-6.439,-0.032,0.092,-0.054}*(0.36*(B16-52.1551744))^{1,0,2,1,3,0,2,1,0,1}*(0.36*(C16-5.38720621))^{0,2,0,2,0,1,2,1,4,4})","v":-5693465.1738227727}]
[14,null,null,null,{"$f":"155000+SUM({190094.945,-11832.228,-144.221,-32.391,-0.705,-2.34,-0.608,-0.008,0.148}*(0.36*(B17-52.1551744))^{0,1,2,0,1,3,1,0,2}*(0.36*(C17-5.38720621))^{1,1,1,3,0,1,3,2,3})","v":-576174.57035138155},{"$f":"463000+SUM({309056.544,3638.893,73.077,-157.984,59.788,0.433,-6.439,-0.032,0.092,-0.054}*(0.36*(B17-52.1551744))^{1,0,2,1,3,0,2,1,0,1}*(0.36*(C17-5.38720621))^{0,2,0,2,0,1,2,1,4,4})","v":-5693465.1738227727}]
[15,null,null,null,{"$f":"155000+SUM({190094.945,-11832.228,-144.221,-32.391,-0.705,-2.34,-0.608,-0.008,0.148}*(0.36*(B18-52.1551744))^{0,1,2,0,1,3,1,0,2}*(0.36*(C18-5.38720621))^{1,1,1,3,0,1,3,2,3})","v":-576174.57035138155},{"$f":"463000+SUM({309056.544,3638.893,73.077,-157.984,59.788,0.433,-6.439,-0.032,0.092,-0.054}*(0.36*(B18-52.1551744))^{1,0,2,1,3,0,2,1,0,1}*(0.36*(C18-5.38720621))^{0,2,0,2,0,1,2,1,4,4})","v":-5693465.1738227727}]
[16,null,null,null,{"$f":"155000+SUM({190094.945,-11832.228,-144.221,-32.391,-0.705,-2.34,-0.608,-0.008,0.148}*(0.36*(B19-52.1551744))^{0,1,2,0,1,3,1,0,2}*(0.36*(C19-5.38720621))^{1,1,1,3,0,1,3,2,3})","v":-576174.57035138155},{"$f":"463000+SUM({309056.544,3638.893,73.077,-157.984,59.788,0.433,-6.439,-0.032,0.092,-0.054}*(0.36*(B19-52.1551744))^{1,0,2,1,3,0,2,1,0,1}*(0.36*(C19-5.38720621))^{0,2,0,2,0,1,2,1,4,4})","v":-5693465.1738227727}]
[17,null,null,null,{"$f":"155000+SUM({190094.945,-11832.228,-144.221,-32.391,-0.705,-2.34,-0.608,-0.008,0.148}*(0.36*(B20-52.1551744))^{0,1,2,0,1,3,1,0,2}*(0.36*(C20-5.38720621))^{1,1,1,3,0,1,3,2,3})","v":-576174.57035138155},{"$f":"463000+SUM({309056.544,3638.893,73.077,-157.984,59.788,0.433,-6.439,-0.032,0.092,-0.054}*(0.36*(B20-52.1551744))^{1,0,2,1,3,0,2,1,0,1}*(0.36*(C20-5.38720621))^{0,2,0,2,0,1,2,1,4,4})","v":-5693465.1738227727}]
[18,null,null,null,{"$f":"155000+SUM({190094.945,-11832.228,-144.221,-32.391,-0.705,-2.34,-0.608,-0.008,0.148}*(0.36*(B21-52.1551744))^{0,1,2,0,1,3,1,0,2}*(0.36*(C21-5.38720621))^{1,1,1,3,0,1,3,2,3})","v":-576174.57035138155},{"$f":"463000+SUM({309056.544,3638.893,73.077,-157.984,59.788,0.433,-6.439,-0.032,0.092,-0.054}*(0.36*(B21-52.1551744))^{1,0,2,1,3,0,2,1,0,1}*(0.36*(C21-5.38720621))^{0,2,0,2,0,1,2,1,4,4})","v":-5693465.1738227727}]
[19,null,null,null,{"$f":"155000+SUM({190094.945,-11832.228,-144.221,-32.391,-0.705,-2.34,-0.608,-0.008,0.148}*(0.36*(B22-52.1551744))^{0,1,2,0,1,3,1,0,2}*(0.36*(C22-5.38720621))^{1,1,1,3,0,1,3,2,3})","v":-576174.57035138155},{"$f":"463000+SUM({309056.544,3638.893,73.077,-157.984,59.788,0.433,-6.439,-0.032,0.092,-0.054}*(0.36*(B22-52.1551744))^{1,0,2,1,3,0,2,1,0,1}*(0.36*(C22-5.38720621))^{0,2,0,2,0,1,2,1,4,4})","v":-5693465.1738227727}]
[20,null,null,null,{"$f":"155000+SUM({190094.945,-11832.228,-144.221,-32.391,-0.705,-2.34,-0.608,-0.008,0.148}*(0.36*(B23-52.1551744))^{0,1,2,0,1,3,1,0,2}*(0.36*(C23-5.38720621))^{1,1,1,3,0,1,3,2,3})","v":-576174.57035138155},{"$f":"463000+SUM({309056.544,3638.893,73.077,-157.984,59.788,0.433,-6.439,-0.032,0.092,-0.054}*(0.36*(B23-52.1551744))^{1,0,2,1,3,0,2,1,0,1}*(0.36*(C23-5.38720621))^{0,2,0,2,0,1,2,1,4,4})","v":-5693465.1738227727}]
[21,null,null,null,{"$f":"155000+SUM({190094.945,-11832.228,-144.221,-32.391,-0.705,-2.34,-0.608,-0.008,0.148}*(0.36*(B24-52.1551744))^{0,1,2,0,1,3,1,0,2}*(0.36*(C24-5.38720621))^{1,1,1,3,0,1,3,2,3})","v":-576174.57035138155},{"$f":"463000+SUM({309056.544,3638.893,73.077,-157.984,59.788,0.433,-6.439,-0.032,0.092,-0.054}*(0.36*(B24-52.1551744))^{1,0,2,1,3,0,2,1,0,1}*(0.36*(C24-5.38720621))^{0,2,0,2,0,1,2,1,4,4})","v":-5693465.1738227727}]
[22,null,null,null,{"$f":"155000+SUM({190094.945,-11832.228,-144.221,-32.391,-0.705,-2.34,-0.608,-0.008,0.148}*(0.36*(B25-52.1551744))^{0,1,2,0,1,3,1,0,2}*(0.36*(C25-5.38720621))^{1,1,1,3,0,1,3,2,3})","v":-576174.57035138155},{"$f":"463000+SUM({309056.544,3638.893,73.077,-157.984,59.788,0.433,-6.439,-0.032,0.092,-0.054}*(0.36*(B25-52.1551744))^{1,0,2,1,3,0,2,1,0,1}*(0.36*(C25-5.38720621))^{0,2,0,2,0,1,2,1,4,4})","v":-5693465.1738227727}]
[23,null,null,null,{"$f":"155000+SUM({190094.945,-11832.228,-144.221,-32.391,-0.705,-2.34,-0.608,-0.008,0.148}*(0.36*(B26-52.1551744))^{0,1,2,0,1,3,1,0,2}*(0.36*(C26-5.38720621))^{1,1,1,3,0,1,3,2,3})","v":-576174.57035138155},{"$f":"463000+SUM({309056.544,3638.893,73.077,-157.984,59.788,0.433,-6.439,-0.032,0.092,-0.054}*(0.36*(B26-52.1551744))^{1,0,2,1,3,0,2,1,0,1}*(0.36*(C26-5.38720621))^{0,2,0,2,0,1,2,1,4,4})","v":-5693465.1738227727}]
[24,null,null,null,{"$f":"155000+SUM({190094.945,-11832.228,-144.221,-32.391,-0.705,-2.34,-0.608,-0.008,0.148}*(0.36*(B27-52.1551744))^{0,1,2,0,1,3,1,0,2}*(0.36*(C27-5.38720621))^{1,1,1,3,0,1,3,2,3})","v":-576174.57035138155},{"$f":"463000+SUM({309056.544,3638.893,73.077,-157.984,59.788,0.433,-6.439,-0.032,0.092,-0.054}*(0.36*(B27-52.1551744))^{1,0,2,1,3,0,2,1,0,1}*(0.36*(C27-5.38720621))^{0,2,0,2,0,1,2,1,4,4})","v":-5693465.1738227727}]
[25,null,null,null,{"$f":"155000+SUM({190094.945,-11832.228,-144.221,-32.391,-0.705,-2.34,-0.608,-0.008,0.148}*(0.36*(B28-52.1551744))^{0,1,2,0,1,3,1,0,2}*(0.36*(C28-5.38720621))^{1,1,1,3,0,1,3,2,3})","v":-576174.57035138155},{"$f":"463000+SUM({309056.544,3638.893,73.077,-157.984,59.788,0.433,-6.439,-0.032,0.092,-0.054}*(0.36*(B28-52.1551744))^{1,0,2,1,3,0,2,1,0,1}*(0.36*(C28-5.38720621))^{0,2,0,2,0,1,2,1,4,4})","v":-5693465.1738227727}]
[26,null,null,null,{"$f":"155000+SUM({190094.945,-11832.228,-144.221,-32.391,-0.705,-2.34,-0.608,-0.008,0.148}*(0.36*(B29-52.1551744))^{0,1,2,0,1,3,1,0,2}*(0.36*(C29-5.38720621))^{1,1,1,3,0,1,3,2,3})","v":-576174.57035138155},{"$f":"463000+SUM({309056.544,3638.893,73.077,-157.984,59.788,0.433,-6.439,-0.032,0.092,-0.054}*(0.36*(B29-52.1551744))^{1,0,2,1,3,0,2,1,0,1}*(0.36*(C29-5.38720621))^{0,2,0,2,0,1,2,1,4,4})","v":-5693465.1738227727}]
[27,null,null,null,{"$f":"155000+SUM({190094.945,-11832.228,-144.221,-32.391,-0.705,-2.34,-0.608,-0.008,0.148}*(0.36*(B30-52.1551744))^{0,1,2,0,1,3,1,0,2}*(0.36*(C30-5.38720621))^{1,1,1,3,0,1,3,2,3})","v":-576174.57035138155},{"$f":"463000+SUM({309056.544,3638.893,73.077,-157.984,59.788,0.433,-6.439,-0.032,0.092,-0.054}*(0.36*(B30-52.1551744))^{1,0,2,1,3,0,2,1,0,1}*(0.36*(C30-5.38720621))^{0,2,0,2,0,1,2,1,4,4})","v":-5693465.1738227727}]
[28,null,null,null,{"$f":"155000+SUM({190094.945,-11832.228,-144.221,-32.391,-0.705,-2.34,-0.608,-0.008,0.148}*(0.36*(B31-52.1551744))^{0,1,2,0,1,3,1,0,2}*(0.36*(C31-5.38720621))^{1,1,1,3,0,1,3,2,3})","v":-576174.57035138155},{"$f":"463000+SUM({309056.544,3638.893,73.077,-157.984,59.788,0.433,-6.439,-0.032,0.092,-0.054}*(0.36*(B31-52.1551744))^{1,0,2,1,3,0,2,1,0,1}*(0.36*(C31-5.38720621))^{0,2,0,2,0,1,2,1,4,4})","v":-5693465.1738227727}]
[29,null,null,null,{"$f":"155000+SUM({190094.945,-11832.228,-144.221,-32.391,-0.705,-2.34,-0.608,-0.008,0.148}*(0.36*(B32-52.1551744))^{0,1,2,0,1,3,1,0,2}*(0.36*(C32-5.38720621))^{1,1,1,3,0,1,3,2,3})","v":-576174.57035138155},{"$f":"463000+SUM({309056.544,3638.893,73.077,-157.984,59.788,0.433,-6.439,-0.032,0.092,-0.054}*(0.36*(B32-52.1551744))^{1,0,2,1,3,0,2,1,0,1}*(0.36*(C32-5.38720621))^{0,2,0,2,0,1,2,1,4,4})","v":-5693465.1738227727}]
[30,null,null,null,{"$f":"155000+SUM({190094.945,-11832.228,-144.221,-32.391,-0.705,-2.34,-0.608,-0.008,0.148}*(0.36*(B33-52.1551744))^{0,1,2,0,1,3,1,0,2}*(0.36*(C33-5.38720621))^{1,1,1,3,0,1,3,2,3})","v":-576174.57035138155},{"$f":"463000+SUM({309056.544,3638.893,73.077,-157.984,59.788,0.433,-6.439,-0.032,0.092,-0.054}*(0.36*(B33-52.1551744))^{1,0,2,1,3,0,2,1,0,1}*(0.36*(C33-5.38720621))^{0,2,0,2,0,1,2,1,4,4})","v":-5693465.1738227727}]
[31,null,null,null,{"$f":"155000+SUM({190094.945,-11832.228,-144.221,-32.391,-0.705,-2.34,-0.608,-0.008,0.148}*(0.36*(B34-52.1551744))^{0,1,2,0,1,3,1,0,2}*(0.36*(C34-5.38720621))^{1,1,1,3,0,1,3,2,3})","v":-576174.57035138155},{"$f":"463000+SUM({309056.544,3638.893,73.077,-157.984,59.788,0.433,-6.439,-0.032,0.092,-0.054}*(0.36*(B34-52.1551744))^{1,0,2,1,3,0,2,1,0,1}*(0.36*(C34-5.38720621))^{0,2,0,2,0,1,2,1,4,4})","v":-5693465.1738227727}]
[32,null,null,null,{"$f":"155000+SUM({190094.945,-11832.228,-144.221,-32.391,-0.705,-2.34,-0.608,-0.008,0.148}*(0.36*(B35-52.1551744))^{0,1,2,0,1,3,1,0,2}*(0.36*(C35-5.38720621))^{1,1,1,3,0,1,3,2,3})","v":-576174.57035138155},{"$f":"463000+SUM({309056.544,3638.893,73.077,-157.984,59.788,0.433,-6.439,-0.032,0.092,-0.054}*(0.36*(B35-52.1551744))^{1,0,2,1,3,0,2,1,0,1}*(0.36*(C35-5.38720621))^{0,2,0,2,0,1,2,1,4,4})","v":-5693465.1738227727}]
[33,null,null,null,{"$f":"155000+SUM({190094.945,-11832.228,-144.221,-32.391,-0.705,-2.34,-0.608,-0.008,0.148}*(0.36*(B36-52.1551744))^{0,1,2,0,1,3,1,0,2}*(0.36*(C36-5.38720621))^{1,1,1,3,0,1,3,2,3})","v":-576174.57035138155},{"$f":"463000+SUM({309056.544,3638.893,73.077,-157.984,59.788,0.433,-6.439,-0.032,0.092,-0.054}*(0.36*(B36-52.1551744))^{1,0,2,1,3,0,2,1,0,1}*(0.36*(C36-5.38720621))^{0,2,0,2,0,1,2,1,4,4})","v":-5693465.1738227727}]
[34,null,null,null,{"$f":"155000+SUM({190094.945,-11832.228,-144.221,-32.391,-0.705,-2.34,-0.608,-0.008,0.148}*(0.36*(B37-52.1551744))^{0,1,2,0,1,3,1,0,2}*(0.36*(C37-5.38720621))^{1,1,1,3,0,1,3,2,3})","v":-576174.57035138155},{"$f":"463000+SUM({309056.544,3638.893,73.077,-157.984,59.788,0.433,-6.439,-0.032,0.092,-0.054}*(0.36*(B37-52.1551744))^{1,0,2,1,3,0,2,1,0,1}*(0.36*(C37-5.38720621))^{0,2,0,2,0,1,2,1,4,4})","v":-5693465.1738227727}]
[35,null,null,null,{"$f":"155000+SUM({190094.945,-11832.228,-144.221,-32.391,-0.705,-2.34,-0.608,-0.008,0.148}*(0.36*(B38-52.1551744))^{0,1,2,0,1,3,1,0,2}*(0.36*(C38-5.38720621))^{1,1,1,3,0,1,3,2,3})","v":-576174.57035138155},{"$f":"463000+SUM({309056.544,3638.893,73.077,-157.984,59.788,0.433,-6.439,-0.032,0.092,-0.054}*(0.36*(B38-52.1551744))^{1,0,2,1,3,0,2,1,0,1}*(0.36*(C38-5.38720621))^{0,2,0,2,0,1,2,1,4,4})","v":-5693465.1738227727}]
[36,null,null,null,{"$f":"155000+SUM({190094.945,-11832.228,-144.221,-32.391,-0.705,-2.34,-0.608,-0.008,0.148}*(0.36*(B39-52.1551744))^{0,1,2,0,1,3,1,0,2}*(0.36*(C39-5.38720621))^{1,1,1,3,0,1,3,2,3})","v":-576174.57035138155},{"$f":"463000+SUM({309056.544,3638.893,73.077,-157.984,59.788,0.433,-6.439,-0.032,0.092,-0.054}*(0.36*(B39-52.1551744))^{1,0,2,1,3,0,2,1,0,1}*(0.36*(C39-5.38720621))^{0,2,0,2,0,1,2,1,4,4})","v":-5693465.1738227727}]
[37,null,null,null,{"$f":"155000+SUM({190094.945,-11832.228,-144.221,-32.391,-0.705,-2.34,-0.608,-0.008,0.148}*(0.36*(B40-52.1551744))^{0,1,2,0,1,3,1,0,2}*(0.36*(C40-5.38720621))^{1,1,1,3,0,1,3,2,3})","v":-576174.57035138155},{"$f":"463000+SUM({309056.544,3638.893,73.077,-157.984,59.788,0.433,-6.439,-0.032,0.092,-0.054}*(0.36*(B40-52.1551744))^{1,0,2,1,3,0,2,1,0,1}*(0.36*(C40-5.38720621))^{0,2,0,2,0,1,2,1,4,4})","v":-5693465.1738227727}]
[38,null,null,null,{"$f":"155000+SUM({190094.945,-11832.228,-144.221,-32.391,-0.705,-2.34,-0.608,-0.008,0.148}*(0.36*(B41-52.1551744))^{0,1,2,0,1,3,1,0,2}*(0.36*(C41-5.38720621))^{1,1,1,3,0,1,3,2,3})","v":-576174.57035138155},{"$f":"463000+SUM({309056.544,3638.893,73.077,-157.984,59.788,0.433,-6.439,-0.032,0.092,-0.054}*(0.36*(B41-52.1551744))^{1,0,2,1,3,0,2,1,0,1}*(0.36*(C41-5.38720621))^{0,2,0,2,0,1,2,1,4,4})","v":-5693465.1738227727}]
[39,null,null,null,{"$f":"155000+SUM({190094.945,-11832.228,-144.221,-32.391,-0.705,-2.34,-0.608,-0.008,0.148}*(0.36*(B42-52.1551744))^{0,1,2,0,1,3,1,0,2}*(0.36*(C42-5.38720621))^{1,1,1,3,0,1,3,2,3})","v":-576174.57035138155},{"$f":"463000+SUM({309056.544,3638.893,73.077,-157.984,59.788,0.433,-6.439,-0.032,0.092,-0.054}*(0.36*(B42-52.1551744))^{1,0,2,1,3,0,2,1,0,1}*(0.36*(C42-5.38720621))^{0,2,0,2,0,1,2,1,4,4})","v":-5693465.1738227727}]
[40,null,null,null,{"$f":"155000+SUM({190094.945,-11832.228,-144.221,-32.391,-0.705,-2.34,-0.608,-0.008,0.148}*(0.36*(B43-52.1551744))^{0,1,2,0,1,3,1,0,2}*(0.36*(C43-5.38720621))^{1,1,1,3,0,1,3,2,3})","v":-576174.57035138155},{"$f":"463000+SUM({309056.544,3638.893,73.077,-157.984,59.788,0.433,-6.439,-0.032,0.092,-0.054}*(0.36*(B43-52.1551744))^{1,0,2,1,3,0,2,1,0,1}*(0.36*(C43-5.38720621))^{0,2,0,2,0,1,2,1,4,4})","v":-5693465.1738227727}]
[41,null,null,null,{"$f":"155000+SUM({190094.945,-11832.228,-144.221,-32.391,-0.705,-2.34,-0.608,-0.008,0.148}*(0.36*(B44-52.1551744))^{0,1,2,0,1,3,1,0,2}*(0.36*(C44-5.38720621))^{1,1,1,3,0,1,3,2,3})","v":-576174.57035138155},{"$f":"463000+SUM({309056.544,3638.893,73.077,-157.984,59.788,0.433,-6.439,-0.032,0.092,-0.054}*(0.36*(B44-52.1551744))^{1,0,2,1,3,0,2,1,0,1}*(0.36*(C44-5.38720621))^{0,2,0,2,0,1,2,1,4,4})","v":-5693465.1738227727}]
[42,null,null,null,{"$f":"155000+SUM({190094.945,-11832.228,-144.221,-32.391,-0.705,-2.34,-0.608,-0.008,0.148}*(0.36*(B45-52.1551744))^{0,1,2,0,1,3,1,0,2}*(0.36*(C45-5.38720621))^{1,1,1,3,0,1,3,2,3})","v":-576174.57035138155},{"$f":"463000+SUM({309056.544,3638.893,73.077,-157.984,59.788,0.433,-6.439,-0.032,0.092,-0.054}*(0.36*(B45-52.1551744))^{1,0,2,1,3,0,2,1,0,1}*(0.36*(C45-5.38720621))^{0,2,0,2,0,1,2,1,4,4})","v":-5693465.1738227727}]
[43,null,null,null,{"$f":"155000+SUM({190094.945,-11832.228,-144.221,-32.391,-0.705,-2.34,-0.608,-0.008,0.148}*(0.36*(B46-52.1551744))^{0,1,2,0,1,3,1,0,2}*(0.36*(C46-5.38720621))^{1,1,1,3,0,1,3,2,3})","v":-576174.57035138155},{"$f":"463000+SUM({309056.544,3638.893,73.077,-157.984,59.788,0.433,-6.439,-0.032,0.092,-0.054}*(0.36*(B46-52.1551744))^{1,0,2,1,3,0,2,1,0,1}*(0.36*(C46-5.38720621))^{0,2,0,2,0,1,2,1,4,4})","v":-5693465.1738227727}]
[44,null,null,null,{"$f":"155000+SUM({190094.945,-11832.228,-144.221,-32.391,-0.705,-2.34,-0.608,-0.008,0.148}*(0.36*(B47-52.1551744))^{0,1,2,0,1,3,1,0,2}*(0.36*(C47-5.38720621))^{1,1,1,3,0,1,3,2,3})","v":-576174.57035138155},{"$f":"463000+SUM({309056.544,3638.893,73.077,-157.984,59.788,0.433,-6.439,-0.032,0.092,-0.054}*(0.36*(B47-52.1551744))^{1,0,2,1,3,0,2,1,0,1}*(0.36*(C47-5.38720621))^{0,2,0,2,0,1,2,1,4,4})","v":-5693465.1738227727}]
[45,null,null,null,{"$f":"155000+SUM({190094.945,-11832.228,-144.221,-32.391,-0.705,-2.34,-0.608,-0.008,0.148}*(0.36*(B48-52.1551744))^{0,1,2,0,1,3,1,0,2}*(0.36*(C48-5.38720621))^{1,1,1,3,0,1,3,2,3})","v":-576174.57035138155},{"$f":"463000+SUM({309056.544,3638.893,73.077,-157.984,59.788,0.433,-6.439,-0.032,0.092,-0.054}*(0.36*(B48-52.1551744))^{1,0,2,1,3,0,2,1,0,1}*(0.36*(C48-5.38720621))^{0,2,0,2,0,1,2,1,4,4})","v":-5693465.1738227727}]
[46,null,null,null,{"$f":"155000+SUM({190094.945,-11832.228,-144.221,-32.391,-0.705,-2.34,-0.608,-0.008,0.148}*(0.36*(B49-52.1551744))^{0,1,2,0,1,3,1,0,2}*(0.36*(C49-5.38720621))^{1,1,1,3,0,1,3,2,3})","v":-576174.57035138155},{"$f":"463000+SUM({309056.544,3638.893,73.077,-157.984,59.788,0.433,-6.439,-0.032,0.092,-0.054}*(0.36*(B49-52.1551744))^{1,0,2,1,3,0,2,1,0,1}*(0.36*(C49-5.38720621))^{0,2,0,2,0,1,2,1,4,4})","v":-5693465.1738227727}]
[47,null,null,null,{"$f":"155000+SUM({190094.945,-11832.228,-144.221,-32.391,-0.705,-2.34,-0.608,-0.008,0.148}*(0.36*(B50-52.1551744))^{0,1,2,0,1,3,1,0,2}*(0.36*(C50-5.38720621))^{1,1,1,3,0,1,3,2,3})","v":-576174.57035138155},{"$f":"463000+SUM({309056.544,3638.893,73.077,-157.984,59.788,0.433,-6.439,-0.032,0.092,-0.054}*(0.36*(B50-52.1551744))^{1,0,2,1,3,0,2,1,0,1}*(0.36*(C50-5.38720621))^{0,2,0,2,0,1,2,1,4,4})","v":-5693465.1738227727}]
[48,null,null,null,{"$f":"155000+SUM({190094.945,-11832.228,-144.221,-32.391,-0.705,-2.34,-0.608,-0.008,0.148}*(0.36*(B51-52.1551744))^{0,1,2,0,1,3,1,0,2}*(0.36*(C51-5.38720621))^{1,1,1,3,0,1,3,2,3})","v":-576174.57035138155},{"$f":"463000+SUM({309056.544,3638.893,73.077,-157.984,59.788,0.433,-6.439,-0.032,0.092,-0.054}*(0.36*(B51-52.1551744))^{1,0,2,1,3,0,2,1,0,1}*(0.36*(C51-5.38720621))^{0,2,0,2,0,1,2,1,4,4})","v":-5693465.1738227727}]
[49,null,null,null,{"$f":"155000+SUM({190094.945,-11832.228,-144.221,-32.391,-0.705,-2.34,-0.608,-0.008,0.148}*(0.36*(B52-52.1551744))^{0,1,2,0,1,3,1,0,2}*(0.36*(C52-5.38720621))^{1,1,1,3,0,1,3,2,3})","v":-576174.57035138155},{"$f":"463000+SUM({309056.544,3638.893,73.077,-157.984,59.788,0.433,-6.439,-0.032,0.092,-0.054}*(0.36*(B52-52.1551744))^{1,0,2,1,3,0,2,1,0,1}*(0.36*(C52-5.38720621))^{0,2,0,2,0,1,2,1,4,4})","v":-5693465.1738227727}]
[50,null,null,null,{"$f":"155000+SUM({190094.945,-11832.228,-144.221,-32.391,-0.705,-2.34,-0.608,-0.008,0.148}*(0.36*(B53-52.1551744))^{0,1,2,0,1,3,1,0,2}*(0.36*(C53-5.38720621))^{1,1,1,3,0,1,3,2,3})","v":-576174.57035138155},{"$f":"463000+SUM({309056.544,3638.893,73.077,-157.984,59.788,0.433,-6.439,-0.032,0.092,-0.054}*(0.36*(B53-52.1551744))^{1,0,2,1,3,0,2,1,0,1}*(0.36*(C53-5.38720621))^{0,2,0,2,0,1,2,1,4,4})","v":-5693465.1738227727}]
[51,null,null,null,{"$f":"155000+SUM({190094.945,-11832.228,-144.221,-32.391,-0.705,-2.34,-0.608,-0.008,0.148}*(0.36*(B54-52.1551744))^{0,1,2,0,1,3,1,0,2}*(0.36*(C54-5.38720621))^{1,1,1,3,0,1,3,2,3})","v":-576174.57035138155},{"$f":"463000+SUM({309056.544,3638.893,73.077,-157.984,59.788,0.433,-6.439,-0.032,0.092,-0.054}*(0.36*(B54-52.1551744))^{1,0,2,1,3,0,2,1,0,1}*(0.36*(C54-5.38720621))^{0,2,0,2,0,1,2,1,4,4})","v":-5693465.1738227727}]
[52,null,null,null,{"$f":"155000+SUM({190094.945,-11832.228,-144.221,-32.391,-0.705,-2.34,-0.608,-0.008,0.148}*(0.36*(B55-52.1551744))^{0,1,2,0,1,3,1,0,2}*(0.36*(C55-5.38720621))^{1,1,1,3,0,1,3,2,3})","v":-576174.57035138155},{"$f":"463000+SUM({309056.544,3638.893,73.077,-157.984,59.788,0.433,-6.439,-0.032,0.092,-0.054}*(0.36*(B55-52.1551744))^{1,0,2,1,3,0,2,1,0,1}*(0.36*(C55-5.38720621))^{0,2,0,2,0,1,2,1,4,4})","v":-5693465.1738227727}]
[53,null,null,null,{"$f":"155000+SUM({190094.945,-11832.228,-144.221,-32.391,-0.705,-2.34,-0.608,-0.008,0.148}*(0.36*(B56-52.1551744))^{0,1,2,0,1,3,1,0,2}*(0.36*(C56-5.38720621))^{1,1,1,3,0,1,3,2,3})","v":-576174.57035138155},{"$f":"463000+SUM({309056.544,3638.893,73.077,-157.984,59.788,0.433,-6.439,-0.032,0.092,-0.054}*(0.36*(B56-52.1551744))^{1,0,2,1,3,0,2,1,0,1}*(0.36*(C56-5.38720621))^{0,2,0,2,0,1,2,1,4,4})","v":-5693465.1738227727}]
[54,null,null,null,{"$f":"155000+SUM({190094.945,-11832.228,-144.221,-32.391,-0.705,-2.34,-0.608,-0.008,0.148}*(0.36*(B57-52.1551744))^{0,1,2,0,1,3,1,0,2}*(0.36*(C57-5.38720621))^{1,1,1,3,0,1,3,2,3})","v":-576174.57035138155},{"$f":"463000+SUM({309056.544,3638.893,73.077,-157.984,59.788,0.433,-6.439,-0.032,0.092,-0.054}*(0.36*(B57-52.1551744))^{1,0,2,1,3,0,2,1,0,1}*(0.36*(C57-5.38720621))^{0,2,0,2,0,1,2,1,4,4})","v":-5693465.1738227727}]
[55,null,null,null,{"$f":"155000+SUM({190094.945,-11832.228,-144.221,-32.391,-0.705,-2.34,-0.608,-0.008,0.148}*(0.36*(B58-52.1551744))^{0,1,2,0,1,3,1,0,2}*(0.36*(C58-5.38720621))^{1,1,1,3,0,1,3,2,3})","v":-576174.57035138155},{"$f":"463000+SUM({309056.544,3638.893,73.077,-157.984,59.788,0.433,-6.439,-0.032,0.092,-0.054}*(0.36*(B58-52.1551744))^{1,0,2,1,3,0,2,1,0,1}*(0.36*(C58-5.38720621))^{0,2,0,2,0,1,2,1,4,4})","v":-5693465.1738227727}]
[56,null,null,null,{"$f":"155000+SUM({190094.945,-11832.228,-144.221,-32.391,-0.705,-2.34,-0.608,-0.008,0.148}*(0.36*(B59-52.1551744))^{0,1,2,0,1,3,1,0,2}*(0.36*(C59-5.38720621))^{1,1,1,3,0,1,3,2,3})","v":-576174.57035138155},{"$f":"463000+SUM({309056.544,3638.893,73.077,-157.984,59.788,0.433,-6.439,-0.032,0.092,-0.054}*(0.36*(B59-52.1551744))^{1,0,2,1,3,0,2,1,0,1}*(0.36*(C59-5.38720621))^{0,2,0,2,0,1,2,1,4,4})","v":-5693465.1738227727}]
[57,null,null,null,{"$f":"155000+SUM({190094.945,-11832.228,-144.221,-32.391,-0.705,-2.34,-0.608,-0.008,0.148}*(0.36*(B60-52.1551744))^{0,1,2,0,1,3,1,0,2}*(0.36*(C60-5.38720621))^{1,1,1,3,0,1,3,2,3})","v":-576174.57035138155},{"$f":"463000+SUM({309056.544,3638.893,73.077,-157.984,59.788,0.433,-6.439,-0.032,0.092,-0.054}*(0.36*(B60-52.1551744))^{1,0,2,1,3,0,2,1,0,1}*(0.36*(C60-5.38720621))^{0,2,0,2,0,1,2,1,4,4})","v":-5693465.1738227727}]
[58,null,null,null,{"$f":"155000+SUM({190094.945,-11832.228,-144.221,-32.391,-0.705,-2.34,-0.608,-0.008,0.148}*(0.36*(B61-52.1551744))^{0,1,2,0,1,3,1,0,2}*(0.36*(C61-5.38720621))^{1,1,1,3,0,1,3,2,3})","v":-576174.57035138155},{"$f":"463000+SUM({309056.544,3638.893,73.077,-157.984,59.788,0.433,-6.439,-0.032,0.092,-0.054}*(0.36*(B61-52.1551744))^{1,0,2,1,3,0,2,1,0,1}*(0.36*(C61-5.38720621))^{0,2,0,2,0,1,2,1,4,4})","v":-5693465.1738227727}]
[59,null,null,null,{"$f":"155000+SUM({190094.945,-11832.228,-144.221,-32.391,-0.705,-2.34,-0.608,-0.008,0.148}*(0.36*(B62-52.1551744))^{0,1,2,0,1,3,1,0,2}*(0.36*(C62-5.38720621))^{1,1,1,3,0,1,3,2,3})","v":-576174.57035138155},{"$f":"463000+SUM({309056.544,3638.893,73.077,-157.984,59.788,0.433,-6.439,-0.032,0.092,-0.054}*(0.36*(B62-52.1551744))^{1,0,2,1,3,0,2,1,0,1}*(0.36*(C62-5.38720621))^{0,2,0,2,0,1,2,1,4,4})","v":-5693465.1738227727}]
[60,null,null,null,{"$f":"155000+SUM({190094.945,-11832.228,-144.221,-32.391,-0.705,-2.34,-0.608,-0.008,0.148}*(0.36*(B63-52.1551744))^{0,1,2,0,1,3,1,0,2}*(0.36*(C63-5.38720621))^{1,1,1,3,0,1,3,2,3})","v":-576174.57035138155},{"$f":"463000+SUM({309056.544,3638.893,73.077,-157.984,59.788,0.433,-6.439,-0.032,0.092,-0.054}*(0.36*(B63-52.1551744))^{1,0,2,1,3,0,2,1,0,1}*(0.36*(C63-5.38720621))^{0,2,0,2,0,1,2,1,4,4})","v":-5693465.1738227727}]
[61,null,null,null,{"$f":"155000+SUM({190094.945,-11832.228,-144.221,-32.391,-0.705,-2.34,-0.608,-0.008,0.148}*(0.36*(B64-52.1551744))^{0,1,2,0,1,3,1,0,2}*(0.36*(C64-5.38720621))^{1,1,1,3,0,1,3,2,3})","v":-576174.57035138155},{"$f":"463000+SUM({309056.544,3638.893,73.077,-157.984,59.788,0.433,-6.439,-0.032,0.092,-0.054}*(0.36*(B64-52.1551744))^{1,0,2,1,3,0,2,1,0,1}*(0.36*(C64-5.38720621))^{0,2,0,2,0,1,2,1,4,4})","v":-5693465.1738227727}]
[62,null,null,null,{"$f":"155000+SUM({190094.945,-11832.228,-144.221,-32.391,-0.705,-2.34,-0.608,-0.008,0.148}*(0.36*(B65-52.1551744))^{0,1,2,0,1,3,1,0,2}*(0.36*(C65-5.38720621))^{1,1,1,3,0,1,3,2,3})","v":-576174.57035138155},{"$f":"463000+SUM({309056.544,3638.893,73.077,-157.984,59.788,0.433,-6.439,-0.032,0.092,-0.054}*(0.36*(B65-52.1551744))^{1,0,2,1,3,0,2,1,0,1}*(0.36*(C65-5.38720621))^{0,2,0,2,0,1,2,1,4,4})","v":-5693465.1738227727}]
[63,null,null,null,{"$f":"155000+SUM({190094.945,-11832.228,-144.221,-32.391,-0.705,-2.34,-0.608,-0.008,0.148}*(0.36*(B66-52.1551744))^{0,1,2,0,1,3,1,0,2}*(0.36*(C66-5.38720621))^{1,1,1,3,0,1,3,2,3})","v":-576174.57035138155},{"$f":"463000+SUM({309056.544,3638.893,73.077,-157.984,59.788,0.433,-6.439,-0.032,0.092,-0.054}*(0.36*(B66-52.1551744))^{1,0,2,1,3,0,2,1,0,1}*(0.36*(C66-5.38720621))^{0,2,0,2,0,1,2,1,4,4})","v":-5693465.1738227727}]
[64,null,null,null,{"$f":"155000+SUM({190094.945,-11832.228,-144.221,-32.391,-0.705,-2.34,-0.608,-0.008,0.148}*(0.36*(B67-52.1551744))^{0,1,2,0,1,3,1,0,2}*(0.36*(C67-5.38720621))^{1,1,1,3,0,1,3,2,3})","v":-576174.57035138155},{"$f":"463000+SUM({309056.544,3638.893,73.077,-157.984,59.788,0.433,-6.439,-0.032,0.092,-0.054}*(0.36*(B67-52.1551744))^{1,0,2,1,3,0,2,1,0,1}*(0.36*(C67-5.38720621))^{0,2,0,2,0,1,2,1,4,4})","v":-5693465.1738227727}]
[65,null,null,null,{"$f":"155000+SUM({190094.945,-11832.228,-144.221,-32.391,-0.705,-2.34,-0.608,-0.008,0.148}*(0.36*(B68-52.1551744))^{0,1,2,0,1,3,1,0,2}*(0.36*(C68-5.38720621))^{1,1,1,3,0,1,3,2,3})","v":-576174.57035138155},{"$f":"463000+SUM({309056.544,3638.893,73.077,-157.984,59.788,0.433,-6.439,-0.032,0.092,-0.054}*(0.36*(B68-52.1551744))^{1,0,2,1,3,0,2,1,0,1}*(0.36*(C68-5.38720621))^{0,2,0,2,0,1,2,1,4,4})","v":-5693465.1738227727}]
[66,null,null,null,{"$f":"155000+SUM({190094.945,-11832.228,-144.221,-32.391,-0.705,-2.34,-0.608,-0.008,0.148}*(0.36*(B69-52.1551744))^{0,1,2,0,1,3,1,0,2}*(0.36*(C69-5.38720621))^{1,1,1,3,0,1,3,2,3})","v":-576174.57035138155},{"$f":"463000+SUM({309056.544,3638.893,73.077,-157.984,59.788,0.433,-6.439,-0.032,0.092,-0.054}*(0.36*(B69-52.1551744))^{1,0,2,1,3,0,2,1,0,1}*(0.36*(C69-5.38720621))^{0,2,0,2,0,1,2,1,4,4})","v":-5693465.1738227727}]
[67,null,null,null,{"$f":"155000+SUM({190094.945,-11832.228,-144.221,-32.391,-0.705,-2.34,-0.608,-0.008,0.148}*(0.36*(B70-52.1551744))^{0,1,2,0,1,3,1,0,2}*(0.36*(C70-5.38720621))^{1,1,1,3,0,1,3,2,3})","v":-576174.57035138155},{"$f":"463000+SUM({309056.544,3638.893,73.077,-157.984,59.788,0.433,-6.439,-0.032,0.092,-0.054}*(0.36*(B70-52.1551744))^{1,0,2,1,3,0,2,1,0,1}*(0.36*(C70-5.38720621))^{0,2,0,2,0,1,2,1,4,4})","v":-5693465.1738227727}]
[68,null,null,null,{"$f":"155000+SUM({190094.945,-11832.228,-144.221,-32.391,-0.705,-2.34,-0.608,-0.008,0.148}*(0.36*(B71-52.1551744))^{0,1,2,0,1,3,1,0,2}*(0.36*(C71-5.38720621))^{1,1,1,3,0,1,3,2,3})","v":-576174.57035138155},{"$f":"463000+SUM({309056.544,3638.893,73.077,-157.984,59.788,0.433,-6.439,-0.032,0.092,-0.054}*(0.36*(B71-52.1551744))^{1,0,2,1,3,0,2,1,0,1}*(0.36*(C71-5.38720621))^{0,2,0,2,0,1,2,1,4,4})","v":-5693465.1738227727}]
[69,null,null,null,{"$f":"155000+SUM({190094.945,-11832.228,-144.221,-32.391,-0.705,-2.34,-0.608,-0.008,0.148}*(0.36*(B72-52.1551744))^{0,1,2,0,1,3,1,0,2}*(0.36*(C72-5.38720621))^{1,1,1,3,0,1,3,2,3})","v":-576174.57035138155},{"$f":"463000+SUM({309056.544,3638.893,73.077,-157.984,59.788,0.433,-6.439,-0.032,0.092,-0.054}*(0.36*(B72-52.1551744))^{1,0,2,1,3,0,2,1,0,1}*(0.36*(C72-5.38720621))^{0,2,0,2,0,1,2,1,4,4})","v":-5693465.1738227727}]
[70,null,null,null,{"$f":"155000+SUM({190094.945,-11832.228,-144.221,-32.391,-0.705,-2.34,-0.608,-0.008,0.148}*(0.36*(B73-52.1551744))^{0,1,2,0,1,3,1,0,2}*(0.36*(C73-5.38720621))^{1,1,1,3,0,1,3,2,3})","v":-576174.57035138155},{"$f":"463000+SUM({309056.544,3638.893,73.077,-157.984,59.788,0.433,-6.439,-0.032,0.092,-0.054}*(0.36*(B73-52.1551744))^{1,0,2,1,3,0,2,1,0,1}*(0.36*(C73-5.38720621))^{0,2,0,2,0,1,2,1,4,4})","v":-5693465.1738227727}]
[71,null,null,null,{"$f":"155000+SUM({190094.945,-11832.228,-144.221,-32.391,-0.705,-2.34,-0.608,-0.008,0.148}*(0.36*(B74-52.1551744))^{0,1,2,0,1,3,1,0,2}*(0.36*(C74-5.38720621))^{1,1,1,3,0,1,3,2,3})","v":-576174.57035138155},{"$f":"463000+SUM({309056.544,3638.893,73.077,-157.984,59.788,0.433,-6.439,-0.032,0.092,-0.054}*(0.36*(B74-52.1551744))^{1,0,2,1,3,0,2,1,0,1}*(0.36*(C74-5.38720621))^{0,2,0,2,0,1,2,1,4,4})","v":-5693465.1738227727}]
[72,null,null,null,{"$f":"155000+SUM({190094.945,-11832.228,-144.221,-32.391,-0.705,-2.34,-0.608,-0.008,0.148}*(0.36*(B75-52.1551744))^{0,1,2,0,1,3,1,0,2}*(0.36*(C75-5.38720621))^{1,1,1,3,0,1,3,2,3})","v":-576174.57035138155},{"$f":"463000+SUM({309056.544,3638.893,73.077,-157.984,59.788,0.433,-6.439,-0.032,0.092,-0.054}*(0.36*(B75-52.1551744))^{1,0,2,1,3,0,2,1,0,1}*(0.36*(C75-5.38720621))^{0,2,0,2,0,1,2,1,4,4})","v":-5693465.1738227727}]
[73,null,null,null,{"$f":"155000+SUM({190094.945,-11832.228,-144.221,-32.391,-0.705,-2.34,-0.608,-0.008,0.148}*(0.36*(B76-52.1551744))^{0,1,2,0,1,3,1,0,2}*(0.36*(C76-5.38720621))^{1,1,1,3,0,1,3,2,3})","v":-576174.57035138155},{"$f":"463000+SUM({309056.544,3638.893,73.077,-157.984,59.788,0.433,-6.439,-0.032,0.092,-0.054}*(0.36*(B76-52.1551744))^{1,0,2,1,3,0,2,1,0,1}*(0.36*(C76-5.38720621))^{0,2,0,2,0,1,2,1,4,4})","v":-5693465.1738227727}]
[74,null,null,null,{"$f":"155000+SUM({190094.945,-11832.228,-144.221,-32.391,-0.705,-2.34,-0.608,-0.008,0.148}*(0.36*(B77-52.1551744))^{0,1,2,0,1,3,1,0,2}*(0.36*(C77-5.38720621))^{1,1,1,3,0,1,3,2,3})","v":-576174.57035138155},{"$f":"463000+SUM({309056.544,3638.893,73.077,-157.984,59.788,0.433,-6.439,-0.032,0.092,-0.054}*(0.36*(B77-52.1551744))^{1,0,2,1,3,0,2,1,0,1}*(0.36*(C77-5.38720621))^{0,2,0,2,0,1,2,1,4,4})","v":-5693465.1738227727}]
[75,null,null,null,{"$f":"155000+SUM({190094.945,-11832.228,-144.221,-32.391,-0.705,-2.34,-0.608,-0.008,0.148}*(0.36*(B78-52.1551744))^{0,1,2,0,1,3,1,0,2}*(0.36*(C78-5.38720621))^{1,1,1,3,0,1,3,2,3})","v":-576174.57035138155},{"$f":"463000+SUM({309056.544,3638.893,73.077,-157.984,59.788,0.433,-6.439,-0.032,0.092,-0.054}*(0.36*(B78-52.1551744))^{1,0,2,1,3,0,2,1,0,1}*(0.36*(C78-5.38720621))^{0,2,0,2,0,1,2,1,4,4})","v":-5693465.1738227727}]
[76,null,null,null,{"$f":"155000+SUM({190094.945,-11832.228,-144.221,-32.391,-0.705,-2.34,-0.608,-0.008,0.148}*(0.36*(B79-52.1551744))^{0,1,2,0,1,3,1,0,2}*(0.36*(C79-5.38720621))^{1,1,1,3,0,1,3,2,3})","v":-576174.57035138155},{"$f":"463000+SUM({309056.544,3638.893,73.077,-157.984,59.788,0.433,-6.439,-0.032,0.092,-0.054}*(0.36*(B79-52.1551744))^{1,0,2,1,3,0,2,1,0,1}*(0.36*(C79-5.38720621))^{0,2,0,2,0,1,2,1,4,4})","v":-5693465.1738227727}]
[77,null,null,null,{"$f":"155000+SUM({190094.945,-11832.228,-144.221,-32.391,-0.705,-2.34,-0.608,-0.008,0.148}*(0.36*(B80-52.1551744))^{0,1,2,0,1,3,1,0,2}*(0.36*(C80-5.38720621))^{1,1,1,3,0,1,3,2,3})","v":-576174.57035138155},{"$f":"463000+SUM({309056.544,3638.893,73.077,-157.984,59.788,0.433,-6.439,-0.032,0.092,-0.054}*(0.36*(B80-52.1551744))^{1,0,2,1,3,0,2,1,0,1}*(0.36*(C80-5.38720621))^{0,2,0,2,0,1,2,1,4,4})","v":-5693465.1738227727}]
[78,null,null,null,{"$f":"155000+SUM({190094.945,-11832.228,-144.221,-32.391,-0.705,-2.34,-0.608,-0.008,0.148}*(0.36*(B81-52.1551744))^{0,1,2,0,1,3,1,0,2}*(0.36*(C81-5.38720621))^{1,1,1,3,0,1,3,2,3})","v":-576174.57035138155},{"$f":"463000+SUM({309056.544,3638.893,73.077,-157.984,59.788,0.433,-6.439,-0.032,0.092,-0.054}*(0.36*(B81-52.1551744))^{1,0,2,1,3,0,2,1,0,1}*(0.36*(C81-5.38720621))^{0,2,0,2,0,1,2,1,4,4})","v":-5693465.1738227727}]
[79,null,null,null,{"$f":"155000+SUM({190094.945,-11832.228,-144.221,-32.391,-0.705,-2.34,-0.608,-0.008,0.148}*(0.36*(B82-52.1551744))^{0,1,2,0,1,3,1,0,2}*(0.36*(C82-5.38720621))^{1,1,1,3,0,1,3,2,3})","v":-576174.57035138155},{"$f":"463000+SUM({309056.544,3638.893,73.077,-157.984,59.788,0.433,-6.439,-0.032,0.092,-0.054}*(0.36*(B82-52.1551744))^{1,0,2,1,3,0,2,1,0,1}*(0.36*(C82-5.38720621))^{0,2,0,2,0,1,2,1,4,4})","v":-5693465.1738227727}]
[80,null,null,null,{"$f":"155000+SUM({190094.945,-11832.228,-144.221,-32.391,-0.705,-2.34,-0.608,-0.008,0.148}*(0.36*(B83-52.1551744))^{0,1,2,0,1,3,1,0,2}*(0.36*(C83-5.38720621))^{1,1,1,3,0,1,3,2,3})","v":-576174.57035138155},{"$f":"463000+SUM({309056.544,3638.893,73.077,-157.984,59.788,0.433,-6.439,-0.032,0.092,-0.054}*(0.36*(B83-52.1551744))^{1,0,2,1,3,0,2,1,0,1}*(0.36*(C83-5.38720621))^{0,2,0,2,0,1,2,1,4,4})","v":-5693465.1738227727}]
[81,null,null,null,{"$f":"155000+SUM({190094.945,-11832.228,-144.221,-32.391,-0.705,-2.34,-0.608,-0.008,0.148}*(0.36*(B84-52.1551744))^{0,1,2,0,1,3,1,0,2}*(0.36*(C84-5.38720621))^{1,1,1,3,0,1,3,2,3})","v":-576174.57035138155},{"$f":"463000+SUM({309056.544,3638.893,73.077,-157.984,59.788,0.433,-6.439,-0.032,0.092,-0.054}*(0.36*(B84-52.1551744))^{1,0,2,1,3,0,2,1,0,1}*(0.36*(C84-5.38720621))^{0,2,0,2,0,1,2,1,4,4})","v":-5693465.1738227727}]
[82,null,null,null,{"$f":"155000+SUM({190094.945,-11832.228,-144.221,-32.391,-0.705,-2.34,-0.608,-0.008,0.148}*(0.36*(B85-52.1551744))^{0,1,2,0,1,3,1,0,2}*(0.36*(C85-5.38720621))^{1,1,1,3,0,1,3,2,3})","v":-576174.57035138155},{"$f":"463000+SUM({309056.544,3638.893,73.077,-157.984,59.788,0.433,-6.439,-0.032,0.092,-0.054}*(0.36*(B85-52.1551744))^{1,0,2,1,3,0,2,1,0,1}*(0.36*(C85-5.38720621))^{0,2,0,2,0,1,2,1,4,4})","v":-5693465.1738227727}]
[83,null,null,null,{"$f":"155000+SUM({190094.945,-11832.228,-144.221,-32.391,-0.705,-2.34,-0.608,-0.008,0.148}*(0.36*(B86-52.1551744))^{0,1,2,0,1,3,1,0,2}*(0.36*(C86-5.38720621))^{1,1,1,3,0,1,3,2,3})","v":-576174.57035138155},{"$f":"463000+SUM({309056.544,3638.893,73.077,-157.984,59.788,0.433,-6.439,-0.032,0.092,-0.054}*(0.36*(B86-52.1551744))^{1,0,2,1,3,0,2,1,0,1}*(0.36*(C86-5.38720621))^{0,2,0,2,0,1,2,1,4,4})","v":-5693465.1738227727}]
[84,null,null,null,{"$f":"155000+SUM({190094.945,-11832.228,-144.221,-32.391,-0.705,-2.34,-0.608,-0.008,0.148}*(0.36*(B87-52.1551744))^{0,1,2,0,1,3,1,0,2}*(0.36*(C87-5.38720621))^{1,1,1,3,0,1,3,2,3})","v":-576174.57035138155},{"$f":"463000+SUM({309056.544,3638.893,73.077,-157.984,59.788,0.433,-6.439,-0.032,0.092,-0.054}*(0.36*(B87-52.1551744))^{1,0,2,1,3,0,2,1,0,1}*(0.36*(C87-5.38720621))^{0,2,0,2,0,1,2,1,4,4})","v":-5693465.1738227727}]
[85,null,null,null,{"$f":"155000+SUM({190094.945,-11832.228,-144.221,-32.391,-0.705,-2.34,-0.608,-0.008,0.148}*(0.36*(B88-52.1551744))^{0,1,2,0,1,3,1,0,2}*(0.36*(C88-5.38720621))^{1,1,1,3,0,1,3,2,3})","v":-576174.57035138155},{"$f":"463000+SUM({309056.544,3638.893,73.077,-157.984,59.788,0.433,-6.439,-0.032,0.092,-0.054}*(0.36*(B88-52.1551744))^{1,0,2,1,3,0,2,1,0,1}*(0.36*(C88-5.38720621))^{0,2,0,2,0,1,2,1,4,4})","v":-5693465.1738227727}]
[86,null,null,null,{"$f":"155000+SUM({190094.945,-11832.228,-144.221,-32.391,-0.705,-2.34,-0.608,-0.008,0.148}*(0.36*(B89-52.1551744))^{0,1,2,0,1,3,1,0,2}*(0.36*(C89-5.38720621))^{1,1,1,3,0,1,3,2,3})","v":-576174.57035138155},{"$f":"463000+SUM({309056.544,3638.893,73.077,-157.984,59.788,0.433,-6.439,-0.032,0.092,-0.054}*(0.36*(B89-52.1551744))^{1,0,2,1,3,0,2,1,0,1}*(0.36*(C89-5.38720621))^{0,2,0,2,0,1,2,1,4,4})","v":-5693465.1738227727}]
[87,null,null,null,{"$f":"155000+SUM({190094.945,-11832.228,-144.221,-32.391,-0.705,-2.34,-0.608,-0.008,0.148}*(0.36*(B90-52.1551744))^{0,1,2,0,1,3,1,0,2}*(0.36*(C90-5.38720621))^{1,1,1,3,0,1,3,2,3})","v":-576174.57035138155},{"$f":"463000+SUM({309056.544,3638.893,73.077,-157.984,59.788,0.433,-6.439,-0.032,0.092,-0.054}*(0.36*(B90-52.1551744))^{1,0,2,1,3,0,2,1,0,1}*(0.36*(C90-5.38720621))^{0,2,0,2,0,1,2,1,4,4})","v":-5693465.1738227727}]
[88,null,null,null,{"$f":"155000+SUM({190094.945,-11832.228,-144.221,-32.391,-0.705,-2.34,-0.608,-0.008,0.148}*(0.36*(B91-52.1551744))^{0,1,2,0,1,3,1,0,2}*(0.36*(C91-5.38720621))^{1,1,1,3,0,1,3,2,3})","v":-576174.57035138155},{"$f":"463000+SUM({309056.544,3638.893,73.077,-157.984,59.788,0.433,-6.439,-0.032,0.092,-0.054}*(0.36*(B91-52.1551744))^{1,0,2,1,3,0,2,1,0,1}*(0.36*(C91-5.38720621))^{0,2,0,2,0,1,2,1,4,4})","v":-5693465.1738227727}]
[89,null,null,null,{"$f":"155000+SUM({190094.945,-11832.228,-144.221,-32.391,-0.705,-2.34,-0.608,-0.008,0.148}*(0.36*(B92-52.1551744))^{0,1,2,0,1,3,1,0,2}*(0.36*(C92-5.38720621))^{1,1,1,3,0,1,3,2,3})","v":-576174.57035138155},{"$f":"463000+SUM({309056.544,3638.893,73.077,-157.984,59.788,0.433,-6.439,-0.032,0.092,-0.054}*(0.36*(B92-52.1551744))^{1,0,2,1,3,0,2,1,0,1}*(0.36*(C92-5.38720621))^{0,2,0,2,0,1,2,1,4,4})","v":-5693465.1738227727}]
[90,null,null,null,{"$f":"155000+SUM({190094.945,-11832.228,-144.221,-32.391,-0.705,-2.34,-0.608,-0.008,0.148}*(0.36*(B93-52.1551744))^{0,1,2,0,1,3,1,0,2}*(0.36*(C93-5.38720621))^{1,1,1,3,0,1,3,2,3})","v":-576174.57035138155},{"$f":"463000+SUM({309056.544,3638.893,73.077,-157.984,59.788,0.433,-6.439,-0.032,0.092,-0.054}*(0.36*(B93-52.1551744))^{1,0,2,1,3,0,2,1,0,1}*(0.36*(C93-5.38720621))^{0,2,0,2,0,1,2,1,4,4})","v":-5693465.1738227727}]
[91,null,null,null,{"$f":"155000+SUM({190094.945,-11832.228,-144.221,-32.391,-0.705,-2.34,-0.608,-0.008,0.148}*(0.36*(B94-52.1551744))^{0,1,2,0,1,3,1,0,2}*(0.36*(C94-5.38720621))^{1,1,1,3,0,1,3,2,3})","v":-576174.57035138155},{"$f":"463000+SUM({309056.544,3638.893,73.077,-157.984,59.788,0.433,-6.439,-0.032,0.092,-0.054}*(0.36*(B94-52.1551744))^{1,0,2,1,3,0,2,1,0,1}*(0.36*(C94-5.38720621))^{0,2,0,2,0,1,2,1,4,4})","v":-5693465.1738227727}]
[92,null,null,null,{"$f":"155000+SUM({190094.945,-11832.228,-144.221,-32.391,-0.705,-2.34,-0.608,-0.008,0.148}*(0.36*(B95-52.1551744))^{0,1,2,0,1,3,1,0,2}*(0.36*(C95-5.38720621))^{1,1,1,3,0,1,3,2,3})","v":-576174.57035138155},{"$f":"463000+SUM({309056.544,3638.893,73.077,-157.984,59.788,0.433,-6.439,-0.032,0.092,-0.054}*(0.36*(B95-52.1551744))^{1,0,2,1,3,0,2,1,0,1}*(0.36*(C95-5.38720621))^{0,2,0,2,0,1,2,1,4,4})","v":-5693465.1738227727}]
[93,null,null,null,{"$f":"155000+SUM({190094.945,-11832.228,-144.221,-32.391,-0.705,-2.34,-0.608,-0.008,0.148}*(0.36*(B96-52.1551744))^{0,1,2,0,1,3,1,0,2}*(0.36*(C96-5.38720621))^{1,1,1,3,0,1,3,2,3})","v":-576174.57035138155},{"$f":"463000+SUM({309056.544,3638.893,73.077,-157.984,59.788,0.433,-6.439,-0.032,0.092,-0.054}*(0.36*(B96-52.1551744))^{1,0,2,1,3,0,2,1,0,1}*(0.36*(C96-5.38720621))^{0,2,0,2,0,1,2,1,4,4})","v":-5693465.1738227727}]
[94,null,null,null,{"$f":"155000+SUM({190094.945,-11832.228,-144.221,-32.391,-0.705,-2.34,-0.608,-0.008,0.148}*(0.36*(B97-52.1551744))^{0,1,2,0,1,3,1,0,2}*(0.36*(C97-5.38720621))^{1,1,1,3,0,1,3,2,3})","v":-576174.57035138155},{"$f":"463000+SUM({309056.544,3638.893,73.077,-157.984,59.788,0.433,-6.439,-0.032,0.092,-0.054}*(0.36*(B97-52.1551744))^{1,0,2,1,3,0,2,1,0,1}*(0.36*(C97-5.38720621))^{0,2,0,2,0,1,2,1,4,4})","v":-5693465.1738227727}]
[95,null,null,null,{"$f":"155000+SUM({190094.945,-11832.228,-144.221,-32.391,-0.705,-2.34,-0.608,-0.008,0.148}*(0.36*(B98-52.1551744))^{0,1,2,0,1,3,1,0,2}*(0.36*(C98-5.38720621))^{1,1,1,3,0,1,3,2,3})","v":-576174.57035138155},{"$f":"463000+SUM({309056.544,3638.893,73.077,-157.984,59.788,0.433,-6.439,-0.032,0.092,-0.054}*(0.36*(B98-52.1551744))^{1,0,2,1,3,0,2,1,0,1}*(0.36*(C98-5.38720621))^{0,2,0,2,0,1,2,1,4,4})","v":-5693465.1738227727}]
[96,null,null,null,{"$f":"155000+SUM({190094.945,-11832.228,-144.221,-32.391,-0.705,-2.34,-0.608,-0.008,0.148}*(0.36*(B99-52.1551744))^{0,1,2,0,1,3,1,0,2}*(0.36*(C99-5.38720621))^{1,1,1,3,0,1,3,2,3})","v":-576174.57035138155},{"$f":"463000+SUM({309056.544,3638.893,73.077,-157.984,59.788,0.433,-6.439,-0.032,0.092,-0.054}*(0.36*(B99-52.1551744))^{1,0,2,1,3,0,2,1,0,1}*(0.36*(C99-5.38720621))^{0,2,0,2,0,1,2,1,4,4})","v":-5693465.1738227727}]
[97,null,null,null,{"$f":"155000+SUM({190094.945,-11832.228,-144.221,-32.391,-0.705,-2.34,-0.608,-0.008,0.148}*(0.36*(B100-52.1551744))^{0,1,2,0,1,3,1,0,2}*(0.36*(C100-5.38720621))^{1,1,1,3,0,1,3,2,3})","v":-576174.57035138155},{"$f":"463000+SUM({309056.544,3638.893,73.077,-157.984,59.788,0.433,-6.439,-0.032,0.092,-0.054}*(0.36*(B100-52.1551744))^{1,0,2,1,3,0,2,1,0,1}*(0.36*(C100-5.38720621))^{0,2,0,2,0,1,2,1,4,4})","v":-5693465.1738227727}]
[98,null,null,null,{"$f":"155000+SUM({190094.945,-11832.228,-144.221,-32.391,-0.705,-2.34,-0.608,-0.008,0.148}*(0.36*(B101-52.1551744))^{0,1,2,0,1,3,1,0,2}*(0.36*(C101-5.38720621))^{1,1,1,3,0,1,3,2,3})","v":-576174.57035138155},{"$f":"463000+SUM({309056.544,3638.893,73.077,-157.984,59.788,0.433,-6.439,-0.032,0.092,-0.054}*(0.36*(B101-52.1551744))^{1,0,2,1,3,0,2,1,0,1}*(0.36*(C101-5.38720621))^{0,2,0,2,0,1,2,1,4,4})","v":-5693465.1738227727}]
[99,null,null,null,{"$f":"155000+SUM({190094.945,-11832.228,-144.221,-32.391,-0.705,-2.34,-0.608,-0.008,0.148}*(0.36*(B102-52.1551744))^{0,1,2,0,1,3,1,0,2}*(0.36*(C102-5.38720621))^{1,1,1,3,0,1,3,2,3})","v":-576174.57035138155},{"$f":"463000+SUM({309056.544,3638.893,73.077,-157.984,59.788,0.433,-6.439,-0.032,0.092,-0.054}*(0.36*(B102-52.1551744))^{1,0,2,1,3,0,2,1,0,1}*(0.36*(C102-5.38720621))^{0,2,0,2,0,1,2,1,4,4})","v":-5693465.1738227727}]
[100,null,null,null,{"$f":"155000+SUM({190094.945,-11832.228,-144.221,-32.391,-0.705,-2.34,-0.608,-0.008,0.148}*(0.36*(B103-52.1551744))^{0,1,2,0,1,3,1,0,2}*(0.36*(C103-5.38720621))^{1,1,1,3,0,1,3,2,3})","v":-576174.57035138155},{"$f":"463000+SUM({309056.544,3638.893,73.077,-157.984,59.788,0.433,-6.439,-0.032,0.092,-0.054}*(0.36*(B103-52.1551744))^{1,0,2,1,3,0,2,1,0,1}*(0.36*(C103-5.38720621))^{0,2,0,2,0,1,2,1,4,4})","v":-5693465.1738227727}]
[101,null,null,null,{"$f":"155000+SUM({190094.945,-11832.228,-144.221,-32.391,-0.705,-2.34,-0.608,-0.008,0.148}*(0.36*(B104-52.1551744))^{0,1,2,0,1,3,1,0,2}*(0.36*(C104-5.38720621))^{1,1,1,3,0,1,3,2,3})","v":-576174.57035138155},{"$f":"463000+SUM({309056.544,3638.893,73.077,-157.984,59.788,0.433,-6.439,-0.032,0.092,-0.054}*(0.36*(B104-52.1551744))^{1,0,2,1,3,0,2,1,0,1}*(0.36*(C104-5.38720621))^{0,2,0,2,0,1,2,1,4,4})","v":-5693465.1738227727}]
[102,null,null,null,{"$f":"155000+SUM({190094.945,-11832.228,-144.221,-32.391,-0.705,-2.34,-0.608,-0.008,0.148}*(0.36*(B105-52.1551744))^{0,1,2,0,1,3,1,0,2}*(0.36*(C105-5.38720621))^{1,1,1,3,0,1,3,2,3})","v":-576174.57035138155},{"$f":"463000+SUM({309056.544,3638.893,73.077,-157.984,59.788,0.433,-6.439,-0.032,0.092,-0.054}*(0.36*(B105-52.1551744))^{1,0,2,1,3,0,2,1,0,1}*(0.36*(C105-5.38720621))^{0,2,0,2,0,1,2,1,4,4})","v":-5693465.1738227727}]
[103,null,null,null,{"$f":"155000+SUM({190094.945,-11832.228,-144.221,-32.391,-0.705,-2.34,-0.608,-0.008,0.148}*(0.36*(B106-52.1551744))^{0,1,2,0,1,3,1,0,2}*(0.36*(C106-5.38720621))^{1,1,1,3,0,1,3,2,3})","v":-576174.57035138155},{"$f":"463000+SUM({309056.544,3638.893,73.077,-157.984,59.788,0.433,-6.439,-0.032,0.092,-0.054}*(0.36*(B106-52.1551744))^{1,0,2,1,3,0,2,1,0,1}*(0.36*(C106-5.38720621))^{0,2,0,2,0,1,2,1,4,4})","v":-5693465.1738227727}]
[104,null,null,null,{"$f":"155000+SUM({190094.945,-11832.228,-144.221,-32.391,-0.705,-2.34,-0.608,-0.008,0.148}*(0.36*(B107-52.1551744))^{0,1,2,0,1,3,1,0,2}*(0.36*(C107-5.38720621))^{1,1,1,3,0,1,3,2,3})","v":-576174.57035138155},{"$f":"463000+SUM({309056.544,3638.893,73.077,-157.984,59.788,0.433,-6.439,-0.032,0.092,-0.054}*(0.36*(B107-52.1551744))^{1,0,2,1,3,0,2,1,0,1}*(0.36*(C107-5.38720621))^{0,2,0,2,0,1,2,1,4,4})","v":-5693465.1738227727}]
[105,null,null,null,{"$f":"155000+SUM({190094.945,-11832.228,-144.221,-32.391,-0.705,-2.34,-0.608,-0.008,0.148}*(0.36*(B108-52.1551744))^{0,1,2,0,1,3,1,0,2}*(0.36*(C108-5.38720621))^{1,1,1,3,0,1,3,2,3})","v":-576174.57035138155},{"$f":"463000+SUM({309056.544,3638.893,73.077,-157.984,59.788,0.433,-6.439,-0.032,0.092,-0.054}*(0.36*(B108-52.1551744))^{1,0,2,1,3,0,2,1,0,1}*(0.36*(C108-5.38720621))^{0,2,0,2,0,1,2,1,4,4})","v":-5693465.1738227727}]
[106,null,null,null,{"$f":"155000+SUM({190094.945,-11832.228,-144.221,-32.391,-0.705,-2.34,-0.608,-0.008,0.148}*(0.36*(B109-52.1551744))^{0,1,2,0,1,3,1,0,2}*(0.36*(C109-5.38720621))^{1,1,1,3,0,1,3,2,3})","v":-576174.57035138155},{"$f":"463000+SUM({309056.544,3638.893,73.077,-157.984,59.788,0.433,-6.439,-0.032,0.092,-0.054}*(0.36*(B109-52.1551744))^{1,0,2,1,3,0,2,1,0,1}*(0.36*(C109-5.38720621))^{0,2,0,2,0,1,2,1,4,4})","v":-5693465.1738227727}]
[107,null,null,null,{"$f":"155000+SUM({190094.945,-11832.228,-144.221,-32.391,-0.705,-2.34,-0.608,-0.008,0.148}*(0.36*(B110-52.1551744))^{0,1,2,0,1,3,1,0,2}*(0.36*(C110-5.38720621))^{1,1,1,3,0,1,3,2,3})","v":-576174.57035138155},{"$f":"463000+SUM({309056.544,3638.893,73.077,-157.984,59.788,0.433,-6.439,-0.032,0.092,-0.054}*(0.36*(B110-52.1551744))^{1,0,2,1,3,0,2,1,0,1}*(0.36*(C110-5.38720621))^{0,2,0,2,0,1,2,1,4,4})","v":-5693465.1738227727}]
[108,null,null,null,{"$f":"155000+SUM({190094.945,-11832.228,-144.221,-32.391,-0.705,-2.34,-0.608,-0.008,0.148}*(0.36*(B111-52.1551744))^{0,1,2,0,1,3,1,0,2}*(0.36*(C111-5.38720621))^{1,1,1,3,0,1,3,2,3})","v":-576174.57035138155},{"$f":"463000+SUM({309056.544,3638.893,73.077,-157.984,59.788,0.433,-6.439,-0.032,0.092,-0.054}*(0.36*(B111-52.1551744))^{1,0,2,1,3,0,2,1,0,1}*(0.36*(C111-5.38720621))^{0,2,0,2,0,1,2,1,4,4})","v":-5693465.1738227727}]
[109,null,null,null,{"$f":"155000+SUM({190094.945,-11832.228,-144.221,-32.391,-0.705,-2.34,-0.608,-0.008,0.148}*(0.36*(B112-52.1551744))^{0,1,2,0,1,3,1,0,2}*(0.36*(C112-5.38720621))^{1,1,1,3,0,1,3,2,3})","v":-576174.57035138155},{"$f":"463000+SUM({309056.544,3638.893,73.077,-157.984,59.788,0.433,-6.439,-0.032,0.092,-0.054}*(0.36*(B112-52.1551744))^{1,0,2,1,3,0,2,1,0,1}*(0.36*(C112-5.38720621))^{0,2,0,2,0,1,2,1,4,4})","v":-5693465.1738227727}]
[110,null,null,null,{"$f":"155000+SUM({190094.945,-11832.228,-144.221,-32.391,-0.705,-2.34,-0.608,-0.008,0.148}*(0.36*(B113-52.1551744))^{0,1,2,0,1,3,1,0,2}*(0.36*(C113-5.38720621))^{1,1,1,3,0,1,3,2,3})","v":-576174.57035138155},{"$f":"463000+SUM({309056.544,3638.893,73.077,-157.984,59.788,0.433,-6.439,-0.032,0.092,-0.054}*(0.36*(B113-52.1551744))^{1,0,2,1,3,0,2,1,0,1}*(0.36*(C113-5.38720621))^{0,2,0,2,0,1,2,1,4,4})","v":-5693465.1738227727}]
[111,null,null,null,{"$f":"155000+SUM({190094.945,-11832.228,-144.221,-32.391,-0.705,-2.34,-0.608,-0.008,0.148}*(0.36*(B114-52.1551744))^{0,1,2,0,1,3,1,0,2}*(0.36*(C114-5.38720621))^{1,1,1,3,0,1,3,2,3})","v":-576174.57035138155},{"$f":"463000+SUM({309056.544,3638.893,73.077,-157.984,59.788,0.433,-6.439,-0.032,0.092,-0.054}*(0.36*(B114-52.1551744))^{1,0,2,1,3,0,2,1,0,1}*(0.36*(C114-5.38720621))^{0,2,0,2,0,1,2,1,4,4})","v":-5693465.1738227727}]
[112,null,null,null,{"$f":"155000+SUM({190094.945,-11832.228,-144.221,-32.391,-0.705,-2.34,-0.608,-0.008,0.148}*(0.36*(B115-52.1551744))^{0,1,2,0,1,3,1,0,2}*(0.36*(C115-5.38720621))^{1,1,1,3,0,1,3,2,3})","v":-576174.57035138155},{"$f":"463000+SUM({309056.544,3638.893,73.077,-157.984,59.788,0.433,-6.439,-0.032,0.092,-0.054}*(0.36*(B115-52.1551744))^{1,0,2,1,3,0,2,1,0,1}*(0.36*(C115-5.38720621))^{0,2,0,2,0,1,2,1,4,4})","v":-5693465.1738227727}]
[113,null,null,null,{"$f":"155000+SUM({190094.945,-11832.228,-144.221,-32.391,-0.705,-2.34,-0.608,-0.008,0.148}*(0.36*(B116-52.1551744))^{0,1,2,0,1,3,1,0,2}*(0.36*(C116-5.38720621))^{1,1,1,3,0,1,3,2,3})","v":-576174.57035138155},{"$f":"463000+SUM({309056.544,3638.893,73.077,-157.984,59.788,0.433,-6.439,-0.032,0.092,-0.054}*(0.36*(B116-52.1551744))^{1,0,2,1,3,0,2,1,0,1}*(0.36*(C116-5.38720621))^{0,2,0,2,0,1,2,1,4,4})","v":-5693465.1738227727}]
[114,null,null,null,{"$f":"155000+SUM({190094.945,-11832.228,-144.221,-32.391,-0.705,-2.34,-0.608,-0.008,0.148}*(0.36*(B117-52.1551744))^{0,1,2,0,1,3,1,0,2}*(0.36*(C117-5.38720621))^{1,1,1,3,0,1,3,2,3})","v":-576174.57035138155},{"$f":"463000+SUM({309056.544,3638.893,73.077,-157.984,59.788,0.433,-6.439,-0.032,0.092,-0.054}*(0.36*(B117-52.1551744))^{1,0,2,1,3,0,2,1,0,1}*(0.36*(C117-5.38720621))^{0,2,0,2,0,1,2,1,4,4})","v":-5693465.1738227727}]
[115,null,null,null,{"$f":"155000+SUM({190094.945,-11832.228,-144.221,-32.391,-0.705,-2.34,-0.608,-0.008,0.148}*(0.36*(B118-52.1551744))^{0,1,2,0,1,3,1,0,2}*(0.36*(C118-5.38720621))^{1,1,1,3,0,1,3,2,3})","v":-576174.57035138155},{"$f":"463000+SUM({309056.544,3638.893,73.077,-157.984,59.788,0.433,-6.439,-0.032,0.092,-0.054}*(0.36*(B118-52.1551744))^{1,0,2,1,3,0,2,1,0,1}*(0.36*(C118-5.38720621))^{0,2,0,2,0,1,2,1,4,4})","v":-5693465.1738227727}]
[116,null,null,null,{"$f":"155000+SUM({190094.945,-11832.228,-144.221,-32.391,-0.705,-2.34,-0.608,-0.008,0.148}*(0.36*(B119-52.1551744))^{0,1,2,0,1,3,1,0,2}*(0.36*(C119-5.38720621))^{1,1,1,3,0,1,3,2,3})","v":-576174.57035138155},{"$f":"463000+SUM({309056.544,3638.893,73.077,-157.984,59.788,0.433,-6.439,-0.032,0.092,-0.054}*(0.36*(B119-52.1551744))^{1,0,2,1,3,0,2,1,0,1}*(0.36*(C119-5.38720621))^{0,2,0,2,0,1,2,1,4,4})","v":-5693465.1738227727}]
[117,null,null,null,{"$f":"155000+SUM({190094.945,-11832.228,-144.221,-32.391,-0.705,-2.34,-0.608,-0.008,0.148}*(0.36*(B120-52.1551744))^{0,1,2,0,1,3,1,0,2}*(0.36*(C120-5.38720621))^{1,1,1,3,0,1,3,2,3})","v":-576174.57035138155},{"$f":"463000+SUM({309056.544,3638.893,73.077,-157.984,59.788,0.433,-6.439,-0.032,0.092,-0.054}*(0.36*(B120-52.1551744))^{1,0,2,1,3,0,2,1,0,1}*(0.36*(C120-5.38720621))^{0,2,0,2,0,1,2,1,4,4})","v":-5693465.1738227727}]
[118,null,null,null,{"$f":"155000+SUM({190094.945,-11832.228,-144.221,-32.391,-0.705,-2.34,-0.608,-0.008,0.148}*(0.36*(B121-52.1551744))^{0,1,2,0,1,3,1,0,2}*(0.36*(C121-5.38720621))^{1,1,1,3,0,1,3,2,3})","v":-576174.57035138155},{"$f":"463000+SUM({309056.544,3638.893,73.077,-157.984,59.788,0.433,-6.439,-0.032,0.092,-0.054}*(0.36*(B121-52.1551744))^{1,0,2,1,3,0,2,1,0,1}*(0.36*(C121-5.38720621))^{0,2,0,2,0,1,2,1,4,4})","v":-5693465.1738227727}]
[119,null,null,null,{"$f":"155000+SUM({190094.945,-11832.228,-144.221,-32.391,-0.705,-2.34,-0.608,-0.008,0.148}*(0.36*(B122-52.1551744))^{0,1,2,0,1,3,1,0,2}*(0.36*(C122-5.38720621))^{1,1,1,3,0,1,3,2,3})","v":-576174.57035138155},{"$f":"463000+SUM({309056.544,3638.893,73.077,-157.984,59.788,0.433,-6.439,-0.032,0.092,-0.054}*(0.36*(B122-52.1551744))^{1,0,2,1,3,0,2,1,0,1}*(0.36*(C122-5.38720621))^{0,2,0,2,0,1,2,1,4,4})","v":-5693465.1738227727}]
[120,null,null,null,{"$f":"155000+SUM({190094.945,-11832.228,-144.221,-32.391,-0.705,-2.34,-0.608,-0.008,0.148}*(0.36*(B123-52.1551744))^{0,1,2,0,1,3,1,0,2}*(0.36*(C123-5.38720621))^{1,1,1,3,0,1,3,2,3})","v":-576174.57035138155},{"$f":"463000+SUM({309056.544,3638.893,73.077,-157.984,59.788,0.433,-6.439,-0.032,0.092,-0.054}*(0.36*(B123-52.1551744))^{1,0,2,1,3,0,2,1,0,1}*(0.36*(C123-5.38720621))^{0,2,0,2,0,1,2,1,4,4})","v":-5693465.1738227727}]
[121,null,null,null,{"$f":"155000+SUM({190094.945,-11832.228,-144.221,-32.391,-0.705,-2.34,-0.608,-0.008,0.148}*(0.36*(B124-52.1551744))^{0,1,2,0,1,3,1,0,2}*(0.36*(C124-5.38720621))^{1,1,1,3,0,1,3,2,3})","v":-576174.57035138155},{"$f":"463000+SUM({309056.544,3638.893,73.077,-157.984,59.788,0.433,-6.439,-0.032,0.092,-0.054}*(0.36*(B124-52.1551744))^{1,0,2,1,3,0,2,1,0,1}*(0.36*(C124-5.38720621))^{0,2,0,2,0,1,2,1,4,4})","v":-5693465.1738227727}]
[122,null,null,null,{"$f":"155000+SUM({190094.945,-11832.228,-144.221,-32.391,-0.705,-2.34,-0.608,-0.008,0.148}*(0.36*(B125-52.1551744))^{0,1,2,0,1,3,1,0,2}*(0.36*(C125-5.38720621))^{1,1,1,3,0,1,3,2,3})","v":-576174.57035138155},{"$f":"463000+SUM({309056.544,3638.893,73.077,-157.984,59.788,0.433,-6.439,-0.032,0.092,-0.054}*(0.36*(B125-52.1551744))^{1,0,2,1,3,0,2,1,0,1}*(0.36*(C125-5.38720621))^{0,2,0,2,0,1,2,1,4,4})","v":-5693465.1738227727}]
[123,null,null,null,{"$f":"155000+SUM({190094.945,-11832.228,-144.221,-32.391,-0.705,-2.34,-0.608,-0.008,0.148}*(0.36*(B126-52.1551744))^{0,1,2,0,1,3,1,0,2}*(0.36*(C126-5.38720621))^{1,1,1,3,0,1,3,2,3})","v":-576174.57035138155},{"$f":"463000+SUM({309056.544,3638.893,73.077,-157.984,59.788,0.433,-6.439,-0.032,0.092,-0.054}*(0.36*(B126-52.1551744))^{1,0,2,1,3,0,2,1,0,1}*(0.36*(C126-5.38720621))^{0,2,0,2,0,1,2,1,4,4})","v":-5693465.1738227727}]
[124,null,null,null,{"$f":"155000+SUM({190094.945,-11832.228,-144.221,-32.391,-0.705,-2.34,-0.608,-0.008,0.148}*(0.36*(B127-52.1551744))^{0,1,2,0,1,3,1,0,2}*(0.36*(C127-5.38720621))^{1,1,1,3,0,1,3,2,3})","v":-576174.57035138155},{"$f":"463000+SUM({309056.544,3638.893,73.077,-157.984,59.788,0.433,-6.439,-0.032,0.092,-0.054}*(0.36*(B127-52.1551744))^{1,0,2,1,3,0,2,1,0,1}*(0.36*(C127-5.38720621))^{0,2,0,2,0,1,2,1,4,4})","v":-5693465.1738227727}]
[125,null,null,null,{"$f":"155000+SUM({190094.945,-11832.228,-144.221,-32.391,-0.705,-2.34,-0.608,-0.008,0.148}*(0.36*(B128-52.1551744))^{0,1,2,0,1,3,1,0,2}*(0.36*(C128-5.38720621))^{1,1,1,3,0,1,3,2,3})","v":-576174.57035138155},{"$f":"463000+SUM({309056.544,3638.893,73.077,-157.984,59.788,0.433,-6.439,-0.032,0.092,-0.054}*(0.36*(B128-52.1551744))^{1,0,2,1,3,0,2,1,0,1}*(0.36*(C128-5.38720621))^{0,2,0,2,0,1,2,1,4,4})","v":-5693465.1738227727}]
[126,null,null,null,{"$f":"155000+SUM({190094.945,-11832.228,-144.221,-32.391,-0.705,-2.34,-0.608,-0.008,0.148}*(0.36*(B129-52.1551744))^{0,1,2,0,1,3,1,0,2}*(0.36*(C129-5.38720621))^{1,1,1,3,0,1,3,2,3})","v":-576174.57035138155},{"$f":"463000+SUM({309056.544,3638.893,73.077,-157.984,59.788,0.433,-6.439,-0.032,0.092,-0.054}*(0.36*(B129-52.1551744))^{1,0,2,1,3,0,2,1,0,1}*(0.36*(C129-5.38720621))^{0,2,0,2,0,1,2,1,4,4})","v":-5693465.1738227727}]
[127,null,null,null,{"$f":"155000+SUM({190094.945,-11832.228,-144.221,-32.391,-0.705,-2.34,-0.608,-0.008,0.148}*(0.36*(B130-52.1551744))^{0,1,2,0,1,3,1,0,2}*(0.36*(C130-5.38720621))^{1,1,1,3,0,1,3,2,3})","v":-576174.57035138155},{"$f":"463000+SUM({309056.544,3638.893,73.077,-157.984,59.788,0.433,-6.439,-0.032,0.092,-0.054}*(0.36*(B130-52.1551744))^{1,0,2,1,3,0,2,1,0,1}*(0.36*(C130-5.38720621))^{0,2,0,2,0,1,2,1,4,4})","v":-5693465.1738227727}]
[128,null,null,null,{"$f":"155000+SUM({190094.945,-11832.228,-144.221,-32.391,-0.705,-2.34,-0.608,-0.008,0.148}*(0.36*(B131-52.1551744))^{0,1,2,0,1,3,1,0,2}*(0.36*(C131-5.38720621))^{1,1,1,3,0,1,3,2,3})","v":-576174.57035138155},{"$f":"463000+SUM({309056.544,3638.893,73.077,-157.984,59.788,0.433,-6.439,-0.032,0.092,-0.054}*(0.36*(B131-52.1551744))^{1,0,2,1,3,0,2,1,0,1}*(0.36*(C131-5.38720621))^{0,2,0,2,0,1,2,1,4,4})","v":-5693465.1738227727}]
[129,null,null,null,{"$f":"155000+SUM({190094.945,-11832.228,-144.221,-32.391,-0.705,-2.34,-0.608,-0.008,0.148}*(0.36*(B132-52.1551744))^{0,1,2,0,1,3,1,0,2}*(0.36*(C132-5.38720621))^{1,1,1,3,0,1,3,2,3})","v":-576174.57035138155},{"$f":"463000+SUM({309056.544,3638.893,73.077,-157.984,59.788,0.433,-6.439,-0.032,0.092,-0.054}*(0.36*(B132-52.1551744))^{1,0,2,1,3,0,2,1,0,1}*(0.36*(C132-5.38720621))^{0,2,0,2,0,1,2,1,4,4})","v":-5693465.1738227727}]
[130,null,null,null,{"$f":"155000+SUM({190094.945,-11832.228,-144.221,-32.391,-0.705,-2.34,-0.608,-0.008,0.148}*(0.36*(B133-52.1551744))^{0,1,2,0,1,3,1,0,2}*(0.36*(C133-5.38720621))^{1,1,1,3,0,1,3,2,3})","v":-576174.57035138155},{"$f":"463000+SUM({309056.544,3638.893,73.077,-157.984,59.788,0.433,-6.439,-0.032,0.092,-0.054}*(0.36*(B133-52.1551744))^{1,0,2,1,3,0,2,1,0,1}*(0.36*(C133-5.38720621))^{0,2,0,2,0,1,2,1,4,4})","v":-5693465.1738227727}]
[131,null,null,null,{"$f":"155000+SUM({190094.945,-11832.228,-144.221,-32.391,-0.705,-2.34,-0.608,-0.008,0.148}*(0.36*(B134-52.1551744))^{0,1,2,0,1,3,1,0,2}*(0.36*(C134-5.38720621))^{1,1,1,3,0,1,3,2,3})","v":-576174.57035138155},{"$f":"463000+SUM({309056.544,3638.893,73.077,-157.984,59.788,0.433,-6.439,-0.032,0.092,-0.054}*(0.36*(B134-52.1551744))^{1,0,2,1,3,0,2,1,0,1}*(0.36*(C134-5.38720621))^{0,2,0,2,0,1,2,1,4,4})","v":-5693465.1738227727}]
[132,null,null,null,{"$f":"155000+SUM({190094.945,-11832.228,-144.221,-32.391,-0.705,-2.34,-0.608,-0.008,0.148}*(0.36*(B135-52.1551744))^{0,1,2,0,1,3,1,0,2}*(0.36*(C135-5.38720621))^{1,1,1,3,0,1,3,2,3})","v":-576174.57035138155},{"$f":"463000+SUM({309056.544,3638.893,73.077,-157.984,59.788,0.433,-6.439,-0.032,0.092,-0.054}*(0.36*(B135-52.1551744))^{1,0,2,1,3,0,2,1,0,1}*(0.36*(C135-5.38720621))^{0,2,0,2,0,1,2,1,4,4})","v":-5693465.1738227727}]
[133,null,null,null,{"$f":"155000+SUM({190094.945,-11832.228,-144.221,-32.391,-0.705,-2.34,-0.608,-0.008,0.148}*(0.36*(B136-52.1551744))^{0,1,2,0,1,3,1,0,2}*(0.36*(C136-5.38720621))^{1,1,1,3,0,1,3,2,3})","v":-576174.57035138155},{"$f":"463000+SUM({309056.544,3638.893,73.077,-157.984,59.788,0.433,-6.439,-0.032,0.092,-0.054}*(0.36*(B136-52.1551744))^{1,0,2,1,3,0,2,1,0,1}*(0.36*(C136-5.38720621))^{0,2,0,2,0,1,2,1,4,4})","v":-5693465.1738227727}]
[134,null,null,null,{"$f":"155000+SUM({190094.945,-11832.228,-144.221,-32.391,-0.705,-2.34,-0.608,-0.008,0.148}*(0.36*(B137-52.1551744))^{0,1,2,0,1,3,1,0,2}*(0.36*(C137-5.38720621))^{1,1,1,3,0,1,3,2,3})","v":-576174.57035138155},{"$f":"463000+SUM({309056.544,3638.893,73.077,-157.984,59.788,0.433,-6.439,-0.032,0.092,-0.054}*(0.36*(B137-52.1551744))^{1,0,2,1,3,0,2,1,0,1}*(0.36*(C137-5.38720621))^{0,2,0,2,0,1,2,1,4,4})","v":-5693465.1738227727}]
[135,null,null,null,{"$f":"155000+SUM({190094.945,-11832.228,-144.221,-32.391,-0.705,-2.34,-0.608,-0.008,0.148}*(0.36*(B138-52.1551744))^{0,1,2,0,1,3,1,0,2}*(0.36*(C138-5.38720621))^{1,1,1,3,0,1,3,2,3})","v":-576174.57035138155},{"$f":"463000+SUM({309056.544,3638.893,73.077,-157.984,59.788,0.433,-6.439,-0.032,0.092,-0.054}*(0.36*(B138-52.1551744))^{1,0,2,1,3,0,2,1,0,1}*(0.36*(C138-5.38720621))^{0,2,0,2,0,1,2,1,4,4})","v":-5693465.1738227727}]
[136,null,null,null,{"$f":"155000+SUM({190094.945,-11832.228,-144.221,-32.391,-0.705,-2.34,-0.608,-0.008,0.148}*(0.36*(B139-52.1551744))^{0,1,2,0,1,3,1,0,2}*(0.36*(C139-5.38720621))^{1,1,1,3,0,1,3,2,3})","v":-576174.57035138155},{"$f":"463000+SUM({309056.544,3638.893,73.077,-157.984,59.788,0.433,-6.439,-0.032,0.092,-0.054}*(0.36*(B139-52.1551744))^{1,0,2,1,3,0,2,1,0,1}*(0.36*(C139-5.38720621))^{0,2,0,2,0,1,2,1,4,4})","v":-5693465.1738227727}]
[137,null,null,null,{"$f":"155000+SUM({190094.945,-11832.228,-144.221,-32.391,-0.705,-2.34,-0.608,-0.008,0.148}*(0.36*(B140-52.1551744))^{0,1,2,0,1,3,1,0,2}*(0.36*(C140-5.38720621))^{1,1,1,3,0,1,3,2,3})","v":-576174.57035138155},{"$f":"463000+SUM({309056.544,3638.893,73.077,-157.984,59.788,0.433,-6.439,-0.032,0.092,-0.054}*(0.36*(B140-52.1551744))^{1,0,2,1,3,0,2,1,0,1}*(0.36*(C140-5.38720621))^{0,2,0,2,0,1,2,1,4,4})","v":-5693465.1738227727}]
[138,null,null,null,{"$f":"155000+SUM({190094.945,-11832.228,-144.221,-32.391,-0.705,-2.34,-0.608,-0.008,0.148}*(0.36*(B141-52.1551744))^{0,1,2,0,1,3,1,0,2}*(0.36*(C141-5.38720621))^{1,1,1,3,0,1,3,2,3})","v":-576174.57035138155},{"$f":"463000+SUM({309056.544,3638.893,73.077,-157.984,59.788,0.433,-6.439,-0.032,0.092,-0.054}*(0.36*(B141-52.1551744))^{1,0,2,1,3,0,2,1,0,1}*(0.36*(C141-5.38720621))^{0,2,0,2,0,1,2,1,4,4})","v":-5693465.1738227727}]
[139,null,null,null,{"$f":"155000+SUM({190094.945,-11832.228,-144.221,-32.391,-0.705,-2.34,-0.608,-0.008,0.148}*(0.36*(B142-52.1551744))^{0,1,2,0,1,3,1,0,2}*(0.36*(C142-5.38720621))^{1,1,1,3,0,1,3,2,3})","v":-576174.57035138155},{"$f":"463000+SUM({309056.544,3638.893,73.077,-157.984,59.788,0.433,-6.439,-0.032,0.092,-0.054}*(0.36*(B142-52.1551744))^{1,0,2,1,3,0,2,1,0,1}*(0.36*(C142-5.38720621))^{0,2,0,2,0,1,2,1,4,4})","v":-5693465.1738227727}]
[140,null,null,null,{"$f":"155000+SUM({190094.945,-11832.228,-144.221,-32.391,-0.705,-2.34,-0.608,-0.008,0.148}*(0.36*(B143-52.1551744))^{0,1,2,0,1,3,1,0,2}*(0.36*(C143-5.38720621))^{1,1,1,3,0,1,3,2,3})","v":-576174.57035138155},{"$f":"463000+SUM({309056.544,3638.893,73.077,-157.984,59.788,0.433,-6.439,-0.032,0.092,-0.054}*(0.36*(B143-52.1551744))^{1,0,2,1,3,0,2,1,0,1}*(0.36*(C143-5.38720621))^{0,2,0,2,0,1,2,1,4,4})","v":-5693465.1738227727}]
[141,null,null,null,{"$f":"155000+SUM({190094.945,-11832.228,-144.221,-32.391,-0.705,-2.34,-0.608,-0.008,0.148}*(0.36*(B144-52.1551744))^{0,1,2,0,1,3,1,0,2}*(0.36*(C144-5.38720621))^{1,1,1,3,0,1,3,2,3})","v":-576174.57035138155},{"$f":"463000+SUM({309056.544,3638.893,73.077,-157.984,59.788,0.433,-6.439,-0.032,0.092,-0.054}*(0.36*(B144-52.1551744))^{1,0,2,1,3,0,2,1,0,1}*(0.36*(C144-5.38720621))^{0,2,0,2,0,1,2,1,4,4})","v":-5693465.1738227727}]
[142,null,null,null,{"$f":"155000+SUM({190094.945,-11832.228,-144.221,-32.391,-0.705,-2.34,-0.608,-0.008,0.148}*(0.36*(B145-52.1551744))^{0,1,2,0,1,3,1,0,2}*(0.36*(C145-5.38720621))^{1,1,1,3,0,1,3,2,3})","v":-576174.57035138155},{"$f":"463000+SUM({309056.544,3638.893,73.077,-157.984,59.788,0.433,-6.439,-0.032,0.092,-0.054}*(0.36*(B145-52.1551744))^{1,0,2,1,3,0,2,1,0,1}*(0.36*(C145-5.38720621))^{0,2,0,2,0,1,2,1,4,4})","v":-5693465.1738227727}]
[143,null,null,null,{"$f":"155000+SUM({190094.945,-11832.228,-144.221,-32.391,-0.705,-2.34,-0.608,-0.008,0.148}*(0.36*(B146-52.1551744))^{0,1,2,0,1,3,1,0,2}*(0.36*(C146-5.38720621))^{1,1,1,3,0,1,3,2,3})","v":-576174.57035138155},{"$f":"463000+SUM({309056.544,3638.893,73.077,-157.984,59.788,0.433,-6.439,-0.032,0.092,-0.054}*(0.36*(B146-52.1551744))^{1,0,2,1,3,0,2,1,0,1}*(0.36*(C146-5.38720621))^{0,2,0,2,0,1,2,1,4,4})","v":-5693465.1738227727}]
[144,null,null,null,{"$f":"155000+SUM({190094.945,-11832.228,-144.221,-32.391,-0.705,-2.34,-0.608,-0.008,0.148}*(0.36*(B147-52.1551744))^{0,1,2,0,1,3,1,0,2}*(0.36*(C147-5.38720621))^{1,1,1,3,0,1,3,2,3})","v":-576174.57035138155},{"$f":"463000+SUM({309056.544,3638.893,73.077,-157.984,59.788,0.433,-6.439,-0.032,0.092,-0.054}*(0.36*(B147-52.1551744))^{1,0,2,1,3,0,2,1,0,1}*(0.36*(C147-5.38720621))^{0,2,0,2,0,1,2,1,4,4})","v":-5693465.1738227727}]
[145,null,null,null,{"$f":"155000+SUM({190094.945,-11832.228,-144.221,-32.391,-0.705,-2.34,-0.608,-0.008,0.148}*(0.36*(B148-52.1551744))^{0,1,2,0,1,3,1,0,2}*(0.36*(C148-5.38720621))^{1,1,1,3,0,1,3,2,3})","v":-576174.57035138155},{"$f":"463000+SUM({309056.544,3638.893,73.077,-157.984,59.788,0.433,-6.439,-0.032,0.092,-0.054}*(0.36*(B148-52.1551744))^{1,0,2,1,3,0,2,1,0,1}*(0.36*(C148-5.38720621))^{0,2,0,2,0,1,2,1,4,4})","v":-5693465.1738227727}]
[146,null,null,null,{"$f":"155000+SUM({190094.945,-11832.228,-144.221,-32.391,-0.705,-2.34,-0.608,-0.008,0.148}*(0.36*(B149-52.1551744))^{0,1,2,0,1,3,1,0,2}*(0.36*(C149-5.38720621))^{1,1,1,3,0,1,3,2,3})","v":-576174.57035138155},{"$f":"463000+SUM({309056.544,3638.893,73.077,-157.984,59.788,0.433,-6.439,-0.032,0.092,-0.054}*(0.36*(B149-52.1551744))^{1,0,2,1,3,0,2,1,0,1}*(0.36*(C149-5.38720621))^{0,2,0,2,0,1,2,1,4,4})","v":-5693465.1738227727}]
[147,null,null,null,{"$f":"155000+SUM({190094.945,-11832.228,-144.221,-32.391,-0.705,-2.34,-0.608,-0.008,0.148}*(0.36*(B150-52.1551744))^{0,1,2,0,1,3,1,0,2}*(0.36*(C150-5.38720621))^{1,1,1,3,0,1,3,2,3})","v":-576174.57035138155},{"$f":"463000+SUM({309056.544,3638.893,73.077,-157.984,59.788,0.433,-6.439,-0.032,0.092,-0.054}*(0.36*(B150-52.1551744))^{1,0,2,1,3,0,2,1,0,1}*(0.36*(C150-5.38720621))^{0,2,0,2,0,1,2,1,4,4})","v":-5693465.1738227727}]
[148,null,null,null,{"$f":"155000+SUM({190094.945,-11832.228,-144.221,-32.391,-0.705,-2.34,-0.608,-0.008,0.148}*(0.36*(B151-52.1551744))^{0,1,2,0,1,3,1,0,2}*(0.36*(C151-5.38720621))^{1,1,1,3,0,1,3,2,3})","v":-576174.57035138155},{"$f":"463000+SUM({309056.544,3638.893,73.077,-157.984,59.788,0.433,-6.439,-0.032,0.092,-0.054}*(0.36*(B151-52.1551744))^{1,0,2,1,3,0,2,1,0,1}*(0.36*(C151-5.38720621))^{0,2,0,2,0,1,2,1,4,4})","v":-5693465.1738227727}]
[149,null,null,null,{"$f":"155000+SUM({190094.945,-11832.228,-144.221,-32.391,-0.705,-2.34,-0.608,-0.008,0.148}*(0.36*(B152-52.1551744))^{0,1,2,0,1,3,1,0,2}*(0.36*(C152-5.38720621))^{1,1,1,3,0,1,3,2,3})","v":-576174.57035138155},{"$f":"463000+SUM({309056.544,3638.893,73.077,-157.984,59.788,0.433,-6.439,-0.032,0.092,-0.054}*(0.36*(B152-52.1551744))^{1,0,2,1,3,0,2,1,0,1}*(0.36*(C152-5.38720621))^{0,2,0,2,0,1,2,1,4,4})","v":-5693465.1738227727}]
[150,null,null,null,{"$f":"155000+SUM({190094.945,-11832.228,-144.221,-32.391,-0.705,-2.34,-0.608,-0.008,0.148}*(0.36*(B153-52.1551744))^{0,1,2,0,1,3,1,0,2}*(0.36*(C153-5.38720621))^{1,1,1,3,0,1,3,2,3})","v":-576174.57035138155},{"$f":"463000+SUM({309056.544,3638.893,73.077,-157.984,59.788,0.433,-6.439,-0.032,0.092,-0.054}*(0.36*(B153-52.1551744))^{1,0,2,1,3,0,2,1,0,1}*(0.36*(C153-5.38720621))^{0,2,0,2,0,1,2,1,4,4})","v":-5693465.1738227727}]
[151,null,null,null,{"$f":"155000+SUM({190094.945,-11832.228,-144.221,-32.391,-0.705,-2.34,-0.608,-0.008,0.148}*(0.36*(B154-52.1551744))^{0,1,2,0,1,3,1,0,2}*(0.36*(C154-5.38720621))^{1,1,1,3,0,1,3,2,3})","v":-576174.57035138155},{"$f":"463000+SUM({309056.544,3638.893,73.077,-157.984,59.788,0.433,-6.439,-0.032,0.092,-0.054}*(0.36*(B154-52.1551744))^{1,0,2,1,3,0,2,1,0,1}*(0.36*(C154-5.38720621))^{0,2,0,2,0,1,2,1,4,4})","v":-5693465.1738227727}]
[152,null,null,null,{"$f":"155000+SUM({190094.945,-11832.228,-144.221,-32.391,-0.705,-2.34,-0.608,-0.008,0.148}*(0.36*(B155-52.1551744))^{0,1,2,0,1,3,1,0,2}*(0.36*(C155-5.38720621))^{1,1,1,3,0,1,3,2,3})","v":-576174.57035138155},{"$f":"463000+SUM({309056.544,3638.893,73.077,-157.984,59.788,0.433,-6.439,-0.032,0.092,-0.054}*(0.36*(B155-52.1551744))^{1,0,2,1,3,0,2,1,0,1}*(0.36*(C155-5.38720621))^{0,2,0,2,0,1,2,1,4,4})","v":-5693465.1738227727}]
[153,null,null,null,{"$f":"155000+SUM({190094.945,-11832.228,-144.221,-32.391,-0.705,-2.34,-0.608,-0.008,0.148}*(0.36*(B156-52.1551744))^{0,1,2,0,1,3,1,0,2}*(0.36*(C156-5.38720621))^{1,1,1,3,0,1,3,2,3})","v":-576174.57035138155},{"$f":"463000+SUM({309056.544,3638.893,73.077,-157.984,59.788,0.433,-6.439,-0.032,0.092,-0.054}*(0.36*(B156-52.1551744))^{1,0,2,1,3,0,2,1,0,1}*(0.36*(C156-5.38720621))^{0,2,0,2,0,1,2,1,4,4})","v":-5693465.1738227727}]
[154,null,null,null,{"$f":"155000+SUM({190094.945,-11832.228,-144.221,-32.391,-0.705,-2.34,-0.608,-0.008,0.148}*(0.36*(B157-52.1551744))^{0,1,2,0,1,3,1,0,2}*(0.36*(C157-5.38720621))^{1,1,1,3,0,1,3,2,3})","v":-576174.57035138155},{"$f":"463000+SUM({309056.544,3638.893,73.077,-157.984,59.788,0.433,-6.439,-0.032,0.092,-0.054}*(0.36*(B157-52.1551744))^{1,0,2,1,3,0,2,1,0,1}*(0.36*(C157-5.38720621))^{0,2,0,2,0,1,2,1,4,4})","v":-5693465.1738227727}]
[155,null,null,null,{"$f":"155000+SUM({190094.945,-11832.228,-144.221,-32.391,-0.705,-2.34,-0.608,-0.008,0.148}*(0.36*(B158-52.1551744))^{0,1,2,0,1,3,1,0,2}*(0.36*(C158-5.38720621))^{1,1,1,3,0,1,3,2,3})","v":-576174.57035138155},{"$f":"463000+SUM({309056.544,3638.893,73.077,-157.984,59.788,0.433,-6.439,-0.032,0.092,-0.054}*(0.36*(B158-52.1551744))^{1,0,2,1,3,0,2,1,0,1}*(0.36*(C158-5.38720621))^{0,2,0,2,0,1,2,1,4,4})","v":-5693465.1738227727}]
[156,null,null,null,{"$f":"155000+SUM({190094.945,-11832.228,-144.221,-32.391,-0.705,-2.34,-0.608,-0.008,0.148}*(0.36*(B159-52.1551744))^{0,1,2,0,1,3,1,0,2}*(0.36*(C159-5.38720621))^{1,1,1,3,0,1,3,2,3})","v":-576174.57035138155},{"$f":"463000+SUM({309056.544,3638.893,73.077,-157.984,59.788,0.433,-6.439,-0.032,0.092,-0.054}*(0.36*(B159-52.1551744))^{1,0,2,1,3,0,2,1,0,1}*(0.36*(C159-5.38720621))^{0,2,0,2,0,1,2,1,4,4})","v":-5693465.1738227727}]
[157,null,null,null,{"$f":"155000+SUM({190094.945,-11832.228,-144.221,-32.391,-0.705,-2.34,-0.608,-0.008,0.148}*(0.36*(B160-52.1551744))^{0,1,2,0,1,3,1,0,2}*(0.36*(C160-5.38720621))^{1,1,1,3,0,1,3,2,3})","v":-576174.57035138155},{"$f":"463000+SUM({309056.544,3638.893,73.077,-157.984,59.788,0.433,-6.439,-0.032,0.092,-0.054}*(0.36*(B160-52.1551744))^{1,0,2,1,3,0,2,1,0,1}*(0.36*(C160-5.38720621))^{0,2,0,2,0,1,2,1,4,4})","v":-5693465.1738227727}]
[158,null,null,null,{"$f":"155000+SUM({190094.945,-11832.228,-144.221,-32.391,-0.705,-2.34,-0.608,-0.008,0.148}*(0.36*(B161-52.1551744))^{0,1,2,0,1,3,1,0,2}*(0.36*(C161-5.38720621))^{1,1,1,3,0,1,3,2,3})","v":-576174.57035138155},{"$f":"463000+SUM({309056.544,3638.893,73.077,-157.984,59.788,0.433,-6.439,-0.032,0.092,-0.054}*(0.36*(B161-52.1551744))^{1,0,2,1,3,0,2,1,0,1}*(0.36*(C161-5.38720621))^{0,2,0,2,0,1,2,1,4,4})","v":-5693465.1738227727}]
[159,null,null,null,{"$f":"155000+SUM({190094.945,-11832.228,-144.221,-32.391,-0.705,-2.34,-0.608,-0.008,0.148}*(0.36*(B162-52.1551744))^{0,1,2,0,1,3,1,0,2}*(0.36*(C162-5.38720621))^{1,1,1,3,0,1,3,2,3})","v":-576174.57035138155},{"$f":"463000+SUM({309056.544,3638.893,73.077,-157.984,59.788,0.433,-6.439,-0.032,0.092,-0.054}*(0.36*(B162-52.1551744))^{1,0,2,1,3,0,2,1,0,1}*(0.36*(C162-5.38720621))^{0,2,0,2,0,1,2,1,4,4})","v":-5693465.1738227727}]
[160,null,null,null,{"$f":"155000+SUM({190094.945,-11832.228,-144.221,-32.391,-0.705,-2.34,-0.608,-0.008,0.148}*(0.36*(B163-52.1551744))^{0,1,2,0,1,3,1,0,2}*(0.36*(C163-5.38720621))^{1,1,1,3,0,1,3,2,3})","v":-576174.57035138155},{"$f":"463000+SUM({309056.544,3638.893,73.077,-157.984,59.788,0.433,-6.439,-0.032,0.092,-0.054}*(0.36*(B163-52.1551744))^{1,0,2,1,3,0,2,1,0,1}*(0.36*(C163-5.38720621))^{0,2,0,2,0,1,2,1,4,4})","v":-5693465.1738227727}]
[161,null,null,null,{"$f":"155000+SUM({190094.945,-11832.228,-144.221,-32.391,-0.705,-2.34,-0.608,-0.008,0.148}*(0.36*(B164-52.1551744))^{0,1,2,0,1,3,1,0,2}*(0.36*(C164-5.38720621))^{1,1,1,3,0,1,3,2,3})","v":-576174.57035138155},{"$f":"463000+SUM({309056.544,3638.893,73.077,-157.984,59.788,0.433,-6.439,-0.032,0.092,-0.054}*(0.36*(B164-52.1551744))^{1,0,2,1,3,0,2,1,0,1}*(0.36*(C164-5.38720621))^{0,2,0,2,0,1,2,1,4,4})","v":-5693465.1738227727}]
[162,null,null,null,{"$f":"155000+SUM({190094.945,-11832.228,-144.221,-32.391,-0.705,-2.34,-0.608,-0.008,0.148}*(0.36*(B165-52.1551744))^{0,1,2,0,1,3,1,0,2}*(0.36*(C165-5.38720621))^{1,1,1,3,0,1,3,2,3})","v":-576174.57035138155},{"$f":"463000+SUM({309056.544,3638.893,73.077,-157.984,59.788,0.433,-6.439,-0.032,0.092,-0.054}*(0.36*(B165-52.1551744))^{1,0,2,1,3,0,2,1,0,1}*(0.36*(C165-5.38720621))^{0,2,0,2,0,1,2,1,4,4})","v":-5693465.1738227727}]
[163,null,null,null,{"$f":"155000+SUM({190094.945,-11832.228,-144.221,-32.391,-0.705,-2.34,-0.608,-0.008,0.148}*(0.36*(B166-52.1551744))^{0,1,2,0,1,3,1,0,2}*(0.36*(C166-5.38720621))^{1,1,1,3,0,1,3,2,3})","v":-576174.57035138155},{"$f":"463000+SUM({309056.544,3638.893,73.077,-157.984,59.788,0.433,-6.439,-0.032,0.092,-0.054}*(0.36*(B166-52.1551744))^{1,0,2,1,3,0,2,1,0,1}*(0.36*(C166-5.38720621))^{0,2,0,2,0,1,2,1,4,4})","v":-5693465.1738227727}]
[164,null,null,null,{"$f":"155000+SUM({190094.945,-11832.228,-144.221,-32.391,-0.705,-2.34,-0.608,-0.008,0.148}*(0.36*(B167-52.1551744))^{0,1,2,0,1,3,1,0,2}*(0.36*(C167-5.38720621))^{1,1,1,3,0,1,3,2,3})","v":-576174.57035138155},{"$f":"463000+SUM({309056.544,3638.893,73.077,-157.984,59.788,0.433,-6.439,-0.032,0.092,-0.054}*(0.36*(B167-52.1551744))^{1,0,2,1,3,0,2,1,0,1}*(0.36*(C167-5.38720621))^{0,2,0,2,0,1,2,1,4,4})","v":-5693465.1738227727}]
[165,null,null,null,{"$f":"155000+SUM({190094.945,-11832.228,-144.221,-32.391,-0.705,-2.34,-0.608,-0.008,0.148}*(0.36*(B168-52.1551744))^{0,1,2,0,1,3,1,0,2}*(0.36*(C168-5.38720621))^{1,1,1,3,0,1,3,2,3})","v":-576174.57035138155},{"$f":"463000+SUM({309056.544,3638.893,73.077,-157.984,59.788,0.433,-6.439,-0.032,0.092,-0.054}*(0.36*(B168-52.1551744))^{1,0,2,1,3,0,2,1,0,1}*(0.36*(C168-5.38720621))^{0,2,0,2,0,1,2,1,4,4})","v":-5693465.1738227727}]
[166,null,null,null,{"$f":"155000+SUM({190094.945,-11832.228,-144.221,-32.391,-0.705,-2.34,-0.608,-0.008,0.148}*(0.36*(B169-52.1551744))^{0,1,2,0,1,3,1,0,2}*(0.36*(C169-5.38720621))^{1,1,1,3,0,1,3,2,3})","v":-576174.57035138155},{"$f":"463000+SUM({309056.544,3638.893,73.077,-157.984,59.788,0.433,-6.439,-0.032,0.092,-0.054}*(0.36*(B169-52.1551744))^{1,0,2,1,3,0,2,1,0,1}*(0.36*(C169-5.38720621))^{0,2,0,2,0,1,2,1,4,4})","v":-5693465.1738227727}]
[167,null,null,null,{"$f":"155000+SUM({190094.945,-11832.228,-144.221,-32.391,-0.705,-2.34,-0.608,-0.008,0.148}*(0.36*(B170-52.1551744))^{0,1,2,0,1,3,1,0,2}*(0.36*(C170-5.38720621))^{1,1,1,3,0,1,3,2,3})","v":-576174.57035138155},{"$f":"463000+SUM({309056.544,3638.893,73.077,-157.984,59.788,0.433,-6.439,-0.032,0.092,-0.054}*(0.36*(B170-52.1551744))^{1,0,2,1,3,0,2,1,0,1}*(0.36*(C170-5.38720621))^{0,2,0,2,0,1,2,1,4,4})","v":-5693465.1738227727}]
[168,null,null,null,{"$f":"155000+SUM({190094.945,-11832.228,-144.221,-32.391,-0.705,-2.34,-0.608,-0.008,0.148}*(0.36*(B171-52.1551744))^{0,1,2,0,1,3,1,0,2}*(0.36*(C171-5.38720621))^{1,1,1,3,0,1,3,2,3})","v":-576174.57035138155},{"$f":"463000+SUM({309056.544,3638.893,73.077,-157.984,59.788,0.433,-6.439,-0.032,0.092,-0.054}*(0.36*(B171-52.1551744))^{1,0,2,1,3,0,2,1,0,1}*(0.36*(C171-5.38720621))^{0,2,0,2,0,1,2,1,4,4})","v":-5693465.1738227727}]
[169,null,null,null,{"$f":"155000+SUM({190094.945,-11832.228,-144.221,-32.391,-0.705,-2.34,-0.608,-0.008,0.148}*(0.36*(B172-52.1551744))^{0,1,2,0,1,3,1,0,2}*(0.36*(C172-5.38720621))^{1,1,1,3,0,1,3,2,3})","v":-576174.57035138155},{"$f":"463000+SUM({309056.544,3638.893,73.077,-157.984,59.788,0.433,-6.439,-0.032,0.092,-0.054}*(0.36*(B172-52.1551744))^{1,0,2,1,3,0,2,1,0,1}*(0.36*(C172-5.38720621))^{0,2,0,2,0,1,2,1,4,4})","v":-5693465.1738227727}]
[170,null,null,null,{"$f":"155000+SUM({190094.945,-11832.228,-144.221,-32.391,-0.705,-2.34,-0.608,-0.008,0.148}*(0.36*(B173-52.1551744))^{0,1,2,0,1,3,1,0,2}*(0.36*(C173-5.38720621))^{1,1,1,3,0,1,3,2,3})","v":-576174.57035138155},{"$f":"463000+SUM({309056.544,3638.893,73.077,-157.984,59.788,0.433,-6.439,-0.032,0.092,-0.054}*(0.36*(B173-52.1551744))^{1,0,2,1,3,0,2,1,0,1}*(0.36*(C173-5.38720621))^{0,2,0,2,0,1,2,1,4,4})","v":-5693465.1738227727}]
[171,null,null,null,{"$f":"155000+SUM({190094.945,-11832.228,-144.221,-32.391,-0.705,-2.34,-0.608,-0.008,0.148}*(0.36*(B174-52.1551744))^{0,1,2,0,1,3,1,0,2}*(0.36*(C174-5.38720621))^{1,1,1,3,0,1,3,2,3})","v":-576174.57035138155},{"$f":"463000+SUM({309056.544,3638.893,73.077,-157.984,59.788,0.433,-6.439,-0.032,0.092,-0.054}*(0.36*(B174-52.1551744))^{1,0,2,1,3,0,2,1,0,1}*(0.36*(C174-5.38720621))^{0,2,0,2,0,1,2,1,4,4})","v":-5693465.1738227727}]
[172,null,null,null,{"$f":"155000+SUM({190094.945,-11832.228,-144.221,-32.391,-0.705,-2.34,-0.608,-0.008,0.148}*(0.36*(B175-52.1551744))^{0,1,2,0,1,3,1,0,2}*(0.36*(C175-5.38720621))^{1,1,1,3,0,1,3,2,3})","v":-576174.57035138155},{"$f":"463000+SUM({309056.544,3638.893,73.077,-157.984,59.788,0.433,-6.439,-0.032,0.092,-0.054}*(0.36*(B175-52.1551744))^{1,0,2,1,3,0,2,1,0,1}*(0.36*(C175-5.38720621))^{0,2,0,2,0,1,2,1,4,4})","v":-5693465.1738227727}]
[173,null,null,null,{"$f":"155000+SUM({190094.945,-11832.228,-144.221,-32.391,-0.705,-2.34,-0.608,-0.008,0.148}*(0.36*(B176-52.1551744))^{0,1,2,0,1,3,1,0,2}*(0.36*(C176-5.38720621))^{1,1,1,3,0,1,3,2,3})","v":-576174.57035138155},{"$f":"463000+SUM({309056.544,3638.893,73.077,-157.984,59.788,0.433,-6.439,-0.032,0.092,-0.054}*(0.36*(B176-52.1551744))^{1,0,2,1,3,0,2,1,0,1}*(0.36*(C176-5.38720621))^{0,2,0,2,0,1,2,1,4,4})","v":-5693465.1738227727}]
[174,null,null,null,{"$f":"155000+SUM({190094.945,-11832.228,-144.221,-32.391,-0.705,-2.34,-0.608,-0.008,0.148}*(0.36*(B177-52.1551744))^{0,1,2,0,1,3,1,0,2}*(0.36*(C177-5.38720621))^{1,1,1,3,0,1,3,2,3})","v":-576174.57035138155},{"$f":"463000+SUM({309056.544,3638.893,73.077,-157.984,59.788,0.433,-6.439,-0.032,0.092,-0.054}*(0.36*(B177-52.1551744))^{1,0,2,1,3,0,2,1,0,1}*(0.36*(C177-5.38720621))^{0,2,0,2,0,1,2,1,4,4})","v":-5693465.1738227727}]
[175,null,null,null,{"$f":"155000+SUM({190094.945,-11832.228,-144.221,-32.391,-0.705,-2.34,-0.608,-0.008,0.148}*(0.36*(B178-52.1551744))^{0,1,2,0,1,3,1,0,2}*(0.36*(C178-5.38720621))^{1,1,1,3,0,1,3,2,3})","v":-576174.57035138155},{"$f":"463000+SUM({309056.544,3638.893,73.077,-157.984,59.788,0.433,-6.439,-0.032,0.092,-0.054}*(0.36*(B178-52.1551744))^{1,0,2,1,3,0,2,1,0,1}*(0.36*(C178-5.38720621))^{0,2,0,2,0,1,2,1,4,4})","v":-5693465.1738227727}]
[176,null,null,null,{"$f":"155000+SUM({190094.945,-11832.228,-144.221,-32.391,-0.705,-2.34,-0.608,-0.008,0.148}*(0.36*(B179-52.1551744))^{0,1,2,0,1,3,1,0,2}*(0.36*(C179-5.38720621))^{1,1,1,3,0,1,3,2,3})","v":-576174.57035138155},{"$f":"463000+SUM({309056.544,3638.893,73.077,-157.984,59.788,0.433,-6.439,-0.032,0.092,-0.054}*(0.36*(B179-52.1551744))^{1,0,2,1,3,0,2,1,0,1}*(0.36*(C179-5.38720621))^{0,2,0,2,0,1,2,1,4,4})","v":-5693465.1738227727}]
[177,null,null,null,{"$f":"155000+SUM({190094.945,-11832.228,-144.221,-32.391,-0.705,-2.34,-0.608,-0.008,0.148}*(0.36*(B180-52.1551744))^{0,1,2,0,1,3,1,0,2}*(0.36*(C180-5.38720621))^{1,1,1,3,0,1,3,2,3})","v":-576174.57035138155},{"$f":"463000+SUM({309056.544,3638.893,73.077,-157.984,59.788,0.433,-6.439,-0.032,0.092,-0.054}*(0.36*(B180-52.1551744))^{1,0,2,1,3,0,2,1,0,1}*(0.36*(C180-5.38720621))^{0,2,0,2,0,1,2,1,4,4})","v":-5693465.1738227727}]
[178,null,null,null,{"$f":"155000+SUM({190094.945,-11832.228,-144.221,-32.391,-0.705,-2.34,-0.608,-0.008,0.148}*(0.36*(B181-52.1551744))^{0,1,2,0,1,3,1,0,2}*(0.36*(C181-5.38720621))^{1,1,1,3,0,1,3,2,3})","v":-576174.57035138155},{"$f":"463000+SUM({309056.544,3638.893,73.077,-157.984,59.788,0.433,-6.439,-0.032,0.092,-0.054}*(0.36*(B181-52.1551744))^{1,0,2,1,3,0,2,1,0,1}*(0.36*(C181-5.38720621))^{0,2,0,2,0,1,2,1,4,4})","v":-5693465.1738227727}]
[179,null,null,null,{"$f":"155000+SUM({190094.945,-11832.228,-144.221,-32.391,-0.705,-2.34,-0.608,-0.008,0.148}*(0.36*(B182-52.1551744))^{0,1,2,0,1,3,1,0,2}*(0.36*(C182-5.38720621))^{1,1,1,3,0,1,3,2,3})","v":-576174.57035138155},{"$f":"463000+SUM({309056.544,3638.893,73.077,-157.984,59.788,0.433,-6.439,-0.032,0.092,-0.054}*(0.36*(B182-52.1551744))^{1,0,2,1,3,0,2,1,0,1}*(0.36*(C182-5.38720621))^{0,2,0,2,0,1,2,1,4,4})","v":-5693465.1738227727}]
[180,null,null,null,{"$f":"155000+SUM({190094.945,-11832.228,-144.221,-32.391,-0.705,-2.34,-0.608,-0.008,0.148}*(0.36*(B183-52.1551744))^{0,1,2,0,1,3,1,0,2}*(0.36*(C183-5.38720621))^{1,1,1,3,0,1,3,2,3})","v":-576174.57035138155},{"$f":"463000+SUM({309056.544,3638.893,73.077,-157.984,59.788,0.433,-6.439,-0.032,0.092,-0.054}*(0.36*(B183-52.1551744))^{1,0,2,1,3,0,2,1,0,1}*(0.36*(C183-5.38720621))^{0,2,0,2,0,1,2,1,4,4})","v":-5693465.1738227727}]
[181,null,null,null,{"$f":"155000+SUM({190094.945,-11832.228,-144.221,-32.391,-0.705,-2.34,-0.608,-0.008,0.148}*(0.36*(B184-52.1551744))^{0,1,2,0,1,3,1,0,2}*(0.36*(C184-5.38720621))^{1,1,1,3,0,1,3,2,3})","v":-576174.57035138155},{"$f":"463000+SUM({309056.544,3638.893,73.077,-157.984,59.788,0.433,-6.439,-0.032,0.092,-0.054}*(0.36*(B184-52.1551744))^{1,0,2,1,3,0,2,1,0,1}*(0.36*(C184-5.38720621))^{0,2,0,2,0,1,2,1,4,4})","v":-5693465.1738227727}]
[182,null,null,null,{"$f":"155000+SUM({190094.945,-11832.228,-144.221,-32.391,-0.705,-2.34,-0.608,-0.008,0.148}*(0.36*(B185-52.1551744))^{0,1,2,0,1,3,1,0,2}*(0.36*(C185-5.38720621))^{1,1,1,3,0,1,3,2,3})","v":-576174.57035138155},{"$f":"463000+SUM({309056.544,3638.893,73.077,-157.984,59.788,0.433,-6.439,-0.032,0.092,-0.054}*(0.36*(B185-52.1551744))^{1,0,2,1,3,0,2,1,0,1}*(0.36*(C185-5.38720621))^{0,2,0,2,0,1,2,1,4,4})","v":-5693465.1738227727}]
[183,null,null,null,{"$f":"155000+SUM({190094.945,-11832.228,-144.221,-32.391,-0.705,-2.34,-0.608,-0.008,0.148}*(0.36*(B186-52.1551744))^{0,1,2,0,1,3,1,0,2}*(0.36*(C186-5.38720621))^{1,1,1,3,0,1,3,2,3})","v":-576174.57035138155},{"$f":"463000+SUM({309056.544,3638.893,73.077,-157.984,59.788,0.433,-6.439,-0.032,0.092,-0.054}*(0.36*(B186-52.1551744))^{1,0,2,1,3,0,2,1,0,1}*(0.36*(C186-5.38720621))^{0,2,0,2,0,1,2,1,4,4})","v":-5693465.1738227727}]
[184,null,null,null,{"$f":"155000+SUM({190094.945,-11832.228,-144.221,-32.391,-0.705,-2.34,-0.608,-0.008,0.148}*(0.36*(B187-52.1551744))^{0,1,2,0,1,3,1,0,2}*(0.36*(C187-5.38720621))^{1,1,1,3,0,1,3,2,3})","v":-576174.57035138155},{"$f":"463000+SUM({309056.544,3638.893,73.077,-157.984,59.788,0.433,-6.439,-0.032,0.092,-0.054}*(0.36*(B187-52.1551744))^{1,0,2,1,3,0,2,1,0,1}*(0.36*(C187-5.38720621))^{0,2,0,2,0,1,2,1,4,4})","v":-5693465.1738227727}]
[185,null,null,null,{"$f":"155000+SUM({190094.945,-11832.228,-144.221,-32.391,-0.705,-2.34,-0.608,-0.008,0.148}*(0.36*(B188-52.1551744))^{0,1,2,0,1,3,1,0,2}*(0.36*(C188-5.38720621))^{1,1,1,3,0,1,3,2,3})","v":-576174.57035138155},{"$f":"463000+SUM({309056.544,3638.893,73.077,-157.984,59.788,0.433,-6.439,-0.032,0.092,-0.054}*(0.36*(B188-52.1551744))^{1,0,2,1,3,0,2,1,0,1}*(0.36*(C188-5.38720621))^{0,2,0,2,0,1,2,1,4,4})","v":-5693465.1738227727}]
[186,null,null,null,{"$f":"155000+SUM({190094.945,-11832.228,-144.221,-32.391,-0.705,-2.34,-0.608,-0.008,0.148}*(0.36*(B189-52.1551744))^{0,1,2,0,1,3,1,0,2}*(0.36*(C189-5.38720621))^{1,1,1,3,0,1,3,2,3})","v":-576174.57035138155},{"$f":"463000+SUM({309056.544,3638.893,73.077,-157.984,59.788,0.433,-6.439,-0.032,0.092,-0.054}*(0.36*(B189-52.1551744))^{1,0,2,1,3,0,2,1,0,1}*(0.36*(C189-5.38720621))^{0,2,0,2,0,1,2,1,4,4})","v":-5693465.1738227727}]
[187,null,null,null,{"$f":"155000+SUM({190094.945,-11832.228,-144.221,-32.391,-0.705,-2.34,-0.608,-0.008,0.148}*(0.36*(B190-52.1551744))^{0,1,2,0,1,3,1,0,2}*(0.36*(C190-5.38720621))^{1,1,1,3,0,1,3,2,3})","v":-576174.57035138155},{"$f":"463000+SUM({309056.544,3638.893,73.077,-157.984,59.788,0.433,-6.439,-0.032,0.092,-0.054}*(0.36*(B190-52.1551744))^{1,0,2,1,3,0,2,1,0,1}*(0.36*(C190-5.38720621))^{0,2,0,2,0,1,2,1,4,4})","v":-5693465.1738227727}]
[188,null,null,null,{"$f":"155000+SUM({190094.945,-11832.228,-144.221,-32.391,-0.705,-2.34,-0.608,-0.008,0.148}*(0.36*(B191-52.1551744))^{0,1,2,0,1,3,1,0,2}*(0.36*(C191-5.38720621))^{1,1,1,3,0,1,3,2,3})","v":-576174.57035138155},{"$f":"463000+SUM({309056.544,3638.893,73.077,-157.984,59.788,0.433,-6.439,-0.032,0.092,-0.054}*(0.36*(B191-52.1551744))^{1,0,2,1,3,0,2,1,0,1}*(0.36*(C191-5.38720621))^{0,2,0,2,0,1,2,1,4,4})","v":-5693465.1738227727}]
[189,null,null,null,{"$f":"155000+SUM({190094.945,-11832.228,-144.221,-32.391,-0.705,-2.34,-0.608,-0.008,0.148}*(0.36*(B192-52.1551744))^{0,1,2,0,1,3,1,0,2}*(0.36*(C192-5.38720621))^{1,1,1,3,0,1,3,2,3})","v":-576174.57035138155},{"$f":"463000+SUM({309056.544,3638.893,73.077,-157.984,59.788,0.433,-6.439,-0.032,0.092,-0.054}*(0.36*(B192-52.1551744))^{1,0,2,1,3,0,2,1,0,1}*(0.36*(C192-5.38720621))^{0,2,0,2,0,1,2,1,4,4})","v":-5693465.1738227727}]
[190,null,null,null,{"$f":"155000+SUM({190094.945,-11832.228,-144.221,-32.391,-0.705,-2.34,-0.608,-0.008,0.148}*(0.36*(B193-52.1551744))^{0,1,2,0,1,3,1,0,2}*(0.36*(C193-5.38720621))^{1,1,1,3,0,1,3,2,3})","v":-576174.57035138155},{"$f":"463000+SUM({309056.544,3638.893,73.077,-157.984,59.788,0.433,-6.439,-0.032,0.092,-0.054}*(0.36*(B193-52.1551744))^{1,0,2,1,3,0,2,1,0,1}*(0.36*(C193-5.38720621))^{0,2,0,2,0,1,2,1,4,4})","v":-5693465.1738227727}]
[191,null,null,null,{"$f":"155000+SUM({190094.945,-11832.228,-144.221,-32.391,-0.705,-2.34,-0.608,-0.008,0.148}*(0.36*(B194-52.1551744))^{0,1,2,0,1,3,1,0,2}*(0.36*(C194-5.38720621))^{1,1,1,3,0,1,3,2,3})","v":-576174.57035138155},{"$f":"463000+SUM({309056.544,3638.893,73.077,-157.984,59.788,0.433,-6.439,-0.032,0.092,-0.054}*(0.36*(B194-52.1551744))^{1,0,2,1,3,0,2,1,0,1}*(0.36*(C194-5.38720621))^{0,2,0,2,0,1,2,1,4,4})","v":-5693465.1738227727}]
[192,null,null,null,{"$f":"155000+SUM({190094.945,-11832.228,-144.221,-32.391,-0.705,-2.34,-0.608,-0.008,0.148}*(0.36*(B195-52.1551744))^{0,1,2,0,1,3,1,0,2}*(0.36*(C195-5.38720621))^{1,1,1,3,0,1,3,2,3})","v":-576174.57035138155},{"$f":"463000+SUM({309056.544,3638.893,73.077,-157.984,59.788,0.433,-6.439,-0.032,0.092,-0.054}*(0.36*(B195-52.1551744))^{1,0,2,1,3,0,2,1,0,1}*(0.36*(C195-5.38720621))^{0,2,0,2,0,1,2,1,4,4})","v":-5693465.1738227727}]
[193,null,null,null,{"$f":"155000+SUM({190094.945,-11832.228,-144.221,-32.391,-0.705,-2.34,-0.608,-0.008,0.148}*(0.36*(B196-52.1551744))^{0,1,2,0,1,3,1,0,2}*(0.36*(C196-5.38720621))^{1,1,1,3,0,1,3,2,3})","v":-576174.57035138155},{"$f":"463000+SUM({309056.544,3638.893,73.077,-157.984,59.788,0.433,-6.439,-0.032,0.092,-0.054}*(0.36*(B196-52.1551744))^{1,0,2,1,3,0,2,1,0,1}*(0.36*(C196-5.38720621))^{0,2,0,2,0,1,2,1,4,4})","v":-5693465.1738227727}]
[194,null,null,null,{"$f":"155000+SUM({190094.945,-11832.228,-144.221,-32.391,-0.705,-2.34,-0.608,-0.008,0.148}*(0.36*(B197-52.1551744))^{0,1,2,0,1,3,1,0,2}*(0.36*(C197-5.38720621))^{1,1,1,3,0,1,3,2,3})","v":-576174.57035138155},{"$f":"463000+SUM({309056.544,3638.893,73.077,-157.984,59.788,0.433,-6.439,-0.032,0.092,-0.054}*(0.36*(B197-52.1551744))^{1,0,2,1,3,0,2,1,0,1}*(0.36*(C197-5.38720621))^{0,2,0,2,0,1,2,1,4,4})","v":-5693465.1738227727}]
[195,null,null,null,{"$f":"155000+SUM({190094.945,-11832.228,-144.221,-32.391,-0.705,-2.34,-0.608,-0.008,0.148}*(0.36*(B198-52.1551744))^{0,1,2,0,1,3,1,0,2}*(0.36*(C198-5.38720621))^{1,1,1,3,0,1,3,2,3})","v":-576174.57035138155},{"$f":"463000+SUM({309056.544,3638.893,73.077,-157.984,59.788,0.433,-6.439,-0.032,0.092,-0.054}*(0.36*(B198-52.1551744))^{1,0,2,1,3,0,2,1,0,1}*(0.36*(C198-5.38720621))^{0,2,0,2,0,1,2,1,4,4})","v":-5693465.1738227727}]
[196,null,null,null,{"$f":"155000+SUM({190094.945,-11832.228,-144.221,-32.391,-0.705,-2.34,-0.608,-0.008,0.148}*(0.36*(B199-52.1551744))^{0,1,2,0,1,3,1,0,2}*(0.36*(C199-5.38720621))^{1,1,1,3,0,1,3,2,3})","v":-576174.57035138155},{"$f":"463000+SUM({309056.544,3638.893,73.077,-157.984,59.788,0.433,-6.439,-0.032,0.092,-0.054}*(0.36*(B199-52.1551744))^{1,0,2,1,3,0,2,1,0,1}*(0.36*(C199-5.38720621))^{0,2,0,2,0,1,2,1,4,4})","v":-5693465.1738227727}]
[197,null,null,null,{"$f":"155000+SUM({190094.945,-11832.228,-144.221,-32.391,-0.705,-2.34,-0.608,-0.008,0.148}*(0.36*(B200-52.1551744))^{0,1,2,0,1,3,1,0,2}*(0.36*(C200-5.38720621))^{1,1,1,3,0,1,3,2,3})","v":-576174.57035138155},{"$f":"463000+SUM({309056.544,3638.893,73.077,-157.984,59.788,0.433,-6.439,-0.032,0.092,-0.054}*(0.36*(B200-52.1551744))^{1,0,2,1,3,0,2,1,0,1}*(0.36*(C200-5.38720621))^{0,2,0,2,0,1,2,1,4,4})","v":-5693465.1738227727}]
[198,null,null,null,{"$f":"155000+SUM({190094.945,-11832.228,-144.221,-32.391,-0.705,-2.34,-0.608,-0.008,0.148}*(0.36*(B201-52.1551744))^{0,1,2,0,1,3,1,0,2}*(0.36*(C201-5.38720621))^{1,1,1,3,0,1,3,2,3})","v":-576174.57035138155},{"$f":"463000+SUM({309056.544,3638.893,73.077,-157.984,59.788,0.433,-6.439,-0.032,0.092,-0.054}*(0.36*(B201-52.1551744))^{1,0,2,1,3,0,2,1,0,1}*(0.36*(C201-5.38720621))^{0,2,0,2,0,1,2,1,4,4})","v":-5693465.1738227727}]
[199,null,null,null,{"$f":"155000+SUM({190094.945,-11832.228,-144.221,-32.391,-0.705,-2.34,-0.608,-0.008,0.148}*(0.36*(B202-52.1551744))^{0,1,2,0,1,3,1,0,2}*(0.36*(C202-5.38720621))^{1,1,1,3,0,1,3,2,3})","v":-576174.57035138155},{"$f":"463000+SUM({309056.544,3638.893,73.077,-157.984,59.788,0.433,-6.439,-0.032,0.092,-0.054}*(0.36*(B202-52.1551744))^{1,0,2,1,3,0,2,1,0,1}*(0.36*(C202-5.38720621))^{0,2,0,2,0,1,2,1,4,4})","v":-5693465.1738227727}]
[200,null,null,null,{"$f":"155000+SUM({190094.945,-11832.228,-144.221,-32.391,-0.705,-2.34,-0.608,-0.008,0.148}*(0.36*(B203-52.1551744))^{0,1,2,0,1,3,1,0,2}*(0.36*(C203-5.38720621))^{1,1,1,3,0,1,3,2,3})","v":-576174.57035138155},{"$f":"463000+SUM({309056.544,3638.893,73.077,-157.984,59.788,0.433,-6.439,-0.032,0.092,-0.054}*(0.36*(B203-52.1551744))^{1,0,2,1,3,0,2,1,0,1}*(0.36*(C203-5.38720621))^{0,2,0,2,0,1,2,1,4,4})","v":-5693465.1738227727}]

{"sheet":"Postcode en huisnr","index":1,"n_rows":52,"n_cols":9,"rows_kept":52,"cut":false,"hidden":false,"merged":[]}
["Geen actie nodig (vooraf ingevuld)","Invullen","Invullen","Geen actie nodig (automatisch o.b.v. postcode + huisnummer) - invullen in SUF\n(kopiëren en plakken van waarden)","Geen actie nodig (automatisch o.b.v. postcode + huisnummer) - invullen in SUF\n(kopiëren en plakken van waarden)","Geen actie nodig (automatisch o.b.v. postcode + huisnummer)","Geen actie nodig (automatisch o.b.v. postcode + huisnummer)","Geen actie nodig (automatisch o.b.v. postcode + huisnummer)","Geen actie nodig (automatisch o.b.v. postcode + huisnummer)"]
["Meetlocatienummer","Postcode","Huisnummer","X","Y","Straatnaam","Plaats","hulpkolom 1","hulpkolom 2"]
[1,null,null,{"$f":"_xlfn.NUMBERVALUE(MID(I3,FIND(\"(\",I3)+1,FIND(\" \",I3)-FIND(\"(\",I3)-1),\".\")","v":{"$error":"#VALUE!"}},{"$f":"_xlfn.NUMBERVALUE(MID(I3,FIND(\" \",I3)+1,FIND(\")\",I3)-FIND(\" \",I3)-1),\".\")","v":{"$error":"#VALUE!"}},{"$f":"FilterXMLWebservice(HYPERLINK(\"http://geodata.nationaalgeoregister.nl/locatieserver/v3/lookup?wt=xml&id=\"&H3),\"//doc/str[28]\")","v":""},{"$f":"FilterXMLWebservice(HYPERLINK(\"http://geodata.nationaalgeoregister.nl/locatieserver/v3/lookup?wt=xml&id=\"&H3),\"//doc/str[3]\")","v":"gemeente"},{"$f":"FilterXMLWebservice(HYPERLINK(\"http://geodata.nationaalgeoregister.nl/locatieserver/v3/suggest?wt=xml&q=\"&B3&\" \"&C3),\"//str[2]\")","v":"gem-339aeade1bbb0005ba845b14d29d2c15"},{"$f":"FilterXMLWebservice(HYPERLINK(\"http://geodata.nationaalgeoregister.nl/locatieserver/v3/lookup?wt=xml&id=\"&H3),\"//doc/str[27]\")","v":""}]
[2,null,null,{"$f":"_xlfn.NUMBERVALUE(MID(I4,FIND(\"(\",I4)+1,FIND(\" \",I4)-FIND(\"(\",I4)-1),\".\")","v":{"$error":"#VALUE!"}},{"$f":"_xlfn.NUMBERVALUE(MID(I4,FIND(\" \",I4)+1,FIND(\")\",I4)-FIND(\" \",I4)-1),\".\")","v":{"$error":"#VALUE!"}},{"$f":"FilterXMLWebservice(HYPERLINK(\"http://geodata.nationaalgeoregister.nl/locatieserver/v3/lookup?wt=xml&id=\"&H4),\"//doc/str[28]\")","v":""},{"$f":"FilterXMLWebservice(HYPERLINK(\"http://geodata.nationaalgeoregister.nl/locatieserver/v3/lookup?wt=xml&id=\"&H4),\"//doc/str[3]\")","v":"gemeente"},"gem-339aeade1bbb0005ba845b14d29d2c15",{"$f":"FilterXMLWebservice(HYPERLINK(\"http://geodata.nationaalgeoregister.nl/locatieserver/v3/lookup?wt=xml&id=\"&H4),\"//doc/str[27]\")","v":""}]
[3,null,null,{"$error":"#VALUE!"},{"$error":"#VALUE!"},"","gemeente","gem-339aeade1bbb0005ba845b14d29d2c15",""]
[4,null,null,{"$error":"#VALUE!"},{"$error":"#VALUE!"},"","gemeente","gem-339aeade1bbb0005ba845b14d29d2c15",""]
[5,null,null,{"$error":"#VALUE!"},{"$error":"#VALUE!"},"","gemeente","gem-339aeade1bbb0005ba845b14d29d2c15",""]
[6,null,null,{"$error":"#VALUE!"},{"$error":"#VALUE!"},"","gemeente","gem-339aeade1bbb0005ba845b14d29d2c15",""]
[7,null,null,{"$error":"#VALUE!"},{"$error":"#VALUE!"},"","gemeente","gem-339aeade1bbb0005ba845b14d29d2c15",""]
[8,null,null,{"$error":"#VALUE!"},{"$error":"#VALUE!"},"","gemeente","gem-339aeade1bbb0005ba845b14d29d2c15",""]
[9,null,null,{"$error":"#VALUE!"},{"$error":"#VALUE!"},"","gemeente","gem-339aeade1bbb0005ba845b14d29d2c15",""]
[10,null,null,{"$error":"#VALUE!"},{"$error":"#VALUE!"},"","gemeente","gem-339aeade1bbb0005ba845b14d29d2c15",""]
[11,null,null,{"$error":"#VALUE!"},{"$error":"#VALUE!"},"","gemeente","gem-339aeade1bbb0005ba845b14d29d2c15",""]
[12,null,null,{"$error":"#VALUE!"},{"$error":"#VALUE!"},"","gemeente","gem-339aeade1bbb0005ba845b14d29d2c15",""]
[13,null,null,{"$error":"#VALUE!"},{"$error":"#VALUE!"},"","gemeente","gem-339aeade1bbb0005ba845b14d29d2c15",""]
[14,null,null,{"$error":"#VALUE!"},{"$error":"#VALUE!"},"","gemeente","gem-339aeade1bbb0005ba845b14d29d2c15",""]
[15,null,null,{"$error":"#VALUE!"},{"$error":"#VALUE!"},"","gemeente","gem-339aeade1bbb0005ba845b14d29d2c15",""]
[16,null,null,{"$error":"#VALUE!"},{"$error":"#VALUE!"},"","gemeente","gem-339aeade1bbb0005ba845b14d29d2c15",""]
[17,null,null,{"$error":"#VALUE!"},{"$error":"#VALUE!"},"","gemeente","gem-339aeade1bbb0005ba845b14d29d2c15",""]
[18,null,null,{"$error":"#VALUE!"},{"$error":"#VALUE!"},"","gemeente","gem-339aeade1bbb0005ba845b14d29d2c15",""]
[19,null,null,{"$error":"#VALUE!"},{"$error":"#VALUE!"},"","gemeente","gem-339aeade1bbb0005ba845b14d29d2c15",""]
[20,null,null,{"$error":"#VALUE!"},{"$error":"#VALUE!"},"","gemeente","gem-339aeade1bbb0005ba845b14d29d2c15",""]
[21,null,null,{"$error":"#VALUE!"},{"$error":"#VALUE!"},"","gemeente","gem-339aeade1bbb0005ba845b14d29d2c15",""]
[22,null,null,{"$error":"#VALUE!"},{"$error":"#VALUE!"},"","gemeente","gem-339aeade1bbb0005ba845b14d29d2c15",""]
[23,null,null,{"$error":"#VALUE!"},{"$error":"#VALUE!"},"","gemeente","gem-339aeade1bbb0005ba845b14d29d2c15",""]
[24,null,null,{"$error":"#VALUE!"},{"$error":"#VALUE!"},"","gemeente","gem-339aeade1bbb0005ba845b14d29d2c15",""]
[25,null,null,{"$error":"#VALUE!"},{"$error":"#VALUE!"},"","gemeente","gem-339aeade1bbb0005ba845b14d29d2c15",""]
[26,null,null,{"$error":"#VALUE!"},{"$error":"#VALUE!"},"","gemeente","gem-339aeade1bbb0005ba845b14d29d2c15",""]
[27,null,null,{"$error":"#VALUE!"},{"$error":"#VALUE!"},"","gemeente","gem-339aeade1bbb0005ba845b14d29d2c15",""]
[28,null,null,{"$error":"#VALUE!"},{"$error":"#VALUE!"},"","gemeente","gem-339aeade1bbb0005ba845b14d29d2c15",""]
[29,null,null,{"$error":"#VALUE!"},{"$error":"#VALUE!"},"","gemeente","gem-339aeade1bbb0005ba845b14d29d2c15",""]
[30,null,null,{"$error":"#VALUE!"},{"$error":"#VALUE!"},"","gemeente","gem-339aeade1bbb0005ba845b14d29d2c15",""]
[31,null,null,{"$error":"#VALUE!"},{"$error":"#VALUE!"},"","gemeente","gem-339aeade1bbb0005ba845b14d29d2c15",""]
[32,null,null,{"$error":"#VALUE!"},{"$error":"#VALUE!"},"","gemeente","gem-339aeade1bbb0005ba845b14d29d2c15",""]
[33,null,null,{"$error":"#VALUE!"},{"$error":"#VALUE!"},"","gemeente",{"$f":"FilterXMLWebservice(HYPERLINK(\"http://geodata.nationaalgeoregister.nl/locatieserver/v3/suggest?wt=xml&q=\"&B35&\" \"&C35),\"//str[2]\")","v":"gem-339aeade1bbb0005ba845b14d29d2c15"},""]
[34,null,null,{"$error":"#VALUE!"},{"$error":"#VALUE!"},"","gemeente","gem-339aeade1bbb0005ba845b14d29d2c15",""]
[35,null,null,{"$error":"#VALUE!"},{"$error":"#VALUE!"},"","gemeente","gem-339aeade1bbb0005ba845b14d29d2c15",""]
[36,null,null,{"$error":"#VALUE!"},{"$error":"#VALUE!"},"","gemeente","gem-339aeade1bbb0005ba845b14d29d2c15",""]
[37,null,null,{"$error":"#VALUE!"},{"$error":"#VALUE!"},"","gemeente","gem-339aeade1bbb0005ba845b14d29d2c15",""]
[38,null,null,{"$error":"#VALUE!"},{"$error":"#VALUE!"},"","gemeente","gem-339aeade1bbb0005ba845b14d29d2c15",""]
[39,null,null,{"$error":"#VALUE!"},{"$error":"#VALUE!"},"","gemeente","gem-339aeade1bbb0005ba845b14d29d2c15",""]
[40,null,null,{"$error":"#VALUE!"},{"$error":"#VALUE!"},"","gemeente","gem-339aeade1bbb0005ba845b14d29d2c15",""]
[41,null,null,{"$error":"#VALUE!"},{"$error":"#VALUE!"},"","gemeente","gem-339aeade1bbb0005ba845b14d29d2c15",""]
[42,null,null,{"$error":"#VALUE!"},{"$error":"#VALUE!"},"","gemeente","gem-339aeade1bbb0005ba845b14d29d2c15",""]
[43,null,null,{"$error":"#VALUE!"},{"$error":"#VALUE!"},"","gemeente","gem-339aeade1bbb0005ba845b14d29d2c15",""]
[44,null,null,{"$error":"#VALUE!"},{"$error":"#VALUE!"},"","gemeente","gem-339aeade1bbb0005ba845b14d29d2c15",""]
[45,null,null,{"$error":"#VALUE!"},{"$error":"#VALUE!"},"","gemeente","gem-339aeade1bbb0005ba845b14d29d2c15",""]
[46,null,null,{"$error":"#VALUE!"},{"$error":"#VALUE!"},"","gemeente","gem-339aeade1bbb0005ba845b14d29d2c15",""]
[47,null,null,{"$error":"#VALUE!"},{"$error":"#VALUE!"},"","gemeente","gem-339aeade1bbb0005ba845b14d29d2c15",""]
[48,null,null,{"$error":"#VALUE!"},{"$error":"#VALUE!"},"","gemeente","gem-339aeade1bbb0005ba845b14d29d2c15",""]
[49,null,null,{"$error":"#VALUE!"},{"$error":"#VALUE!"},"","gemeente","gem-339aeade1bbb0005ba845b14d29d2c15",""]
[50,null,null,{"$error":"#VALUE!"},{"$error":"#VALUE!"},"","gemeente","gem-339aeade1bbb0005ba845b14d29d2c15",""]

{"sheet":"Calc","index":2,"n_rows":35,"n_cols":21,"rows_kept":35,"cut":false,"hidden":true,"merged":[]}
["Constanten:",null,null,"rd2bessel",null,null,"bessel2wgs84",null,null,"wgs842bessel",null,null,"bessel2rd"]
[null,null,null,"RD X",123000,">>","Lat",{"$f":"$H$9","v":52.086838788333779},null,"Lat",53.196971160537878,">>","RD X",{"$f":"ROUND($N$24,0)","v":182000},null,"wgs842utm",null,null,"Zone",{"$f":"WGS842UTM!C7","v":31}]
[null,null,null,"RD Y",455500,">>","Long",{"$f":"$H$10","v":4.9203131348475875},null,"Long",5.7912154028508089,">>","RD Y",{"$f":"ROUND($N$25,0)","v":579000},null,"Lat",53.196971160537878,">>","Easting",{"$f":"WGS842UTM!E40","v":686445.11549506022}]
[null,null,null,null,null,null,null,null,null,null,null,null,null,null,null,"Long",5.7912154028508089,">>","Northing",{"$f":"WGS842UTM!K40","v":15897819.864972617}]
["x0",155000,null,"d_1",{"$f":"$E$2-$B$5","v":-32000},null,"dphi",{"$f":"$E$32-52","v":8.7817596137277576E-2},null,"dphi",{"$f":"$K$2-52","v":1.1969711605378777},null,"phi",{"$f":"$K$9/180*PI()","v":0.92848166889172323}]
["y0",463000,null,"d_2",{"$f":"$E$3-$B$6","v":-7500},null,"dlam",{"$f":"$E$31-5","v":-7.9319767902662264E-2},null,"dlam",{"$f":"$K$3-5","v":0.79121540285080894},null,"lambda",{"$f":"$K$10/180*PI()","v":0.1010843482992741},null,"utm2wgs84"]
["k",0.99990789999999996,null,"r",{"$f":"SQRT($E$5*$E$5+$E$6*$E$6)","v":32867.156859089591},null,"phicor",{"$f":"(-96.862-$H$5*11.714-$H$6*0.125)*0.00001","v":-9.7880780350164233E-4},null,"phicor",{"$f":"(-96.862-$K$5*11.714-$K$6*0.125)*0.00001","v":-1.1098222209989705E-3},null,"qprime",{"$f":"LN(TAN($N$5/2+PI()/4))","v":1.1005912730076206},null,"Zone",31]
["bigr",6382644.5710000005,null,"sa",{"$f":"IF($E$7<>0,($E$2-$B$5)/$E$7,0)","v":-0.97361631056780096},null,"lamcor",{"$f":"($H$5*0.329-37.902-$H$6*14.667)*0.00001","v":-3.6709724975042492E-4},null,"lamcor",{"$f":"($K$5*0.329-37.902-$K$6*14.667)*0.00001","v":-4.9112952801795865E-4},null,"dq",{"$f":"$B$16/2*LN(($B$16*SIN($N$5)+1)/(1-$B$16*SIN($N$5)))","v":5.3518879744314874E-3},null,"Easting",649333.28004574066,">>","Lat",{"$f":"UTM2WGS84!F42","v":52.500000004432707}]
["m",3.7739538320000002E-3,null,"ca",{"$f":"IF($E$7<>0,($E$3-$B$6)/$E$7,0)","v":-0.22819132278932835},null,"phiwgs",{"$f":"$E$32+$H$7","v":52.086838788333779},null,"phibes",{"$f":"$K$2-$K$7","v":53.198080982758874},null,"q",{"$f":"$N$7-$N$8","v":1.0952393850331892},null,"Northing",15818927.034043495,">>","Long",{"$f":"UTM2WGS84!P42","v":5.2000000002211095}]
["n",1.0004758566800001,null,"psi",{"$f":"ATAN2($B$7*2*$B$8,$E$7)*2","v":5.1499204114640335E-3},null,"lamwgs",{"$f":"$E$31+$H$8","v":4.9203131348475875},null,"lambes",{"$f":"$K$3-$K$8","v":5.7917065323788268},null,"w",{"$f":"$B$10*$N$9+$B$9","v":1.0995345158427565}]
["pi",{"$f":"PI()","v":3.1415926535897931},null,"cpsi",{"$f":"COS($E$10)","v":0.99998673918918612},null,null,null,null,null,null,null,"b",{"$f":"ATAN(EXP($N$10))*2-PI()/2","v":0.9278483502076682}]
["lambda0",{"$f":"PI()*0.0299313271611111","v":9.4032037521539269E-2},null,"spsi",{"$f":"SIN($E$10)","v":5.1498976474038142E-3},null,null,null,null,null,null,null,"dl",{"$f":"$B$10*($N$6-$B$12)","v":7.0556666669278484E-3},null,"wgs842ukgrid",null,null,"Code",{"$f":"UK!C3","v":"TO"}]
["phi0",{"$f":"PI()*0.289756447533333","v":0.91029672690099539},null,"sb",{"$f":"$E$9*COS($B$15)*$E$12+SIN($B$15)*$E$11","v":0.78857821126251793},null,null,null,null,null,null,null,"d_1",{"$f":"SIN(($N$11-$B$15)/2)","v":9.0816718877781265E-3},null,"Lat",51.504750000000001,">>","Easting",{"$f":"UK!D3","v":78455},{"$f":"UK!D4","v":878455}]
["l0",{"$f":"PI()*0.0299313271611111","v":9.4032037521539269E-2},null,"d_1",{"$f":"$E$13","v":0.78857821126251793},null,null,null,null,null,null,null,"d_2",{"$f":"SIN($N$12/2)","v":3.5278260157966682E-3},null,"Long",4.8959169999999999,">>","Northing",{"$f":"UK!E3","v":1007},{"$f":"UK!E4","v":201007}]
["b0",{"$f":"PI()*0.289561651383333","v":0.90968475674720772},null,"cb",{"$f":"SQRT(1-$E$14^2)","v":0.61493447189274375},null,null,null,null,null,null,null,"s2psihalf",{"$f":"$N$13*$N$13+$N$14*$N$14*COS($N$11)*COS($B$15)","v":8.7058284854791033E-5}]
["e",8.1696831220000002E-2,null,"b",{"$f":"ACOS($E$15)","v":0.90849345950838434},null,null,null,null,null,null,null,"cpsihalf",{"$f":"SQRT(1-$N$15)","v":0.9999564699101382},null,"ukgrid2wgs84"]
["a",6377397.1550000003,null,"sdl",{"$f":"$E$8*$E$12/$E$15","v":-8.1537538980928047E-3},null,null,null,null,null,null,null,"spsihalf",{"$f":"SQRT($N$15)","v":9.3305029261444971E-3},null,"Code","TP"]
[null,null,null,"dl",{"$f":"ASIN($E$17)","v":-8.1538442494208455E-3},null,null,null,null,null,null,null,"tpsihalf",{"$f":"$N$17/$N$16","v":9.3309091014561751E-3},null,"Easting",43352,null,"Lat",{"$f":"UK!I3","v":52.000361002928003}]
[null,null,null,"lambda",{"$f":"$E$18/$B$10+$B$12","v":8.588207148789731E-2},null,null,null,null,null,null,null,"spsi",{"$f":"$N$17*2*$N$16","v":1.8660193537027331E-2},null,"Northing",63219,null,"Long",{"$f":"UK!J3","v":5.9194723806389264}]
[null,null,null,"w",{"$f":"LN(TAN($E$16/2+PI()/4))","v":1.0676605754692206},null,null,null,null,null,null,null,"cpsi",{"$f":"1-$N$15*2","v":0.99982588343029044}]
[null,null,null,"q",{"$f":"($E$20-$B$9)/$B$10","v":1.0633806048730092},null,null,null,null,null,null,null,"sa",{"$f":"SIN($N$12)*COS($N$11)/$N$19","v":0.22669872487144574}]
[null,null,null,"phiprime",{"$f":"ATAN(EXP($E$21))*2-PI()/2","v":0.90585711464623442},null,null,null,null,null,null,null,"ca",{"$f":"(SIN($N$11)-SIN($B$15)*$N$20)/(COS($B15)*$N$19)","v":0.97396493167960341}]
[null,null,null,"dq",{"$f":"$B$16/2*LN(($B$16*SIN($E$22)+1)/(1-$B$16*SIN($E$22)))","v":5.2596807097453286E-3},null,null,null,null,null,null,null,"r",{"$f":"$B$7*2*$B$8*$N$18","v":119100.78244538954}]
[null,null,null,"phi",{"$f":"ATAN(EXP($E$21+$E$23))*2-PI()/2","v":0.90909568433044186},null,null,null,null,null,null,null,"x",{"$f":"$N$23*$N$21+$B$5","v":181999.99551156128}]
[null,null,null,"dq",{"$f":"$B$16/2*LN(($B$16*SIN($E$24)+1)/(1-$B$16*SIN($E$24)))","v":5.2730454822192286E-3},null,null,null,null,null,null,null,"y",{"$f":"$N$23*$N$22+$B$6","v":578999.98543741112}]
[null,null,null,"phi",{"$f":"ATAN(EXP($E$21+$E$25))*2-PI()/2","v":0.90910389639801137}]
[null,null,null,"dq",{"$f":"$B$16/2*LN(($B$16*SIN($E$26)+1)/(1-$B$16*SIN($E$26)))","v":5.2730793013064867E-3}]
[null,null,null,"phi",{"$f":"ATAN(EXP($E$21+$E$27))*2-PI()/2","v":0.90910391717825023}]
[null,null,null,"dq",{"$f":"$B$16/2*LN(($B$16*SIN($E$28)+1)/(1-$B$16*SIN($E$28)))","v":5.2730793868835902E-3}]
[null,null,null,"phi",{"$f":"ATAN(EXP($E$21+$E$29))*2-PI()/2","v":0.9091039172308335}]
[null,null,null,"lambda",{"$f":"$E$19/PI()*180","v":4.9206802320973377}]
[null,null,null,"phi",{"$f":"$E$30/PI()*180","v":52.087817596137278}]
[]
["Deze berekening werd overgenomen uit de source-code van de software van Ejo Schrama <schrama@geo.tudelft.nl>."]
["De software staat op: http://pocus.geo.tudelft.nl/schrama/Public/gps/rd2wgs/"]

{"sheet":"UK","index":3,"n_rows":143,"n_cols":72,"rows_kept":143,"cut":false,"hidden":true,"merged":[]}
["LatLong - to OS","WGS84","UK Grid",null,null,null,"OS-LatLong",null,"WGS84",null,null,null,null,null,null,null,null,null,null,null,null,null,null,null,null,null,null,null,null,null,null,null,null,null,null,null,null,null,null,null,null,null,null,null,null,null,null,null,null,null,null,null,null,null,null,null,null,null,null,null,null,null,null,null,null,null,null,null,null,"OS Grid Origins"]
["LatArrayIndex",{"$f":"Calc!Q13","v":51.504750000000001},"L","E","N",null,null,null,"Latitude","Longitude"]
["LongArrayIndex",{"$f":"Calc!Q14","v":4.8959169999999999},{"$f":"B120","v":"TO"},{"$f":"B121","v":78455},{"$f":"B122","v":1007},null,"OSREF",{"$f":"Calc!Q17 & \" \" & Calc!Q18 & \" \" & Calc!Q19","v":"TP 43352 63219"},{"$f":"H67","v":52.000361002928003},{"$f":"H70","v":5.9194723806389264},null,null,null,null,null,null,null,null,null,null,null,null,null,null,null,null,null,null,null,null,null,null,null,null,null,null,null,null,null,null,null,null,null,null,null,null,null,null,null,null,null,null,null,null,null,null,null,null,null,null,null,null,null,null,null,null,null,null,null,null,"X","Y"]
[null,null,null,{"$f":"INT(B103)","v":878455},{"$f":"INT(B102)","v":201007},null,"First Space",{"$f":"FIND(\" \",H3)","v":3},null,null,null,null,null,null,null,null,null,null,null,null,null,null,null,null,null,null,null,null,null,null,null,null,null,null,null,null,null,null,null,null,null,null,null,null,null,null,null,null,null,null,null,null,null,null,null,null,null,null,null,null,null,null,null,null,null,null,null,null,null,"A",0,400]
["LatArrayIndex",{"$f":"B69","v":51.50421496140526},null,null,null,null,"SecondSpace",{"$f":"FIND(\" \",H3,H4+1)","v":9},null,null,null,null,null,null,null,null,null,null,null,null,null,null,null,null,null,null,null,null,null,null,null,null,null,null,null,null,null,null,null,null,null,null,null,null,null,null,null,null,null,null,null,null,null,null,null,null,null,null,null,null,null,null,null,null,null,null,null,null,null,"B",100,400]
["LongArrayIndex",{"$f":"B70","v":4.8979705659322317},null,null,null,null,"REFLETTERS",{"$f":"LEFT(H3,H4-1)","v":"TP"},null,null,null,null,null,null,null,null,null,null,null,null,null,null,null,null,null,null,null,null,null,null,null,null,null,null,null,null,null,null,null,null,null,null,null,null,null,null,null,null,null,null,null,null,null,null,null,null,null,null,null,null,null,null,null,null,null,null,null,null,null,"C",200,400]
[null,null,null,null,null,null,"REFEASTING",{"$f":"MID(H3,H4+1,H5-H4-1)","v":"43352"},null,null,null,null,null,null,null,null,null,null,null,null,null,null,null,null,null,null,null,null,null,null,null,null,null,null,null,null,null,null,null,null,null,null,null,null,null,null,null,null,null,null,null,null,null,null,null,null,null,null,null,null,null,null,null,null,null,null,null,null,null,"D",300,400]
[{"$f":"A102","v":"OSNorthingIndex"},{"$f":"B102","v":201007},null,null,null,null,"RefNorthing",{"$f":"RIGHT(H3,LEN(H3)-H5)","v":"63219"},null,null,null,null,null,null,null,null,null,null,null,null,null,null,null,null,null,null,null,null,null,null,null,null,null,null,null,null,null,null,null,null,null,null,null,null,null,null,null,null,null,null,null,null,null,null,null,null,null,null,null,null,null,null,null,null,null,null,null,null,null,"E",400,400]
[{"$f":"A103","v":"OSeastingIndex"},{"$f":"B103","v":878455.10539666354},null,null,null,null,"RefEasting$",{"$f":"LEFT(H7&\"00000\",5)","v":"43352"},null,null,null,null,null,null,null,null,null,null,null,null,null,null,null,null,null,null,null,null,null,null,null,null,null,null,null,null,null,null,null,null,null,null,null,null,null,null,null,null,null,null,null,null,null,null,null,null,null,null,null,null,null,null,null,null,null,null,null,null,null,"F",0,300]
[null,null,null,null,null,null,"RefNorthing$",{"$f":"LEFT(H8&\"00000\",5)","v":"63219"},null,null,null,null,null,null,null,null,null,null,null,null,null,null,null,null,null,null,null,null,null,null,null,null,null,null,null,null,null,null,null,null,null,null,null,null,null,null,null,null,null,null,null,null,null,null,null,null,null,null,null,null,null,null,null,null,null,null,null,null,null,"G",100,300]
[null,null,null,null,null,null,null,null,null,null,null,null,null,null,null,null,null,null,null,null,null,null,null,null,null,null,null,null,null,null,null,null,null,null,null,null,null,null,null,null,null,null,null,null,null,null,null,null,null,null,null,null,null,null,null,null,null,null,null,null,null,null,null,null,null,null,null,null,null,"H",200,300]
["LongArrayOrigin",-2,null,null,null,null,"EastingLetter",{"$f":"LEFT(H6,1)","v":"T"},null,null,null,null,null,null,null,null,null,null,null,null,null,null,null,null,null,null,null,null,null,null,null,null,null,null,null,null,null,null,null,null,null,null,null,null,null,null,null,null,null,null,null,null,null,null,null,null,null,null,null,null,null,null,null,null,null,null,null,null,null,"J",300,300]
["LatArrayOrigin",49,null,null,null,null,"NorthingLetter",{"$f":"RIGHT(H6,1)","v":"P"},null,null,null,null,null,null,null,null,null,null,null,null,null,null,null,null,null,null,null,null,null,null,null,null,null,null,null,null,null,null,null,null,null,null,null,null,null,null,null,null,null,null,null,null,null,null,null,null,null,null,null,null,null,null,null,null,null,null,null,null,null,"K",400,300]
["rad",{"$f":"3.14159265358979 / 180","v":1.7453292519943278E-2},null,null,null,null,null,null,null,null,null,null,null,null,null,null,null,null,null,null,null,null,null,null,null,null,null,null,null,null,null,null,null,null,null,null,null,null,null,null,null,null,null,null,null,null,null,null,null,null,null,null,null,null,null,null,null,null,null,null,null,null,null,null,null,null,null,null,null,"L",0,200]
[null,null,null,null,null,null,"eastGridLetterxInd",{"$f":" VLOOKUP(H12,$BR$4:$BT$28,2,FALSE)","v":300},null,null,null,null,null,null,null,null,null,null,null,null,null,null,null,null,null,null,null,null,null,null,null,null,null,null,null,null,null,null,null,null,null,null,null,null,null,null,null,null,null,null,null,null,null,null,null,null,null,null,null,null,null,null,null,null,null,null,null,null,null,"M",100,200]
["majsc",{"$f":"MajorAxis*MajorAxis","v":40673314869999.047},null,null,null,null,"eastGridLetterYInd",{"$f":" VLOOKUP(H12,$BR$4:$BT$28,3,FALSE)","v":100},null,null,null,null,null,null,null,null,null,null,null,null,null,null,null,null,null,null,null,null,null,null,null,null,null,null,null,null,null,null,null,null,null,null,null,null,null,null,null,null,null,null,null,null,null,null,null,null,null,null,null,null,null,null,null,null,null,null,null,null,null,"N",200,200]
["minsc",{"$f":"MinorAxis*MinorAxis","v":40402001905922.75},null,null,null,null,null,null,null,null,null,null,null,null,null,null,null,null,null,null,null,null,null,null,null,null,null,null,null,null,null,null,null,null,null,null,null,null,null,null,null,null,null,null,null,null,null,null,null,null,null,null,null,null,null,null,null,null,null,null,null,null,null,null,null,null,null,null,null,"O",300,200]
["eccsc",{"$f":"(majsc-minsc)/majsc","v":6.6705397615973369E-3},null,null,null,null,"NorthGridLetterxInd",{"$f":" VLOOKUP(H13,$BR$4:$BT$28,2,FALSE)","v":400},null,null,null,null,null,null,null,null,null,null,null,null,null,null,null,null,null,null,null,null,null,null,null,null,null,null,null,null,null,null,null,null,null,null,null,null,null,null,null,null,null,null,null,null,null,null,null,null,null,null,null,null,null,null,null,null,null,null,null,null,null,"P",400,200]
["ecc4",{"$f":"eccsc*eccsc","v":4.449610071105106E-5},null,null,null,null,"NorthGridLetterYInd",{"$f":" VLOOKUP(H13,$BR$4:$BT$28,3,FALSE)","v":200},null,null,null,null,null,null,null,null,null,null,null,null,null,null,null,null,null,null,null,null,null,null,null,null,null,null,null,null,null,null,null,null,null,null,null,null,null,null,null,null,null,null,null,null,null,null,null,null,null,null,null,null,null,null,null,null,null,null,null,null,null,"Q",0,100]
["ecc6",{"$f":"_ecc4*eccsc","v":2.9681300902910562E-7},null,null,null,null,null,null,null,null,null,null,null,null,null,null,null,null,null,null,null,null,null,null,null,null,null,null,null,null,null,null,null,null,null,null,null,null,null,null,null,null,null,null,null,null,null,null,null,null,null,null,null,null,null,null,null,null,null,null,null,null,null,null,null,null,null,null,null,"R",100,100]
["ecc2sq",{"$f":"(majsc-minsc)/minsc","v":6.7153346685161069E-3},null,null,null,null,null,null,null,null,null,null,null,null,null,null,null,null,null,null,null,null,null,null,null,null,null,null,null,null,null,null,null,null,null,null,null,null,null,null,null,null,null,null,null,null,null,null,null,null,null,null,null,null,null,null,null,null,null,null,null,null,null,null,null,null,null,null,null,"S",200,100]
[null,null,null,null,null,null,"OSEastingIndex",{"$f":"5000 * H15","v":1500000},null,null,null,null,null,null,null,null,null,null,null,null,null,null,null,null,null,null,null,null,null,null,null,null,null,null,null,null,null,null,null,null,null,null,null,null,null,null,null,null,null,null,null,null,null,null,null,null,null,null,null,null,null,null,null,null,null,null,null,null,null,"T",300,100]
["PA",{"$f":"1+0.75*eccsc+0.703125*_ecc4+0.068359375*_ecc6","v":1.0050342114319621},null,null,null,null,"OSNorthingIndex",{"$f":"5000 * H16","v":500000},null,null,null,null,null,null,null,null,null,null,null,null,null,null,null,null,null,null,null,null,null,null,null,null,null,null,null,null,null,null,null,null,null,null,null,null,null,null,null,null,null,null,null,null,null,null,null,null,null,null,null,null,null,null,null,null,null,null,null,null,null,"U",400,100]
["PB",{"$f":"0.75*eccsc+0.9375*_ecc4+1.025390625*_ecc6","v":5.0449242648914492E-3},null,null,null,null,null,null,null,null,null,null,null,null,null,null,null,null,null,null,null,null,null,null,null,null,null,null,null,null,null,null,null,null,null,null,null,null,null,null,null,null,null,null,null,null,null,null,null,null,null,null,null,null,null,null,null,null,null,null,null,null,null,null,null,null,null,null,null,"V",0,0]
["PC",{"$f":"0.234375 * _ecc4+0.41015625*_ecc6","v":1.0550513314887187E-5},null,null,null,null,"OSEastingIndex",{"$f":"H22+H18*1000","v":1900000},null,null,null,null,null,null,null,null,null,null,null,null,null,null,null,null,null,null,null,null,null,null,null,null,null,null,null,null,null,null,null,null,null,null,null,null,null,null,null,null,null,null,null,null,null,null,null,null,null,null,null,null,null,null,null,null,null,null,null,null,null,"W",100,0]
[null,null,null,null,null,null,"OSNorthingIndex",{"$f":"H23+H19*1000","v":700000},null,null,null,null,null,null,null,null,null,null,null,null,null,null,null,null,null,null,null,null,null,null,null,null,null,null,null,null,null,null,null,null,null,null,null,null,null,null,null,null,null,null,null,null,null,null,null,null,null,null,null,null,null,null,null,null,null,null,null,null,null,"X",200,0]
["OSNorthingOrigin",5527063,null,null,null,null,"OSEastingIndex",{"$f":"H25+H9-1000000","v":943352},null,null,null,null,null,null,null,null,null,null,null,null,null,null,null,null,null,null,null,null,null,null,null,null,null,null,null,null,null,null,null,null,null,null,null,null,null,null,null,null,null,null,null,null,null,null,null,null,null,null,null,null,null,null,null,null,null,null,null,null,null,"Y",300,0]
["OSEastingOrigin",-400000,null,null,null,null,"OSNorthingIndex",{"$f":"H26+H10-500000","v":263219},null,null,null,null,null,null,null,null,null,null,null,null,null,null,null,null,null,null,null,null,null,null,null,null,null,null,null,null,null,null,null,null,null,null,null,null,null,null,null,null,null,null,null,null,null,null,null,null,null,null,null,null,null,null,null,null,null,null,null,null,null,"Z",400,0]
["molod_WGS84_f",{"$f":" 1 / 298.257223563","v":3.3528106647474805E-3}]
[null,null,null,null,null,null,"Convert Co-ords to Lat Long"]
["LatArrayIndex",{"$f":"B2","v":51.504750000000001}]
["LongArrayIndex",{"$f":"B3","v":4.8959169999999999},null,null,null,null,"K",{"$f":"1/(rad * MajorAxis)","v":8.9839607943400792E-6},null,"Iteration 1",null,null,"Iteration 2",null,null,"Iteration 3",null,null,"Iteration 4",null,null,"Iteration 5",null,null,"Iteration 6",null,null,"Iteration 7",null,null,"Iteration 8",null,null,"Iteration 9",null,null,"Iteration 10",null,null,"Iteration 11",null,null,"Iteration 12",null,null,"Iteration 13",null,null,"Iteration 14",null,null,"Iteration 15",null,null,"Iteration 16",null,null,"Iteration 17",null,null,"Iteration 18",null,null,"Iteration 19",null,null,"Iteration 20"]
[null,null,null,null,null,null,"LatitudeSeed",52,null,"Longi",{"$f":"rad*(H34-LongArrayOrigin)","v":-1.7453292519943278E-2},null,"Longi",{"$f":"rad*(K63-LongArrayOrigin)","v":0.13933288972281924},null,"Longi",{"$f":"rad*(N63-LongArrayOrigin)","v":0.13908044705783518},null,"Longi",{"$f":"rad*(Q63-LongArrayOrigin)","v":0.13824907984561993},null,"Longi",{"$f":"rad*(T63-LongArrayOrigin)","v":0.13824884276054833},null,"Longi",{"$f":"rad*(W63-LongArrayOrigin)","v":0.13825883864474026},null,"Longi",{"$f":"rad*(Z63-LongArrayOrigin)","v":0.13825887334054041},null,"Longi",{"$f":"rad*(AC63-LongArrayOrigin)","v":0.1382587617424173},null,"Longi",{"$f":"rad*(AF63-LongArrayOrigin)","v":0.13825876166684581},null,"Longi",{"$f":"rad*(AI63-LongArrayOrigin)","v":0.13825876166679468},null,"Longi",{"$f":"rad*(AL63-LongArrayOrigin)","v":0.13825876166679468},null,"Longi",{"$f":"rad*(AO63-LongArrayOrigin)","v":0.13825876166679468},null,"Longi",{"$f":"rad*(AR63-LongArrayOrigin)","v":0.13825876166679468},null,"Longi",{"$f":"rad*(AU63-LongArrayOrigin)","v":0.13825876166679468},null,"Longi",{"$f":"rad*(AX63-LongArrayOrigin)","v":0.13825876166679468},null,"Longi",{"$f":"rad*(BA63-LongArrayOrigin)","v":0.13825876166679468},null,"Longi",{"$f":"rad*(BD63-LongArrayOrigin)","v":0.13825876166679468},null,"Longi",{"$f":"rad*(BG63-LongArrayOrigin)","v":0.13825876166679468},null,"Longi",{"$f":"rad*(BJ63-LongArrayOrigin)","v":0.13825876166679468},null,"Longi",{"$f":"rad*(BM63-LongArrayOrigin)","v":0.13825876166679468}]
[null,null,null,null,null,null,"LongitudeSeed",-3,null,"Lati",{"$f":"rad*H33","v":0.90757121103705041},null,"Lati",{"$f":"rad*K62","v":0.91214878659261101},null,"Lati",{"$f":"rad*N62","v":0.90751096519226992},null,"Lati",{"$f":"rad*Q62","v":0.90751284678861877},null,"Lati",{"$f":"rad*T62","v":0.9075691378793862},null,"Lati",{"$f":"rad*W62","v":0.90756929467908198},null,"Lati",{"$f":"rad*Z62","v":0.90756866748029907},null,"Lati",{"$f":"rad*AC62","v":0.90756866748029907},null,"Lati",{"$f":"rad*AF62","v":0.90756866748029907},null,"Lati",{"$f":"rad*AI62","v":0.90756866748029907},null,"Lati",{"$f":"rad*AL62","v":0.90756866748029907},null,"Lati",{"$f":"rad*AO62","v":0.90756866748029907},null,"Lati",{"$f":"rad*AR62","v":0.90756866748029907},null,"Lati",{"$f":"rad*AU62","v":0.90756866748029907},null,"Lati",{"$f":"rad*AX62","v":0.90756866748029907},null,"Lati",{"$f":"rad*BA62","v":0.90756866748029907},null,"Lati",{"$f":"rad*BD62","v":0.90756866748029907},null,"Lati",{"$f":"rad*BG62","v":0.90756866748029907},null,"Lati",{"$f":"rad*BJ62","v":0.90756866748029907},null,"Lati",{"$f":"rad*BM62","v":0.90756866748029907}]
[null,null,null,null,null,null,null,null,null,"t",{"$f":"TAN(K34)","v":1.2799416321930761},null,"t",{"$f":"TAN(N34)","v":1.2920896842123677},null,"t",{"$f":"TAN(Q34)","v":1.2797827008132234},null,"t",{"$f":"TAN(T34)","v":1.2797876641823653},null,"t",{"$f":"TAN(W34)","v":1.2799361626981758},null,"t",{"$f":"TAN(Z34)","v":1.279936576372952},null,"t",{"$f":"TAN(AC34)","v":1.2799349216748439},null,"t",{"$f":"TAN(AF34)","v":1.2799349216748439},null,"t",{"$f":"TAN(AI34)","v":1.2799349216748439},null,"t",{"$f":"TAN(AL34)","v":1.2799349216748439},null,"t",{"$f":"TAN(AO34)","v":1.2799349216748439},null,"t",{"$f":"TAN(AR34)","v":1.2799349216748439},null,"t",{"$f":"TAN(AU34)","v":1.2799349216748439},null,"t",{"$f":"TAN(AX34)","v":1.2799349216748439},null,"t",{"$f":"TAN(BA34)","v":1.2799349216748439},null,"t",{"$f":"TAN(BD34)","v":1.2799349216748439},null,"t",{"$f":"TAN(BG34)","v":1.2799349216748439},null,"t",{"$f":"TAN(BJ34)","v":1.2799349216748439},null,"t",{"$f":"TAN(BM34)","v":1.2799349216748439},null,"t",{"$f":"TAN(BP34)","v":1.2799349216748439}]
["Index",null,null,null,null,null,"Split into 20 iterations on right",null,null,"tsq",{"$f":"K35*K35","v":1.6382505818210757},null,"tsq",{"$f":"N35*N35","v":1.669495752048016},null,"tsq",{"$f":"Q35*Q35","v":1.6378437613007886},null,"tsq",{"$f":"T35*T35","v":1.6378564653933547},null,"tsq",{"$f":"W35*W35","v":1.6382365805825312},null,"tsq",{"$f":"Z35*Z35","v":1.6382376395373135},null,"tsq",{"$f":"AC35*AC35","v":1.6382334037227888},null,"tsq",{"$f":"AF35*AF35","v":1.6382334037227888},null,"tsq",{"$f":"AI35*AI35","v":1.6382334037227888},null,"tsq",{"$f":"AL35*AL35","v":1.6382334037227888},null,"tsq",{"$f":"AO35*AO35","v":1.6382334037227888},null,"tsq",{"$f":"AR35*AR35","v":1.6382334037227888},null,"tsq",{"$f":"AU35*AU35","v":1.6382334037227888},null,"tsq",{"$f":"AX35*AX35","v":1.6382334037227888},null,"tsq",{"$f":"BA35*BA35","v":1.6382334037227888},null,"tsq",{"$f":"BD35*BD35","v":1.6382334037227888},null,"tsq",{"$f":"BG35*BG35","v":1.6382334037227888},null,"tsq",{"$f":"BJ35*BJ35","v":1.6382334037227888},null,"tsq",{"$f":"BM35*BM35","v":1.6382334037227888},null,"tsq",{"$f":"BP35*BP35","v":1.6382334037227888}]
["to84",-1,null,null,null,null,null,null,null,"L",{"$f":"K33*COS(K34)","v":-1.0745319822118569E-2},null,"L",{"$f":"N33*COS(N34)","v":8.5278396818758692E-2},null,"L",{"$f":"Q33*COS(Q34)","v":8.5633075826278465E-2},null,"L",{"$f":"T33*COS(T34)","v":8.5120990619237252E-2},null,"L",{"$f":"W33*COS(W34)","v":8.5114712348902014E-2},null,"L",{"$f":"Z33*COS(Z34)","v":8.5120849362826531E-2},null,"L",{"$f":"AC33*COS(AC34)","v":8.5120939056607975E-2},null,"L",{"$f":"AF33*COS(AF34)","v":8.5120870349719185E-2},null,"L",{"$f":"AI33*COS(AI34)","v":8.512087030319257E-2},null,"L",{"$f":"AL33*COS(AL34)","v":8.5120870303161095E-2},null,"L",{"$f":"AO33*COS(AO34)","v":8.5120870303161095E-2},null,"L",{"$f":"AR33*COS(AR34)","v":8.5120870303161095E-2},null,"L",{"$f":"AU33*COS(AU34)","v":8.5120870303161095E-2},null,"L",{"$f":"AX33*COS(AX34)","v":8.5120870303161095E-2},null,"L",{"$f":"BA33*COS(BA34)","v":8.5120870303161095E-2},null,"L",{"$f":"BD33*COS(BD34)","v":8.5120870303161095E-2},null,"L",{"$f":"BG33*COS(BG34)","v":8.5120870303161095E-2},null,"L",{"$f":"BJ33*COS(BJ34)","v":8.5120870303161095E-2},null,"L",{"$f":"BM33*COS(BM34)","v":8.5120870303161095E-2},null,"L",{"$f":"BP33*COS(BP34)","v":8.5120870303161095E-2}]
["da",{"$f":"Molod_Da*$B$37","v":-573.60400000000004},null,null,null,null,"LatitudeArrayIndex",{"$f":"BP62","v":51.999854264933191},null,"Lsq",{"$f":"K37*K37","v":1.1546189807961424E-4},null,"Lsq",{"$f":"N37*N37","v":7.2724049639776725E-3},null,"Lsq",{"$f":"Q37*Q37","v":7.3330236754691573E-3},null,"Lsq",{"$f":"T37*T37","v":7.2455830440002764E-3},null,"Lsq",{"$f":"W37*W37","v":7.244514258236333E-3},null,"Lsq",{"$f":"Z37*Z37","v":7.2455589962490061E-3},null,"Lsq",{"$f":"AC37*AC37","v":7.2455742658787689E-3},null,"Lsq",{"$f":"AF37*AF37","v":7.2455625690937024E-3},null,"Lsq",{"$f":"AI37*AI37","v":7.2455625611729307E-3},null,"Lsq",{"$f":"AL37*AL37","v":7.2455625611675721E-3},null,"Lsq",{"$f":"AO37*AO37","v":7.2455625611675721E-3},null,"Lsq",{"$f":"AR37*AR37","v":7.2455625611675721E-3},null,"Lsq",{"$f":"AU37*AU37","v":7.2455625611675721E-3},null,"Lsq",{"$f":"AX37*AX37","v":7.2455625611675721E-3},null,"Lsq",{"$f":"BA37*BA37","v":7.2455625611675721E-3},null,"Lsq",{"$f":"BD37*BD37","v":7.2455625611675721E-3},null,"Lsq",{"$f":"BG37*BG37","v":7.2455625611675721E-3},null,"Lsq",{"$f":"BJ37*BJ37","v":7.2455625611675721E-3},null,"Lsq",{"$f":"BM37*BM37","v":7.2455625611675721E-3},null,"Lsq",{"$f":"BP37*BP37","v":7.2455625611675721E-3}]
["df",{"$f":"Molod_Df*$B$37","v":-1.1960023E-5},null,null,null,null,"LongitudeArrayIndex",{"$f":"BP63","v":5.9216435242124739},null,"etas",{"$f":"COS(K34)","v":0.61566147532565907},null,"etas",{"$f":"COS(N34)","v":0.61204785882505264},null,"etas",{"$f":"COS(Q34)","v":0.61570894858188674},null,"etas",{"$f":"COS(T34)","v":0.61570746593243308},null,"etas",{"$f":"COS(W34)","v":0.61566310899486931},null,"etas",{"$f":"COS(Z34)","v":0.61566298543521547},null,"etas",{"$f":"COS(AC34)","v":0.61566347967373991},null,"etas",{"$f":"COS(AF34)","v":0.61566347967373991},null,"etas",{"$f":"COS(AI34)","v":0.61566347967373991},null,"etas",{"$f":"COS(AL34)","v":0.61566347967373991},null,"etas",{"$f":"COS(AO34)","v":0.61566347967373991},null,"etas",{"$f":"COS(AR34)","v":0.61566347967373991},null,"etas",{"$f":"COS(AU34)","v":0.61566347967373991},null,"etas",{"$f":"COS(AX34)","v":0.61566347967373991},null,"etas",{"$f":"COS(BA34)","v":0.61566347967373991},null,"etas",{"$f":"COS(BD34)","v":0.61566347967373991},null,"etas",{"$f":"COS(BG34)","v":0.61566347967373991},null,"etas",{"$f":"COS(BJ34)","v":0.61566347967373991},null,"etas",{"$f":"COS(BM34)","v":0.61566347967373991},null,"etas",{"$f":"COS(BP34)","v":0.61566347967373991}]
["dx",{"$f":"Molod_Dx*$B$37","v":-375},null,null,null,null,null,null,null,"etasc",{"$f":"K39*K39*ecc2sq","v":2.5453740879612685E-3},null,"etasc",{"$f":"N39*N39*ecc2sq","v":2.5155817024110844E-3},null,"etasc",{"$f":"Q39*Q39*ecc2sq","v":2.5457666473789192E-3},null,"etasc",{"$f":"T39*T39*ecc2sq","v":2.5457543867970548E-3},null,"etasc",{"$f":"W39*W39*ecc2sq","v":2.5453875963744464E-3},null,"etasc",{"$f":"Z39*Z39*ecc2sq","v":2.5453865746884814E-3},null,"etasc",{"$f":"AC39*AC39*ecc2sq","v":2.5453906614328189E-3},null,"etasc",{"$f":"AF39*AF39*ecc2sq","v":2.5453906614328189E-3},null,"etasc",{"$f":"AI39*AI39*ecc2sq","v":2.5453906614328189E-3},null,"etasc",{"$f":"AL39*AL39*ecc2sq","v":2.5453906614328189E-3},null,"etasc",{"$f":"AO39*AO39*ecc2sq","v":2.5453906614328189E-3},null,"etasc",{"$f":"AR39*AR39*ecc2sq","v":2.5453906614328189E-3},null,"etasc",{"$f":"AU39*AU39*ecc2sq","v":2.5453906614328189E-3},null,"etasc",{"$f":"AX39*AX39*ecc2sq","v":2.5453906614328189E-3},null,"etasc",{"$f":"BA39*BA39*ecc2sq","v":2.5453906614328189E-3},null,"etasc",{"$f":"BD39*BD39*ecc2sq","v":2.5453906614328189E-3},null,"etasc",{"$f":"BG39*BG39*ecc2sq","v":2.5453906614328189E-3},null,"etasc",{"$f":"BJ39*BJ39*ecc2sq","v":2.5453906614328189E-3},null,"etasc",{"$f":"BM39*BM39*ecc2sq","v":2.5453906614328189E-3},null,"etasc",{"$f":"BP39*BP39*ecc2sq","v":2.5453906614328189E-3}]
["dy",{"$f":"Molod_Dy*$B$37","v":111},null,null,null,null,"to84",1,null,"nu1",{"$f":"SIN(K34)","v":0.78801075360672135},null,"nu1",{"$f":"SIN(N34)","v":0.79082072463211806},null,"nu1",{"$f":"SIN(Q34)","v":0.78797366113099709},null,"nu1",{"$f":"SIN(T34)","v":0.78797481964531191},null,"nu1",{"$f":"SIN(W34)","v":0.78800947724172177},null,"nu1",{"$f":"SIN(Z34)","v":0.78800957377750036},null,"nu1",{"$f":"SIN(AC34)","v":0.78800918763427019},null,"nu1",{"$f":"SIN(AF34)","v":0.78800918763427019},null,"nu1",{"$f":"SIN(AI34)","v":0.78800918763427019},null,"nu1",{"$f":"SIN(AL34)","v":0.78800918763427019},null,"nu1",{"$f":"SIN(AO34)","v":0.78800918763427019},null,"nu1",{"$f":"SIN(AR34)","v":0.78800918763427019},null,"nu1",{"$f":"SIN(AU34)","v":0.78800918763427019},null,"nu1",{"$f":"SIN(AX34)","v":0.78800918763427019},null,"nu1",{"$f":"SIN(BA34)","v":0.78800918763427019},null,"nu1",{"$f":"SIN(BD34)","v":0.78800918763427019},null,"nu1",{"$f":"SIN(BG34)","v":0.78800918763427019},null,"nu1",{"$f":"SIN(BJ34)","v":0.78800918763427019},null,"nu1",{"$f":"SIN(BM34)","v":0.78800918763427019},null,"nu1",{"$f":"SIN(BP34)","v":0.78800918763427019}]
["dz",{"$f":"Molod_Dz*$B$37","v":-431},null,null,null,null,"da",{"$f":"Molod_Da","v":573.60400000000004},null,"nu2",{"$f":"SQRT(1-eccsc*K41*K41)","v":0.99792677853001921},null,"nu2",{"$f":"SQRT(1-eccsc*N41*N41)","v":0.99791195085189965},null,"nu2",{"$f":"SQRT(1-eccsc*Q41*Q41)","v":0.99792697390547391},null,"nu2",{"$f":"SQRT(1-eccsc*T41*T41)","v":0.9979269678034256},null,"nu2",{"$f":"SQRT(1-eccsc*W41*W41)","v":0.99792678525311007},null,"nu2",{"$f":"SQRT(1-eccsc*Z41*Z41)","v":0.99792678474462049},null,"nu2",{"$f":"SQRT(1-eccsc*AC41*AC41)","v":0.99792678677857904},null,"nu2",{"$f":"SQRT(1-eccsc*AF41*AF41)","v":0.99792678677857904},null,"nu2",{"$f":"SQRT(1-eccsc*AI41*AI41)","v":0.99792678677857904},null,"nu2",{"$f":"SQRT(1-eccsc*AL41*AL41)","v":0.99792678677857904},null,"nu2",{"$f":"SQRT(1-eccsc*AO41*AO41)","v":0.99792678677857904},null,"nu2",{"$f":"SQRT(1-eccsc*AR41*AR41)","v":0.99792678677857904},null,"nu2",{"$f":"SQRT(1-eccsc*AU41*AU41)","v":0.99792678677857904},null,"nu2",{"$f":"SQRT(1-eccsc*AX41*AX41)","v":0.99792678677857904},null,"nu2",{"$f":"SQRT(1-eccsc*BA41*BA41)","v":0.99792678677857904},null,"nu2",{"$f":"SQRT(1-eccsc*BD41*BD41)","v":0.99792678677857904},null,"nu2",{"$f":"SQRT(1-eccsc*BG41*BG41)","v":0.99792678677857904},null,"nu2",{"$f":"SQRT(1-eccsc*BJ41*BJ41)","v":0.99792678677857904},null,"nu2",{"$f":"SQRT(1-eccsc*BM41*BM41)","v":0.99792678677857904},null,"nu2",{"$f":"SQRT(1-eccsc*BP41*BP41)","v":0.99792678677857904}]
[null,null,null,null,null,null,"df",{"$f":"Molod_Df","v":1.1960023E-5},null,"nu",{"$f":"ROUND(MajorAxis/K42,0)","v":6390813},null,"nu",{"$f":"ROUND(MajorAxis/N42,0)","v":6390908},null,"nu",{"$f":"ROUND(MajorAxis/Q42,0)","v":6390812},null,"nu",{"$f":"ROUND(MajorAxis/T42,0)","v":6390812},null,"nu",{"$f":"ROUND(MajorAxis/W42,0)","v":6390813},null,"nu",{"$f":"ROUND(MajorAxis/Z42,0)","v":6390813},null,"nu",{"$f":"ROUND(MajorAxis/AC42,0)","v":6390813},null,"nu",{"$f":"ROUND(MajorAxis/AF42,0)","v":6390813},null,"nu",{"$f":"ROUND(MajorAxis/AI42,0)","v":6390813},null,"nu",{"$f":"ROUND(MajorAxis/AL42,0)","v":6390813},null,"nu",{"$f":"ROUND(MajorAxis/AO42,0)","v":6390813},null,"nu",{"$f":"ROUND(MajorAxis/AR42,0)","v":6390813},null,"nu",{"$f":"ROUND(MajorAxis/AU42,0)","v":6390813},null,"nu",{"$f":"ROUND(MajorAxis/AX42,0)","v":6390813},null,"nu",{"$f":"ROUND(MajorAxis/BA42,0)","v":6390813},null,"nu",{"$f":"ROUND(MajorAxis/BD42,0)","v":6390813},null,"nu",{"$f":"ROUND(MajorAxis/BG42,0)","v":6390813},null,"nu",{"$f":"ROUND(MajorAxis/BJ42,0)","v":6390813},null,"nu",{"$f":"ROUND(MajorAxis/BM42,0)","v":6390813},null,"nu",{"$f":"ROUND(MajorAxis/BP42,0)","v":6390813}]
["my_a",{"$f":"molod_WGS84_a-B38","v":6378710.6040000003},null,null,null,null,"dx",{"$f":"Molod_Dx","v":375}]
["my_f",{"$f":"molod_WGS84_f-B39","v":3.3647710229999998E-3},null,null,null,null,"dy",{"$f":"Molod_Dy","v":-111},null,"A7",{"$f":"(61-K36*(479-179*K36+K36*K36))/5040","v":-4.9148222741504391E-2},null,"A7",{"$f":"(61-N36*(479-179*N36+N36*N36))/5040","v":-4.849802277388171E-2},null,"A7",{"$f":"(61-Q36*(479-179*Q36+Q36*Q36))/5040","v":-4.9156243828928796E-2},null,"A7",{"$f":"(61-T36*(479-179*T36+T36*T36))/5040","v":-4.9155993521298021E-2},null,"A7",{"$f":"(61-W36*(479-179*W36+W36*W36))/5040","v":-4.9148498987263159E-2},null,"A7",{"$f":"(61-Z36*(479-179*Z36+Z36*Z36))/5040","v":-4.9148478094458686E-2},null,"A7",{"$f":"(61-AC36*(479-179*AC36+AC36*AC36))/5040","v":-4.9148561665120924E-2},null,"A7",{"$f":"(61-AF36*(479-179*AF36+AF36*AF36))/5040","v":-4.9148561665120924E-2},null,"A7",{"$f":"(61-AI36*(479-179*AI36+AI36*AI36))/5040","v":-4.9148561665120924E-2},null,"A7",{"$f":"(61-AL36*(479-179*AL36+AL36*AL36))/5040","v":-4.9148561665120924E-2},null,"A7",{"$f":"(61-AO36*(479-179*AO36+AO36*AO36))/5040","v":-4.9148561665120924E-2},null,"A7",{"$f":"(61-AR36*(479-179*AR36+AR36*AR36))/5040","v":-4.9148561665120924E-2},null,"A7",{"$f":"(61-AU36*(479-179*AU36+AU36*AU36))/5040","v":-4.9148561665120924E-2},null,"A7",{"$f":"(61-AX36*(479-179*AX36+AX36*AX36))/5040","v":-4.9148561665120924E-2},null,"A7",{"$f":"(61-BA36*(479-179*BA36+BA36*BA36))/5040","v":-4.9148561665120924E-2},null,"A7",{"$f":"(61-BD36*(479-179*BD36+BD36*BD36))/5040","v":-4.9148561665120924E-2},null,"A7",{"$f":"(61-BG36*(479-179*BG36+BG36*BG36))/5040","v":-4.9148561665120924E-2},null,"A7",{"$f":"(61-BJ36*(479-179*BJ36+BJ36*BJ36))/5040","v":-4.9148561665120924E-2},null,"A7",{"$f":"(61-BM36*(479-179*BM36+BM36*BM36))/5040","v":-4.9148561665120924E-2},null,"A7",{"$f":"(61-BP36*(479-179*BP36+BP36*BP36))/5040","v":-4.9148561665120924E-2}]
["my_es",{"$f":"2*B45-B45*B45","v":6.7182203619627788E-3},null,null,null,null,"dz",{"$f":"Molod_Dz","v":431},null,"A5",{"$f":"(5-K36*(18-K36)+K40*(14-58*K36))/120","v":-0.18342389983652491},null,"A5",{"$f":"(5-N36*(18-N36)+N40*(14-58*N36))/120","v":-0.1872672916579855},null,"A5",{"$f":"(5-Q36*(18-Q36)+Q40*(14-58*Q36))/120","v":-0.18337374774287443},null,"A5",{"$f":"(5-T36*(18-T36)+T40*(14-58*T36))/120","v":-0.18337531392311762},null,"A5",{"$f":"(5-W36*(18-W36)+W40*(14-58*W36))/120","v":-0.18342217383634823},null,"A5",{"$f":"(5-Z36*(18-Z36)+Z40*(14-58*Z36))/120","v":-0.18342230437892681},null,"A5",{"$f":"(5-AC36*(18-AC36)+AC40*(14-58*AC36))/120","v":-0.18342178220906513},null,"A5",{"$f":"(5-AF36*(18-AF36)+AF40*(14-58*AF36))/120","v":-0.18342178220906513},null,"A5",{"$f":"(5-AI36*(18-AI36)+AI40*(14-58*AI36))/120","v":-0.18342178220906513},null,"A5",{"$f":"(5-AL36*(18-AL36)+AL40*(14-58*AL36))/120","v":-0.18342178220906513},null,"A5",{"$f":"(5-AO36*(18-AO36)+AO40*(14-58*AO36))/120","v":-0.18342178220906513},null,"A5",{"$f":"(5-AR36*(18-AR36)+AR40*(14-58*AR36))/120","v":-0.18342178220906513},null,"A5",{"$f":"(5-AU36*(18-AU36)+AU40*(14-58*AU36))/120","v":-0.18342178220906513},null,"A5",{"$f":"(5-AX36*(18-AX36)+AX40*(14-58*AX36))/120","v":-0.18342178220906513},null,"A5",{"$f":"(5-BA36*(18-BA36)+BA40*(14-58*BA36))/120","v":-0.18342178220906513},null,"A5",{"$f":"(5-BD36*(18-BD36)+BD40*(14-58*BD36))/120","v":-0.18342178220906513},null,"A5",{"$f":"(5-BG36*(18-BG36)+BG40*(14-58*BG36))/120","v":-0.18342178220906513},null,"A5",{"$f":"(5-BJ36*(18-BJ36)+BJ40*(14-58*BJ36))/120","v":-0.18342178220906513},null,"A5",{"$f":"(5-BM36*(18-BM36)+BM40*(14-58*BM36))/120","v":-0.18342178220906513},null,"A5",{"$f":"(5-BP36*(18-BP36)+BP40*(14-58*BP36))/120","v":-0.18342178220906513}]
["my_lat",{"$f":"B31*rad","v":0.89892746791654854},null,null,null,null,null,null,null,"A3",{"$f":"ROUNDDOWN((1-K36+K40)/6,7)","v":-0.1059508},null,"A3",{"$f":"ROUNDDOWN((1-N36+N40)/6,7)","v":-0.11116330000000001},null,"A3",{"$f":"ROUNDDOWN((1-Q36+Q40)/6,7)","v":-0.1058829},null,"A3",{"$f":"ROUNDDOWN((1-T36+T40)/6,7)","v":-0.1058851},null,"A3",{"$f":"ROUNDDOWN((1-W36+W40)/6,7)","v":-0.1059485},null,"A3",{"$f":"ROUNDDOWN((1-Z36+Z40)/6,7)","v":-0.10594870000000001},null,"A3",{"$f":"ROUNDDOWN((1-AC36+AC40)/6,7)","v":-0.105948},null,"A3",{"$f":"ROUNDDOWN((1-AF36+AF40)/6,7)","v":-0.105948},null,"A3",{"$f":"ROUNDDOWN((1-AI36+AI40)/6,7)","v":-0.105948},null,"A3",{"$f":"ROUNDDOWN((1-AL36+AL40)/6,7)","v":-0.105948},null,"A3",{"$f":"ROUNDDOWN((1-AO36+AO40)/6,7)","v":-0.105948},null,"A3",{"$f":"ROUNDDOWN((1-AR36+AR40)/6,7)","v":-0.105948},null,"A3",{"$f":"ROUNDDOWN((1-AU36+AU40)/6,7)","v":-0.105948},null,"A3",{"$f":"ROUNDDOWN((1-AX36+AX40)/6,7)","v":-0.105948},null,"A3",{"$f":"ROUNDDOWN((1-BA36+BA40)/6,7)","v":-0.105948},null,"A3",{"$f":"ROUNDDOWN((1-BD36+BD40)/6,7)","v":-0.105948},null,"A3",{"$f":"ROUNDDOWN((1-BG36+BG40)/6,7)","v":-0.105948},null,"A3",{"$f":"ROUNDDOWN((1-BJ36+BJ40)/6,7)","v":-0.105948},null,"A3",{"$f":"ROUNDDOWN((1-BM36+BM40)/6,7)","v":-0.105948},null,"A3",{"$f":"ROUNDDOWN((1-BP36+BP40)/6,7)","v":-0.105948}]
["my_lon",{"$f":"B32*rad","v":8.5449871554363135E-2},null,null,null,null,"my_a",{"$f":"molod_WGS84_a-H42","v":6377563.3959999997},null,"A1",{"$f":"ROUND(TMScale*K43,0)","v":6388265},null,"A1",{"$f":"ROUND(TMScale*N43,0)","v":6388360},null,"A1",{"$f":"ROUND(TMScale*Q43,0)","v":6388264},null,"A1",{"$f":"ROUND(TMScale*T43,0)","v":6388264},null,"A1",{"$f":"ROUND(TMScale*W43,0)","v":6388265},null,"A1",{"$f":"ROUND(TMScale*Z43,0)","v":6388265},null,"A1",{"$f":"ROUND(TMScale*AC43,0)","v":6388265},null,"A1",{"$f":"ROUND(TMScale*AF43,0)","v":6388265},null,"A1",{"$f":"ROUND(TMScale*AI43,0)","v":6388265},null,"A1",{"$f":"ROUND(TMScale*AL43,0)","v":6388265},null,"A1",{"$f":"ROUND(TMScale*AO43,0)","v":6388265},null,"A1",{"$f":"ROUND(TMScale*AR43,0)","v":6388265},null,"A1",{"$f":"ROUND(TMScale*AU43,0)","v":6388265},null,"A1",{"$f":"ROUND(TMScale*AX43,0)","v":6388265},null,"A1",{"$f":"ROUND(TMScale*BA43,0)","v":6388265},null,"A1",{"$f":"ROUND(TMScale*BD43,0)","v":6388265},null,"A1",{"$f":"ROUND(TMScale*BG43,0)","v":6388265},null,"A1",{"$f":"ROUND(TMScale*BJ43,0)","v":6388265},null,"A1",{"$f":"ROUND(TMScale*BM43,0)","v":6388265},null,"A1",{"$f":"ROUND(TMScale*BP43,0)","v":6388265}]
[null,null,null,null,null,null,"my_f",{"$f":"molod_WGS84_f-H43","v":3.3408509769999998E-3},null,"OeastingIndex1",{"$f":"K48*K37*(1+K38*(K47+K38*(K46+K45*K38)))","v":-68643.11062488606},null,"OeastingIndex1",{"$f":"N48*N37*(1+N38*(N47+N38*(N46+N45*N38)))","v":544343.2723816816},null,"OeastingIndex1",{"$f":"Q48*Q37*(1+Q38*(Q47+Q38*(Q46+Q45*Q38)))","v":546616.54077034362},null,"OeastingIndex1",{"$f":"T48*T37*(1+T38*(T47+T38*(T46+T45*T38)))","v":543352.93089805811},null,"OeastingIndex1",{"$f":"W48*W37*(1+W38*(W47+W38*(W46+W45*W38)))","v":543312.75186322932},null,"OeastingIndex1",{"$f":"Z48*Z37*(1+Z38*(Z47+Z38*(Z46+Z45*Z38)))","v":543351.86376926978},null,"OeastingIndex1",{"$f":"AC48*AC37*(1+AC38*(AC47+AC38*(AC46+AC45*AC38)))","v":543352.43818253907},null,"OeastingIndex1",{"$f":"AF48*AF37*(1+AF38*(AF47+AF38*(AF46+AF45*AF38)))","v":543352.00029672636},null,"OeastingIndex1",{"$f":"AI48*AI37*(1+AI38*(AI47+AI38*(AI46+AI45*AI38)))","v":543352.00000020082},null,"OeastingIndex1",{"$f":"AL48*AL37*(1+AL38*(AL47+AL38*(AL46+AL45*AL38)))","v":543352.00000000023},null,"OeastingIndex1",{"$f":"AO48*AO37*(1+AO38*(AO47+AO38*(AO46+AO45*AO38)))","v":543352.00000000023},null,"OeastingIndex1",{"$f":"AR48*AR37*(1+AR38*(AR47+AR38*(AR46+AR45*AR38)))","v":543352.00000000023},null,"OeastingIndex1",{"$f":"AU48*AU37*(1+AU38*(AU47+AU38*(AU46+AU45*AU38)))","v":543352.00000000023},null,"OeastingIndex1",{"$f":"AX48*AX37*(1+AX38*(AX47+AX38*(AX46+AX45*AX38)))","v":543352.00000000023},null,"OeastingIndex1",{"$f":"BA48*BA37*(1+BA38*(BA47+BA38*(BA46+BA45*BA38)))","v":543352.00000000023},null,"OeastingIndex1",{"$f":"BD48*BD37*(1+BD38*(BD47+BD38*(BD46+BD45*BD38)))","v":543352.00000000023},null,"OeastingIndex1",{"$f":"BG48*BG37*(1+BG38*(BG47+BG38*(BG46+BG45*BG38)))","v":543352.00000000023},null,"OeastingIndex1",{"$f":"BJ48*BJ37*(1+BJ38*(BJ47+BJ38*(BJ46+BJ45*BJ38)))","v":543352.00000000023},null,"OeastingIndex1",{"$f":"BM48*BM37*(1+BM38*(BM47+BM38*(BM46+BM45*BM38)))","v":543352.00000000023},null,"OeastingIndex1",{"$f":"BP48*BP37*(1+BP38*(BP47+BP38*(BP46+BP45*BP38)))","v":543352.00000000023}]
["Slat",{"$f":"SIN(B47)","v":0.78265976258069159},null,null,null,null,"my_es",{"$f":"2*H49-H49*H49","v":6.6705406687494776E-3}]
["slon",{"$f":"SIN(B48)","v":8.534592156793222E-2},null,null,null,null,"my_lat",{"$f":"H38*rad","v":0.90756866748029907}]
["clat",{"$f":"COS(B47)","v":0.62244975382526702},null,null,null,null,"my_lon",{"$f":"H39*rad","v":0.10335217662690813},null,"M",{"$f":"INT(MajorAxis*(1-eccsc)*(PA*K34-0.5*PB*SIN(2*K34)+0.25*PC*SIN(4*K34)))","v":5762914},null,"M",{"$f":"INT(MajorAxis*(1-eccsc)*(PA*N34-0.5*PB*SIN(2*N34)+0.25*PC*SIN(4*N34)))","v":5792095},null,"M",{"$f":"INT(MajorAxis*(1-eccsc)*(PA*Q34-0.5*PB*SIN(2*Q34)+0.25*PC*SIN(4*Q34)))","v":5762530},null,"M",{"$f":"INT(MajorAxis*(1-eccsc)*(PA*T34-0.5*PB*SIN(2*T34)+0.25*PC*SIN(4*T34)))","v":5762542},null,"M",{"$f":"INT(MajorAxis*(1-eccsc)*(PA*W34-0.5*PB*SIN(2*W34)+0.25*PC*SIN(4*W34)))","v":5762901},null,"M",{"$f":"INT(MajorAxis*(1-eccsc)*(PA*Z34-0.5*PB*SIN(2*Z34)+0.25*PC*SIN(4*Z34)))","v":5762902},null,"M",{"$f":"INT(MajorAxis*(1-eccsc)*(PA*AC34-0.5*PB*SIN(2*AC34)+0.25*PC*SIN(4*AC34)))","v":5762898},null,"M",{"$f":"INT(MajorAxis*(1-eccsc)*(PA*AF34-0.5*PB*SIN(2*AF34)+0.25*PC*SIN(4*AF34)))","v":5762898},null,"M",{"$f":"INT(MajorAxis*(1-eccsc)*(PA*AI34-0.5*PB*SIN(2*AI34)+0.25*PC*SIN(4*AI34)))","v":5762898},null,"M",{"$f":"INT(MajorAxis*(1-eccsc)*(PA*AL34-0.5*PB*SIN(2*AL34)+0.25*PC*SIN(4*AL34)))","v":5762898},null,"M",{"$f":"INT(MajorAxis*(1-eccsc)*(PA*AO34-0.5*PB*SIN(2*AO34)+0.25*PC*SIN(4*AO34)))","v":5762898},null,"M",{"$f":"INT(MajorAxis*(1-eccsc)*(PA*AR34-0.5*PB*SIN(2*AR34)+0.25*PC*SIN(4*AR34)))","v":5762898},null,"M",{"$f":"INT(MajorAxis*(1-eccsc)*(PA*AU34-0.5*PB*SIN(2*AU34)+0.25*PC*SIN(4*AU34)))","v":5762898},null,"M",{"$f":"INT(MajorAxis*(1-eccsc)*(PA*AX34-0.5*PB*SIN(2*AX34)+0.25*PC*SIN(4*AX34)))","v":5762898},null,"M",{"$f":"INT(MajorAxis*(1-eccsc)*(PA*BA34-0.5*PB*SIN(2*BA34)+0.25*PC*SIN(4*BA34)))","v":5762898},null,"M",{"$f":"INT(MajorAxis*(1-eccsc)*(PA*BD34-0.5*PB*SIN(2*BD34)+0.25*PC*SIN(4*BD34)))","v":5762898},null,"M",{"$f":"INT(MajorAxis*(1-eccsc)*(PA*BG34-0.5*PB*SIN(2*BG34)+0.25*PC*SIN(4*BG34)))","v":5762898},null,"M",{"$f":"INT(MajorAxis*(1-eccsc)*(PA*BJ34-0.5*PB*SIN(2*BJ34)+0.25*PC*SIN(4*BJ34)))","v":5762898},null,"M",{"$f":"INT(MajorAxis*(1-eccsc)*(PA*BM34-0.5*PB*SIN(2*BM34)+0.25*PC*SIN(4*BM34)))","v":5762898},null,"M",{"$f":"INT(MajorAxis*(1-eccsc)*(PA*BP34-0.5*PB*SIN(2*BP34)+0.25*PC*SIN(4*BP34)))","v":5762898}]
["clon",{"$f":"COS(B48)","v":0.99635138062418538},null,null,null,null,null,null,null,"A2",{"$f":"INT(0.5*K48*K35)","v":4088303},null,"A2",{"$f":"INT(0.5*N48*N35)","v":4127167},null,"A2",{"$f":"INT(0.5*Q48*Q35)","v":4087794},null,"A2",{"$f":"INT(0.5*T48*T35)","v":4087810},null,"A2",{"$f":"INT(0.5*W48*W35)","v":4088285},null,"A2",{"$f":"INT(0.5*Z48*Z35)","v":4088287},null,"A2",{"$f":"INT(0.5*AC48*AC35)","v":4088281},null,"A2",{"$f":"INT(0.5*AF48*AF35)","v":4088281},null,"A2",{"$f":"INT(0.5*AI48*AI35)","v":4088281},null,"A2",{"$f":"INT(0.5*AL48*AL35)","v":4088281},null,"A2",{"$f":"INT(0.5*AO48*AO35)","v":4088281},null,"A2",{"$f":"INT(0.5*AR48*AR35)","v":4088281},null,"A2",{"$f":"INT(0.5*AU48*AU35)","v":4088281},null,"A2",{"$f":"INT(0.5*AX48*AX35)","v":4088281},null,"A2",{"$f":"INT(0.5*BA48*BA35)","v":4088281},null,"A2",{"$f":"INT(0.5*BD48*BD35)","v":4088281},null,"A2",{"$f":"INT(0.5*BG48*BG35)","v":4088281},null,"A2",{"$f":"INT(0.5*BJ48*BJ35)","v":4088281},null,"A2",{"$f":"INT(0.5*BM48*BM35)","v":4088281},null,"A2",{"$f":"INT(0.5*BP48*BP35)","v":4088281}]
[null,null,null,null,null,null,"Slat",{"$f":"SIN(H51)","v":0.78800918763427019},null,"A4",{"$f":"ROUND((5-K36+K40*(9+4*K40))/12,7)","v":0.282057},null,"A4",{"$f":"ROUND((5-N36+N40*(9+4*N40))/12,7)","v":0.27943079999999998},null,"A4",{"$f":"ROUND((5-Q36+Q40*(9+4*Q40))/12,7)","v":0.28209119999999999},null,"A4",{"$f":"ROUND((5-T36+T40*(9+4*T40))/12,7)","v":0.28209010000000001},null,"A4",{"$f":"ROUND((5-W36+W40*(9+4*W40))/12,7)","v":0.28205819999999998},null,"A4",{"$f":"ROUND((5-Z36+Z40*(9+4*Z40))/12,7)","v":0.28205809999999998},null,"A4",{"$f":"ROUND((5-AC36+AC40*(9+4*AC40))/12,7)","v":0.28205839999999999},null,"A4",{"$f":"ROUND((5-AF36+AF40*(9+4*AF40))/12,7)","v":0.28205839999999999},null,"A4",{"$f":"ROUND((5-AI36+AI40*(9+4*AI40))/12,7)","v":0.28205839999999999},null,"A4",{"$f":"ROUND((5-AL36+AL40*(9+4*AL40))/12,7)","v":0.28205839999999999},null,"A4",{"$f":"ROUND((5-AO36+AO40*(9+4*AO40))/12,7)","v":0.28205839999999999},null,"A4",{"$f":"ROUND((5-AR36+AR40*(9+4*AR40))/12,7)","v":0.28205839999999999},null,"A4",{"$f":"ROUND((5-AU36+AU40*(9+4*AU40))/12,7)","v":0.28205839999999999},null,"A4",{"$f":"ROUND((5-AX36+AX40*(9+4*AX40))/12,7)","v":0.28205839999999999},null,"A4",{"$f":"ROUND((5-BA36+BA40*(9+4*BA40))/12,7)","v":0.28205839999999999},null,"A4",{"$f":"ROUND((5-BD36+BD40*(9+4*BD40))/12,7)","v":0.28205839999999999},null,"A4",{"$f":"ROUND((5-BG36+BG40*(9+4*BG40))/12,7)","v":0.28205839999999999},null,"A4",{"$f":"ROUND((5-BJ36+BJ40*(9+4*BJ40))/12,7)","v":0.28205839999999999},null,"A4",{"$f":"ROUND((5-BM36+BM40*(9+4*BM40))/12,7)","v":0.28205839999999999},null,"A4",{"$f":"ROUND((5-BP36+BP40*(9+4*BP40))/12,7)","v":0.28205839999999999}]
["Rn",{"$f":"B44/SQRT(1-(B46*B50^2))","v":6391876.3700046167},null,null,null,null,"slon",{"$f":"SIN(H52)","v":0.10316827918867423},null,"A6",{"$f":"(61-K36*(58-K36)+K40*(270-330*K36))/360","v":-8.8954179901719027E-2},null,"A6",{"$f":"(61-N36*(58-N36)+N40*(270-330*N36))/360","v":-9.3750691588450633E-2},null,"A6",{"$f":"(61-Q36*(58-Q36)+Q40*(270-330*Q36))/360","v":-8.8891684503324395E-2},null,"A6",{"$f":"(61-T36*(58-T36)+T40*(270-330*T36))/360","v":-8.8893636111432889E-2},null,"A6",{"$f":"(61-W36*(58-W36)+W40*(270-330*W36))/360","v":-8.8952029062815852E-2},null,"A6",{"$f":"(61-Z36*(58-Z36)+Z40*(270-330*Z36))/360","v":-8.8952191737123931E-2},null,"A6",{"$f":"(61-AC36*(58-AC36)+AC40*(270-330*AC36))/360","v":-8.8951541040553417E-2},null,"A6",{"$f":"(61-AF36*(58-AF36)+AF40*(270-330*AF36))/360","v":-8.8951541040553417E-2},null,"A6",{"$f":"(61-AI36*(58-AI36)+AI40*(270-330*AI36))/360","v":-8.8951541040553417E-2},null,"A6",{"$f":"(61-AL36*(58-AL36)+AL40*(270-330*AL36))/360","v":-8.8951541040553417E-2},null,"A6",{"$f":"(61-AO36*(58-AO36)+AO40*(270-330*AO36))/360","v":-8.8951541040553417E-2},null,"A6",{"$f":"(61-AR36*(58-AR36)+AR40*(270-330*AR36))/360","v":-8.8951541040553417E-2},null,"A6",{"$f":"(61-AU36*(58-AU36)+AU40*(270-330*AU36))/360","v":-8.8951541040553417E-2},null,"A6",{"$f":"(61-AX36*(58-AX36)+AX40*(270-330*AX36))/360","v":-8.8951541040553417E-2},null,"A6",{"$f":"(61-BA36*(58-BA36)+BA40*(270-330*BA36))/360","v":-8.8951541040553417E-2},null,"A6",{"$f":"(61-BD36*(58-BD36)+BD40*(270-330*BD36))/360","v":-8.8951541040553417E-2},null,"A6",{"$f":"(61-BG36*(58-BG36)+BG40*(270-330*BG36))/360","v":-8.8951541040553417E-2},null,"A6",{"$f":"(61-BJ36*(58-BJ36)+BJ40*(270-330*BJ36))/360","v":-8.8951541040553417E-2},null,"A6",{"$f":"(61-BM36*(58-BM36)+BM40*(270-330*BM36))/360","v":-8.8951541040553417E-2},null,"A6",{"$f":"(61-BP36*(58-BP36)+BP40*(270-330*BP36))/360","v":-8.8951541040553417E-2}]
["Rm",{"$f":"B44*(1-B46)/((1-B46*B50^2)^1.5)","v":6375169.9981083097},null,null,null,null,"clat",{"$f":"COS(H51)","v":0.61566347967373991},null,"OSNorthingIndex1",{"$f":"TMScale*K52+K53*K38*(1+K38*(K54+K55*K38))","v":5761088.2216944331},null,"OSNorthingIndex1",{"$f":"INT(TMScale*N52+N53*N38*(1+N38*(N54+N55*N38)))","v":5819860},null,"OSNorthingIndex1",{"$f":"INT(TMScale*Q52+Q53*Q38*(1+Q38*(Q54+Q55*Q38)))","v":5790270},null,"OSNorthingIndex1",{"$f":"INT(TMScale*T52+T53*T38*(1+T38*(T54+T55*T38)))","v":5789923},null,"OSNorthingIndex1",{"$f":"INT(TMScale*W52+W53*W38*(1+W38*(W54+W55*W38)))","v":5790281},null,"OSNorthingIndex1",{"$f":"INT(TMScale*Z52+Z53*Z38*(1+Z38*(Z54+Z55*Z38)))","v":5790286},null,"OSNorthingIndex1",{"$f":"INT(TMScale*AC52+AC53*AC38*(1+AC38*(AC54+AC55*AC38)))","v":5790282},null,"OSNorthingIndex1",{"$f":"INT(TMScale*AF52+AF53*AF38*(1+AF38*(AF54+AF55*AF38)))","v":5790282},null,"OSNorthingIndex1",{"$f":"INT(TMScale*AI52+AI53*AI38*(1+AI38*(AI54+AI55*AI38)))","v":5790282},null,"OSNorthingIndex1",{"$f":"INT(TMScale*AL52+AL53*AL38*(1+AL38*(AL54+AL55*AL38)))","v":5790282},null,"OSNorthingIndex1",{"$f":"INT(TMScale*AO52+AO53*AO38*(1+AO38*(AO54+AO55*AO38)))","v":5790282},null,"OSNorthingIndex1",{"$f":"INT(TMScale*AR52+AR53*AR38*(1+AR38*(AR54+AR55*AR38)))","v":5790282},null,"OSNorthingIndex1",{"$f":"INT(TMScale*AU52+AU53*AU38*(1+AU38*(AU54+AU55*AU38)))","v":5790282},null,"OSNorthingIndex1",{"$f":"INT(TMScale*AX52+AX53*AX38*(1+AX38*(AX54+AX55*AX38)))","v":5790282},null,"OSNorthingIndex1",{"$f":"INT(TMScale*BA52+BA53*BA38*(1+BA38*(BA54+BA55*BA38)))","v":5790282},null,"OSNorthingIndex1",{"$f":"INT(TMScale*BD52+BD53*BD38*(1+BD38*(BD54+BD55*BD38)))","v":5790282},null,"OSNorthingIndex1",{"$f":"INT(TMScale*BG52+BG53*BG38*(1+BG38*(BG54+BG55*BG38)))","v":5790282},null,"OSNorthingIndex1",{"$f":"INT(TMScale*BJ52+BJ53*BJ38*(1+BJ38*(BJ54+BJ55*BJ38)))","v":5790282},null,"OSNorthingIndex1",{"$f":"INT(TMScale*BM52+BM53*BM38*(1+BM38*(BM54+BM55*BM38)))","v":5790282},null,"OSNorthingIndex1",{"$f":"INT(TMScale*BP52+BP53*BP38*(1+BP38*(BP54+BP55*BP38)))","v":5790282}]
[null,null,null,null,null,null,"clon",{"$f":"COS(H52)","v":0.99466391618940708}]
["d1",{"$f":"((-B40*B50*B53-B41*B50*B51)+B42*B52)","v":16.736259851674561},null,null,null,null,null,null,null,"OSNorthingIndex",{"$f":"K56-OSNorthingOrigin","v":234025.22169443313},null,"OSNorthingIndex",{"$f":"INT(N56)-OSNorthingOrigin","v":292797},null,"OSNorthingIndex",{"$f":"INT(Q56)-OSNorthingOrigin","v":263207},null,"OSNorthingIndex",{"$f":"INT(T56)-OSNorthingOrigin","v":262860},null,"OSNorthingIndex",{"$f":"INT(W56)-OSNorthingOrigin","v":263218},null,"OSNorthingIndex",{"$f":"INT(Z56)-OSNorthingOrigin","v":263223},null,"OSNorthingIndex",{"$f":"INT(AC56)-OSNorthingOrigin","v":263219},null,"OSNorthingIndex",{"$f":"INT(AF56)-OSNorthingOrigin","v":263219},null,"OSNorthingIndex",{"$f":"INT(AI56)-OSNorthingOrigin","v":263219},null,"OSNorthingIndex",{"$f":"INT(AL56)-OSNorthingOrigin","v":263219},null,"OSNorthingIndex",{"$f":"INT(AO56)-OSNorthingOrigin","v":263219},null,"OSNorthingIndex",{"$f":"INT(AR56)-OSNorthingOrigin","v":263219},null,"OSNorthingIndex",{"$f":"INT(AU56)-OSNorthingOrigin","v":263219},null,"OSNorthingIndex",{"$f":"INT(AX56)-OSNorthingOrigin","v":263219},null,"OSNorthingIndex",{"$f":"INT(BA56)-OSNorthingOrigin","v":263219},null,"OSNorthingIndex",{"$f":"INT(BD56)-OSNorthingOrigin","v":263219},null,"OSNorthingIndex",{"$f":"INT(BG56)-OSNorthingOrigin","v":263219},null,"OSNorthingIndex",{"$f":"INT(BJ56)-OSNorthingOrigin","v":263219},null,"OSNorthingIndex",{"$f":"INT(BM56)-OSNorthingOrigin","v":263219},null,"OSNorthingIndex",{"$f":"INT(BP56)-OSNorthingOrigin","v":263219}]
["d2",{"$f":"B38*(B55*B46*B50*B52)/B44","v":-1.8812182780337567},null,null,null,null,"Rn",{"$f":"H48/SQRT(1-(H50*H54^2))","v":6390812.9156360477},null,"OSeastingIndex",{"$f":"K49-OSEastingOrigin","v":331356.88937511394},null,"OSeastingIndex",{"$f":"N49-OSEastingOrigin","v":944343.2723816816},null,"OSeastingIndex",{"$f":"Q49-OSEastingOrigin","v":946616.54077034362},null,"OSeastingIndex",{"$f":"T49-OSEastingOrigin","v":943352.93089805811},null,"OSeastingIndex",{"$f":"W49-OSEastingOrigin","v":943312.75186322932},null,"OSeastingIndex",{"$f":"Z49-OSEastingOrigin","v":943351.86376926978},null,"OSeastingIndex",{"$f":"AC49-OSEastingOrigin","v":943352.43818253907},null,"OSeastingIndex",{"$f":"AF49-OSEastingOrigin","v":943352.00029672636},null,"OSeastingIndex",{"$f":"AI49-OSEastingOrigin","v":943352.00000020082},null,"OSeastingIndex",{"$f":"AL49-OSEastingOrigin","v":943352.00000000023},null,"OSeastingIndex",{"$f":"AO49-OSEastingOrigin","v":943352.00000000023},null,"OSeastingIndex",{"$f":"AR49-OSEastingOrigin","v":943352.00000000023},null,"OSeastingIndex",{"$f":"AU49-OSEastingOrigin","v":943352.00000000023},null,"OSeastingIndex",{"$f":"AX49-OSEastingOrigin","v":943352.00000000023},null,"OSeastingIndex",{"$f":"BA49-OSEastingOrigin","v":943352.00000000023},null,"OSeastingIndex",{"$f":"BD49-OSEastingOrigin","v":943352.00000000023},null,"OSeastingIndex",{"$f":"BG49-OSEastingOrigin","v":943352.00000000023},null,"OSeastingIndex",{"$f":"BJ49-OSEastingOrigin","v":943352.00000000023},null,"OSeastingIndex",{"$f":"BM49-OSEastingOrigin","v":943352.00000000023},null,"OSeastingIndex",{"$f":"BP49-OSEastingOrigin","v":943352.00000000023}]
["d3",{"$f":"B39*(B56/(1-B45)+B55*(1-B45))*B50*B52","v":-74.387559081753011},null,null,null,null,"Rm",{"$f":"H48*(1-H50)/((1-H50*H54^2)^1.5)","v":6374587.0989424819},null,"dx",{"$f":"$H$27-K59","v":611995.11062488612},null,"dx",{"$f":"$H$27-N59","v":-991.27238168159965},null,"dx",{"$f":"$H$27-Q59","v":-3264.5407703436213},null,"dx",{"$f":"$H$27-T59","v":-0.93089805811177939},null,"dx",{"$f":"$H$27-W59","v":39.248136770678684},null,"dx",{"$f":"$H$27-Z59","v":0.13623073021881282},null,"dx",{"$f":"$H$27-AC59","v":-0.43818253907375038},null,"dx",{"$f":"$H$27-AF59","v":-2.9672635719180107E-4},null,"dx",{"$f":"$H$27-AI59","v":-2.0081643015146255E-7},null,"dx",{"$f":"$H$27-AL59","v":0},null,"dx",{"$f":"$H$27-AO59","v":0},null,"dx",{"$f":"$H$27-AR59","v":0},null,"dx",{"$f":"$H$27-AU59","v":0},null,"dx",{"$f":"$H$27-AX59","v":0},null,"dx",{"$f":"$H$27-BA59","v":0},null,"dx",{"$f":"$H$27-BD59","v":0},null,"dx",{"$f":"$H$27-BG59","v":0},null,"dx",{"$f":"$H$27-BJ59","v":0},null,"dx",{"$f":"$H$27-BM59","v":0},null,"dx",{"$f":"$H$27-BP59","v":0}]
[null,null,null,null,null,null,null,null,null,"dy",{"$f":"$H$28-K58","v":29193.77830556687},null,"dy",{"$f":"$H$28-N58","v":-29578},null,"dy",{"$f":"$H$28-Q58","v":12},null,"dy",{"$f":"$H$28-T58","v":359},null,"dy",{"$f":"$H$28-W58","v":1},null,"dy",{"$f":"$H$28-Z58","v":-4},null,"dy",{"$f":"$H$28-AC58","v":0},null,"dy",{"$f":"$H$28-AF58","v":0},null,"dy",{"$f":"$H$28-AI58","v":0},null,"dy",{"$f":"$H$28-AL58","v":0},null,"dy",{"$f":"$H$28-AO58","v":0},null,"dy",{"$f":"$H$28-AR58","v":0},null,"dy",{"$f":"$H$28-AU58","v":0},null,"dy",{"$f":"$H$28-AX58","v":0},null,"dy",{"$f":"$H$28-BA58","v":0},null,"dy",{"$f":"$H$28-BD58","v":0},null,"dy",{"$f":"$H$28-BG58","v":0},null,"dy",{"$f":"$H$28-BJ58","v":0},null,"dy",{"$f":"$H$28-BM58","v":0},null,"dy",{"$f":"$H$28-BP58","v":0}]
["dlat",{"$f":"(B58+B59+B60)/B56","v":-9.3381851034211106E-6},null,null,null,null,"d1",{"$f":"((-H44*H54*H57-H45*H54*H55)+H46*H56)","v":-19.551626214780981},null,"LatArrayWork",{"$f":"H33+K61*H32","v":52.262275759735871},null,"LatArrayWork",{"$f":"K62+N61*$H$32","v":51.996548167360878},null,"LatArrayWork",{"$f":"N62+Q61*$H$32","v":51.996655974890409},null,"LatArrayWork",{"$f":"Q62+T61*$H$32","v":51.999881216815574},null,"LatArrayWork",{"$f":"T62+W61*$H$32","v":51.99989020077637},null,"LatArrayWork",{"$f":"W62+Z61*$H$32","v":51.999854264933191},null,"LatArrayWork",{"$f":"Z62+AC61*$H$32","v":51.999854264933191},null,"LatArrayWork",{"$f":"AC62+AF61*$H$32","v":51.999854264933191},null,"LatArrayWork",{"$f":"AF62+AI61*$H$32","v":51.999854264933191},null,"LatArrayWork",{"$f":"AI62+AL61*$H$32","v":51.999854264933191},null,"LatArrayWork",{"$f":"AL62+AO61*$H$32","v":51.999854264933191},null,"LatArrayWork",{"$f":"AO62+AR61*$H$32","v":51.999854264933191},null,"LatArrayWork",{"$f":"AR62+AU61*$H$32","v":51.999854264933191},null,"LatArrayWork",{"$f":"AU62+AX61*$H$32","v":51.999854264933191},null,"LatArrayWork",{"$f":"AX62+BA61*$H$32","v":51.999854264933191},null,"LatArrayWork",{"$f":"BA62+BD61*$H$32","v":51.999854264933191},null,"LatArrayWork",{"$f":"BD62+BG61*$H$32","v":51.999854264933191},null,"LatArrayWork",{"$f":"BG62+BJ61*$H$32","v":51.999854264933191},null,"LatArrayWork",{"$f":"BJ62+BM61*$H$32","v":51.999854264933191},null,"LatArrayWork",{"$f":"BM62+BP61*$H$32","v":51.999854264933191}]
["LatArrayIndex",{"$f":"(B47+B62)/rad","v":51.50421496140526},null,null,null,null,"d2",{"$f":"H42*(H59*H50*H54*H56)/H48","v":1.8601552873766376},null,"LongArrayWork",{"$f":"H34+K60*H32/COS(rad * K62)","v":5.9831865284792727},null,"LongArrayWork",{"$f":"K63+N60*$H$32/COS(rad * N62)","v":5.9687226292066518},null,"LongArrayWork",{"$f":"N63+Q60*$H$32/COS(rad * Q62)","v":5.9210887967211603},null,"LongArrayWork",{"$f":"Q63+T60*$H$32/COS(rad * T62)","v":5.9210752127471729},null,"LongArrayWork",{"$f":"T63+W60*$H$32/COS(rad * W62)","v":5.9216479347238717},null,"LongArrayWork",{"$f":"W63+Z60*$H$32/COS(rad * Z62)","v":5.9216499226467869},null,"LongArrayWork",{"$f":"Z63+AC60*$H$32/COS(rad * AC62)","v":5.9216435285453306},null,"LongArrayWork",{"$f":"AC63+AF60*$H$32/COS(rad * AF62)","v":5.921643524215404},null,"LongArrayWork",{"$f":"AF63+AI60*$H$32/COS(rad * AI62)","v":5.9216435242124739},null,"LongArrayWork",{"$f":"AI63+AL60*$H$32/COS(rad * AL62)","v":5.9216435242124739},null,"LongArrayWork",{"$f":"AL63+AO60*$H$32/COS(rad * AO62)","v":5.9216435242124739},null,"LongArrayWork",{"$f":"AO63+AR60*$H$32/COS(rad * AR62)","v":5.9216435242124739},null,"LongArrayWork",{"$f":"AR63+AU60*$H$32/COS(rad * AU62)","v":5.9216435242124739},null,"LongArrayWork",{"$f":"AU63+AX60*$H$32/COS(rad * AX62)","v":5.9216435242124739},null,"LongArrayWork",{"$f":"AX63+BA60*$H$32/COS(rad * BA62)","v":5.9216435242124739},null,"LongArrayWork",{"$f":"BA63+BD60*$H$32/COS(rad * BD62)","v":5.9216435242124739},null,"LongArrayWork",{"$f":"BD63+BG60*$H$32/COS(rad * BG62)","v":5.9216435242124739},null,"LongArrayWork",{"$f":"BG63+BJ60*$H$32/COS(rad * BJ62)","v":5.9216435242124739},null,"LongArrayWork",{"$f":"BJ63+BM60*$H$32/COS(rad * BM62)","v":5.9216435242124739},null,"LongArrayWork",{"$f":"BM63+BP60*$H$32/COS(rad * BP62)","v":5.9216435242124739}]
[null,null,null,null,null,null,"d3",{"$f":"H43*(H60/(1-H49)+H59*(1-H49))*H54*H56","v":74.069890275504022}]
["dLon",{"$f":"(-B40*B51+B41*B53)/(B55*B52)","v":3.5841486924229945E-5}]
["LongArrayIndex",{"$f":"(B48+B65)/rad","v":4.8979705659322317},null,null,null,null,"dlat",{"$f":"(H62+H63+H64)/H60","v":8.8442464544021426E-6}]
[null,null,null,null,null,null,"Latitude",{"$f":"(H51+H66)/rad","v":52.000361002928003}]
[]
["LatArrayIndex",{"$f":"B63","v":51.50421496140526},null,null,null,null,"dLon",{"$f":"(-H44*H55+H45*H57)/(H59*H56)","v":-3.7893603891912894E-5}]
["LongArrayIndex",{"$f":"B66","v":4.8979705659322317},null,null,null,null,"Longitude",{"$f":"(H52+H69)/rad","v":5.9194723806389264}]
[]
["LatArrayIndex",{"$f":"B69","v":51.50421496140526}]
["LongArrayIndex",{"$f":"B70","v":4.8979705659322317}]
[]
[]
[]
["Longi",{"$f":"rad*(B73-LongArrayOrigin)","v":0.12039229808117392}]
["Lati",{"$f":"rad*B72","v":0.89891812973144514}]
["t",{"$f":"TAN(B78)","v":1.2573621495318945}]
["tsq",{"$f":"B79*B79","v":1.5809595750754664}]
["L",{"$f":"B77*COS(B78)","v":7.4939036201584097E-2}]
["Lsq",{"$f":"B81*B81","v":5.615859146822332E-3}]
["etas",{"$f":"COS(B78)","v":0.62245706241986354}]
["etasc",{"$f":"B83*B83*ecc2sq","v":2.6018751836978126E-3}]
["nu1",{"$f":"SIN(B78)","v":0.78265394999554827}]
["nu2",{"$f":"SQRT(1-eccsc*B85*B85)","v":0.99795489853511554}]
["nu",{"$f":"MajorAxis/B86","v":6390632.8886821829}]
[]
["A7",{"$f":"(61-B80*(479-179*B80)+B84*(14-58*B80))/5040","v":-4.9421280157264887E-2}]
["A5",{"$f":"(5-B80*(18-B80)+B84*(14-58*B80))/120","v":-0.17633327975736071}]
["A3",{"$f":"(1-B80+B84)/6","v":-9.6392949981961421E-2}]
["A1",{"$f":"TMScale*B87","v":6388084.7624945547}]
["OeastingIndex1",{"$f":"B92*B81*(1+B82*(B91+B82*(B90+B89*B82)))","v":478455.10539666354}]
[]
[]
["M",{"$f":"INT(MajorAxis*(1-eccsc)*(PA*B78-0.5*PB*SIN(2*B78)+0.25*PC*SIN(4*B78)))","v":5707756}]
["A2",{"$f":"INT(0.5*B92*B79)","v":4016067}]
["A4",{"$f":"ROUND((5-B80+B84*(9+4*B84))/12,7)","v":0.28687370000000001}]
["A6",{"$f":"(61-B80*(58-B80)+B84*(270-330*B80))/360","v":-8.0142104185405183E-2}]
["OSNorthingIndex1",{"$f":"INT(TMScale*B96+B97*B82*(1+B82*(B98+B99*B82)))","v":5728070}]
[]
["OSNorthingIndex",{"$f":"INT(B100)-OSNorthingOrigin","v":201007}]
["OSeastingIndex",{"$f":"B93-OSEastingOrigin","v":878455.10539666354}]
[]
[]
["sapceout",1]
["digits",10]
[]
[]
[]
["MyOSRef_e1",{"$f":"INT(1000000 +B103)","v":1878455}]
["MyOSRef_n1",{"$f":" INT(B102 + 500000)","v":701007}]
["MyOSRef_I",{"$f":"INT(B111/500000)","v":3}]
["MyOSRef_j",{"$f":"INT(B112/500000)","v":1}]
["MyOSRef_L1",{"$f":" MID(\"VWXYZQRSTULMNOPFGHJKABCDE\",B113 + 1 +B114 * 5, 1)","v":"T"}]
["MyOSRef_e2",{"$f":"MOD(B111,500000)","v":378455}]
["MyOSRef_n2",{"$f":"MOD(B112,500000)","v":201007}]
["MyOSRef_i",{"$f":"INT(B116/100000)","v":3}]
["MyOSRef_j",{"$f":"INT(B117/100000)","v":2}]
["MyOSRef_L2",{"$f":"B115& MID(\"VWXYZQRSTULMNOPFGHJKABCDE\",B119 * 5 +B118+ 1, 1)","v":"TO"}]
["MyOSRef_e3",{"$f":"MOD(B116,100000)","v":78455}]
["MyOSRef_n3",{"$f":"MOD(B117,100000)","v":1007}]
[]
["MyOSRef_d"]
[]
["MyOSRef_L",{"$f":"B120& \" \"& TEXT(B121,\"00000\") & \" \" & TEXT(B122,\"00000\")","v":"TO 78455 01007"}]
[]
[null,{"$f":"B120& LEFT(TEXT(B121,\"00000\"),3) & LEFT(TEXT(B122,\"00000\"),3)","v":"TO784010"}]
[]
[]
["TMScale",0.99960127170000002]
["MajorAxis",6377563.3959999997]
["MinorAxis",6356256.9100000001]
[]
[]
["Molod_Da",573.60400000000004]
["Molod_Df",1.1960023E-5]
["Molod_Dx",375]
["Molod_Dy",-111]
["Molod_Dz",431]
[]
["molod_WGS84_a",6378137]
["molod_WGS84_f",3.3528109999999998E-3]

{"sheet":"UTMConstants","index":4,"n_rows":35,"n_cols":6,"rows_kept":35,"cut":false,"hidden":true,"merged":[]}
[]
[null,"Ellipsoid definition","WGS84"]
[null,"Semi major axis (a) (m)",6378137]
[null,"Inverse flattening (1/f)",298.25722356300003]
[null,"Flattening (f)",{"$f":"1/C4","v":3.3528106647474805E-3}]
[null,"Semi-minor axis (b) (m)",{"$f":"C3*(1-C7)","v":6356752.3142451793}]
[null,"Flattening (f)",{"$f":"1/C4","v":3.3528106647474805E-3}]
[null,"Eccentricity (e2)",{"$f":"(2*C7)-(C7*C7)","v":6.6943799901413165E-3}]
[null,"e",{"$f":"SQRT(C8)","v":8.1819190842621486E-2}]
[null,"Second eccentricity (e'2)",{"$f":"C8/(1-C8)","v":6.7394967422764341E-3},null,null," "]
[null,"e'",{"$f":"SQRT(C10)","v":8.2094437949695676E-2}]
[]
[null,"n",{"$f":"(C3-C6)/(C3+C6)","v":1.6792203863837205E-3}]
[null,"n**2",{"$f":"C13*C13","v":2.8197811060466918E-6}]
[null,"n**3",{"$f":"C13*C14","v":4.7350339184132405E-9}]
[null,"n**4",{"$f":"C14*C14","v":7.9511654860179041E-12}]
[null,"G",{"$f":"C3*(1-C13)*(1-C14)*(1+(9*C14)/4+(225*C16)/64)*PI()/180","v":111132.95254791915}]
[]
[null,"TM definition","WGS84"]
[null,"False easting (m)",500000]
[null,"False northing (m)",10000000]
[null,"Central Scale factor (K0)",0.99960000000000004]
[null,"Zone width (degrees)",6]
[null,"Longitude of the central meridian of zone 1(degrees)",-177]
[null,"Longitude of western edge of zone zero",{"$f":"C24-(1.5*C23)","v":-186}]
[null,"Central meridian of zone zero",{"$f":"C25+(C23/2)","v":-183}]
[]
[]
[]
[]
[]
[]
[]
[null,"KEY"]
[null,"User input"]

{"sheet":"WGS842UTM","index":5,"n_rows":51,"n_cols":13,"rows_kept":51,"cut":false,"hidden":true,"merged":[]}
[]
[null,"Site Name",null,null,null,null,null,{"$f":"UTMConstants!C19","v":"WGS84"},null,null,null,"dec deg","radians"]
[null,null,null,null,null,"dec deg","radians"]
[null,"Latitude",52,39,10.1561,{"$f":"IF(C4<0,-F5,IF(D4<0,-F5,IF(E4<0,-F5,F5)))","v":53.196971160537878},{"$f":"(F4/180)*PI()","v":0.92846229883985487},"Longitude",4,55,35.383899999999997,{"$f":"IF(I4<0,-L5,IF(J4<0,-L5,IF(K4<0,-L5,L5)))","v":5.7912154028508089},{"$f":"(L4/180)*PI()","v":0.10107577647195642}]
[null,"Zone no. (real number)",{"$f":"(L4-UTMConstants!C25)/UTMConstants!C23","v":31.965202567141802},null,null,{"$f":"Calc!Q3","v":53.196971160537878},null,null,null,null,null,{"$f":"Calc!Q4","v":5.7912154028508089}]
[null,"Central Meridian",{"$f":"(C7*UTMConstants!C23)+UTMConstants!C26","v":3},null,null,{"$f":"ABS(C4)+(ABS(D4)/60)+ABS(E4)/3600","v":52.652821138888889},null,"Diff longitude (w)",{"$f":"TRUNC(L6,0)","v":2},{"$f":"TRUNC(((L6-I6)*60),0)","v":47},{"$f":"((L6-I6)-(J6/60))*3600","v":28.375450262912196},{"$f":"L4-C6","v":2.7912154028508089},{"$f":"(L6/180)*PI()","v":4.8715898912126535E-2}]
[null,"Zone",{"$f":"TRUNC(C5)","v":31},null,null,{"$f":"C6","v":3},{"$f":"(F7/180)*PI()","v":5.2359877559829883E-2},null,null,null,null,{"$f":"ABS(I4)+(ABS(J4)/60)+ABS(K4)/3600","v":4.926495527777778}]
[null,"FUNCTIONS"]
[null,"Sin latitude (sinj)",null,null,{"$f":"SIN(G4)","v":0.80069970351296871},null,null,null,null,null,null,"A0",{"$f":"1-(K10/4)-((3*K11)/64)-((5*K12)/256)","v":0.99832429845279536}]
[null,"sin(2j)",null,null,{"$f":"SIN(2*G4)","v":0.9593438201360911},null,null,"e2",null,null,{"$f":"UTMConstants!C8","v":6.6943799901413165E-3},"A2",{"$f":"(3/8)*(K10+(K11/4)+((15*K12)/128))","v":2.5146070605187049E-3}]
[null,"sin(4j)",null,null,{"$f":"SIN(4*G4)","v":-0.54153045794061316},null,null,"e4",null,null,{"$f":"K10*K10","v":4.481472345240445E-5},"A4",{"$f":"(15/256)*(K11+((3*K12)/4))","v":2.6390465943376213E-6}]
[null,"sin(6j)",null,null,{"$f":"SIN(6*G4)","v":-0.65366067430025332},null,null,"e6",null,null,{"$f":"K10*K11","v":3.000067879434931E-7},"A6",{"$f":"(35*K12)/3072","v":3.4180460865957874E-9}]
[]
[null,"Meridian Distance",null,null,null,null,null,"               Radii of Curvature"]
[null,"1st term",null,null,{"$f":"(UTMConstants!C3)*M9*G4","v":5911936.4718046505},null,null,"Rho(r)",null,null,{"$f":"UTMConstants!C3*(1-K10)/(1-(K10*E9*E9))^1.5","v":6376445.8610059386}]
[null,"2nd term",null,null,{"$f":"-(UTMConstants!C3)*M10*E10","v":-15386.443853614015},null,null,"Nu (n)",null,null,{"$f":"UTMConstants!C3/(1-(K10*E9*E9))^0.5","v":6391868.3824307648}]
[null,"3rd term",null,null,{"$f":"(UTMConstants!C3)*M11*E11","v":-9.1151493684194058}]
[null,"4th term",null,null,{"$f":"-(UTMConstants!C3)*M12*E12","v":1.4250303542804542E-2}]
[null,"sum (meridian dist)",null,null,{"$f":"E15+E16+E17+E18","v":5896540.9270519717}]
[]
[null,"Powers",null,null,"Cos latitude",null,null,"Diff long (w)",null,null,"Tan latitude",null,"Psi (y)= Nu/Rho"]
[null,1,null,null,{"$f":"COS(G4)","v":0.59906592691810134},null,null,{"$f":"M6","v":4.8715898912126535E-2},null,null,{"$f":"TAN(G4)","v":1.3365802786217098},null,{"$f":"K16/K15","v":1.0024186704883891}]
[null,2,null,null,{"$f":"E22*E22","v":0.35887998479424393},null,null,{"$f":"H22*H22","v":2.3732388068165313E-3},null,null,{"$f":"K22*K22","v":1.7864468412004875},null,{"$f":"M22*M22","v":1.0048431909437094}]
[null,3,null,null,{"$f":"E23*E22","v":0.21499277074311784},null,null,{"$f":"H23*H22","v":1.1561446180720993E-4},null,null,null,null,{"$f":"M22*M23","v":1.0072735755151037}]
[null,4,null,null,{"$f":"E23*E23","v":0.12879484348591674},null,null,{"$f":"H23*H23","v":5.6322624341799532E-6},null,null,{"$f":"K23*K23","v":3.1913923164351998},null,{"$f":"M23*M23","v":1.0097098383859362}]
[null,5,null,null,{"$f":"E24*E23","v":7.715660229516251E-2},null,null,{"$f":"H24*H23","v":2.743807273900783E-7}]
[null,6,null,null,{"$f":"E24*E24","v":4.6221891471802827E-2},null,null,{"$f":"H24*H24","v":1.3366703778970802E-8},null,null,{"$f":"K23*K25","v":5.701252722727169}]
[null,7,null,null,{"$f":"E27*E22","v":2.7689960258463445E-2},null,null,{"$f":"H27*H22","v":6.5117099008468138E-10}]
[null,8,null,null,null,null,null,{"$f":"H25*H25","v":3.172238012747469E-11}]
[]
[null,"Easting",null,null,null,null,null,null,"Northing"]
[null,null,null,null,null,null,null,"                        Meridian Dist",null,null,{"$f":"E19","v":5896540.9270519717}]
[null,"1st term",null,null,{"$f":"K16*H22*E22","v":186540.5114667615},null,null,null,"1st term",null,{"$f":"K16*E9*H23*E22/2","v":3638.1747537360507}]
[null,"2nd term",null,null,{"$f":"K16*H24*E24*(M22-K23)/6","v":-20.760808351542821},null,null,null,"2nd term",null,{"$f":"K16*E9*H25*E24*(4*M23+M22-K23)/24","v":0.83543666740885347}]
[null,"3rd term",null,null,{"$f":"K16*H26*E26*(4*M24*(1-6*K23)+M23*(1+8*K23)-M22*(2*K23)+K25)/120","v":-2.7268755955029828E-2},null,null,null,"3rd term",null,{"$f":"K16*E9*H27*E26*(8*M25*(11-24*K23)-28*M24*(1-6*K23)+M23*(1-32*K23)-M22*(2*K23)+K25)/720","v":-2.9470469915284772E-4}]
[null,"4th term",null,null,{"$f":"K16*H28*E28*(61-479*K23+179*K25-K27)/5040","v":-5.240040562055397E-6},null,null,null,"4th term",null,{"$f":"K16*E9*H29*E28*(1385-3111*K23+543*K25-K27)/40320","v":-2.7265721130800448E-7}]
[null,"Sum",null,null,{"$f":"SUM(E33:E36)","v":186519.72338441398},null,null,null,"Sum",null,{"$f":"SUM(K32:K36)","v":5900179.936947397}]
[null,"Sum*K0",null,null,{"$f":"UTMConstants!C22*E37","v":186445.11549506022},null,null,null,"Sum*K0",null,{"$f":"UTMConstants!C22*K37","v":5897819.8649726184}]
[null,"False Origin",null,null,{"$f":"UTMConstants!C20","v":500000},null,null,null,"False Origin",null,{"$f":"UTMConstants!C21","v":10000000}]
[null,"Easting",null,null,{"$f":"E38+E39","v":686445.11549506022},null,null,null,"Northing",null,{"$f":"K38+K39","v":15897819.864972617}]
[null,"Grid Convergence",null,null,null,null,null,null,"Point Scale"]
[null,"1st term",{"$f":"TRUNC(F42)","v":-2},{"$f":"TRUNC((F42-C42)*60)","v":-14},{"$f":"(F42-C42-(D42/60))*3600","v":-5.7312438125075582},{"$f":"(G42/PI())*180","v":-2.2349253455034743},{"$f":"-E9*H22","v":-3.9006805815307473E-2},null,"1st term",null,{"$f":"1+(H23*E23*M22)/2","v":1.0004268839538413}]
[null,"2nd term",{"$f":"TRUNC(F43)","v":0},{"$f":"TRUNC((F43-C43)*60)","v":0},{"$f":"(F43-C43-(D43/60))*3600","v":-2.3008052433954478},{"$f":"(G43/PI())*180","v":-6.3911256760984655E-4},{"$f":"-E9*H24*E23*(2*M23-M22)/3","v":-1.1154618595666688E-5},null,"2nd term",null,{"$f":"H25*E25*(4*M24*(1-6*K23)+M23*(1+24*K23)-4*M22*K23)/24","v":-6.7503149490836498E-8}]
[null,"3rd term",{"$f":"TRUNC(F44)","v":0},{"$f":"TRUNC((F44-C44)*60)","v":0},{"$f":"(F44-C44-(D44/60))*3600","v":-7.186661501158744E-5},{"$f":"(G44/PI())*180","v":-1.9962948614329844E-8},{"$f":"-E9*H26*E25*(M25*(11-24*K23)-M24*(11-36*K23)+2*M23*(1-7*K23)+M22*K23)/15","v":-3.4841918172649545E-10},null,"3rd term",null,{"$f":"H27*E27*(61-148*K23+16*K25)/720","v":-1.3071645840908434E-10}]
[null,"4th term",{"$f":"TRUNC(F45)","v":0},{"$f":"TRUNC((F45-C45)*60)","v":0},{"$f":"(F45-C45-(D45/60))*3600","v":-3.6397983507547084E-7},{"$f":"(G45/PI())*180","v":-1.0110550974318634E-10},{"$f":"E9*H28*E27*(17-26*K23+2*K25)/315","v":-1.7646240369258079E-12},null,"Sum",null,{"$f":"SUM(K42:K44)","v":1.0004268163199752}]
[null,"Grid Convergence",{"$f":"TRUNC(F46)","v":-2},{"$f":"TRUNC((F46-C46)*60)","v":-14},{"$f":"(F46-C46-(D46/60))*3600","v":-8.0321212864977056},{"$f":"(G46/PI())*180","v":-2.2355644781351383},{"$f":"SUM(G42:G45)","v":-3.9017960784086946E-2},null,"Point Scale",null,{"$f":"UTMConstants!C22*K45","v":1.0000266455934472}]
[]
[]
[null,null,null,null,null,null,null,null,null,null,"KEY"]
[null,null,null,null,null,null,null,null,null,null,"User input"]
[null,null,null,null,null,null,null,null,null,null,"Result"]

{"sheet":"UTM2WGS84","index":6,"n_rows":53,"n_cols":17,"rows_kept":53,"cut":false,"hidden":true,"merged":[]}
[]
[null,"Station Name",null,null,null,null,null,null,null,null,null,{"$f":"UTMConstants!C19","v":"WGS84"}]
[null,"Zone",null,null,{"$f":"Calc!Q7","v":31}]
[null,"Easting",null,null,{"$f":"Calc!Q8","v":649333.28004574066},null,null,null,null,null,null,"Northing",null,null,{"$f":"Calc!Q9","v":15818927.034043495}]
[null,"False Origin",null,null,{"$f":"UTMConstants!C20","v":500000},null,null,null,null,null,"False origin",{"$f":"UTMConstants!C21","v":10000000}]
[null,"E'",null,null,{"$f":"E4-E5","v":149333.28004574066},null,null,null,null,null,"N'",{"$f":"O4-L5","v":5818927.0340434946}]
[null,"E'/K0",null,null,{"$f":"E6/UTMConstants!C22","v":149393.03726064489},null,null,null,null,null,"m = N'/K0",{"$f":"L6/UTMConstants!C22","v":5821255.5362579972}]
[]
[null,null,null,null,null,null,null,null,null,null,"sigma",{"$f":"(L7*PI())/(UTMConstants!C17*180)","v":0.91422097027289462}]
[null,null,null,null,null,null,null,null,null,null,"2 sigma",{"$f":"L9*2","v":1.8284419405457892}]
[null,null,null,null,null,null,null,null,null,null,"4 sigma",{"$f":"L9*4","v":3.6568838810915785}]
[null,null,null,null,null,null,null,null,null,null,"6 sigma",{"$f":"L9*6","v":5.4853258216373675}]
[null,null,null,null,null,null,null,null,null,null,"8 sigma",{"$f":"L9*8","v":7.3137677621831569}]
[]
[null,"Foot Point latitude","deg","min","sec","dec deg","radians",null,null,null,"Radii of curvature"]
[null,"Term 1",{"$f":"TRUNC(F16)","v":52},{"$f":"TRUNC((F16-C16)*60)","v":22},{"$f":"(F16-C16-(D16/60))*3600","v":51.611300371046219},{"$f":"(G16/PI())*180","v":52.381003138991957},{"$f":"L9","v":0.91422097027289462},null,null,null,"Rho' (r')",{"$f":"UTMConstants!C3*(1-UTMConstants!C8)/(1-UTMConstants!C8*UTM2WGS84!G23*UTM2WGS84!G23)^1.5","v":6375715.0523584327}]
[null,"Term 2",0,8,22.396420986134093,0.13955456138503725,{"$f":"((3*UTMConstants!C13/2)-(27*UTMConstants!C15/32))*SIN(L10)","v":2.4356865823454382E-3},null,null,null,"Nu' (n')",{"$f":"UTMConstants!C3/(1-UTMConstants!C8*UTM2WGS84!G23*UTM2WGS84!G23)^0.5","v":6391624.1810235614}]
[null,"Term 3",0,0,-0.37618251827103399,-1.0449514396417611E-4,{"$f":"((21*UTMConstants!C14/16)-(55*UTMConstants!C16/32))*SIN(L11)","v":-1.8237843145203525E-6}]
[null,"Term 4",0,0,-1.0997246038153194E-3,-3.0547905661536649E-7,{"$f":"(151*UTMConstants!C15)*SIN(L12)/96","v":-5.3316153338243102E-9}]
[null,"Term 5",0,0,3.0135382452190751E-6,8.3709395700529869E-10,{"$f":"1097*UTMConstants!C16*SIN(L13)/512","v":1.4610045698290314E-11}]
[null,"Lat'",52,31,13.630442127841702,52.520452900591067,{"$f":"SUM(G16:G20)","v":0.91665482775392015}]
[]
[null,"sin(j')",null,null,null,null,{"$f":"SIN(G21)","v":0.79357059958439724}]
[null,"sec(j')",null,null,null,null,{"$f":"1/COS(G21)","v":1.6434442879751929}]
[null,"t'/(k0n'r')",null,null,null,null,{"$f":"J28/(UTMConstants!C22*UTM2WGS84!L17)","v":2.0412823351645159E-7}]
[]
[null,null,null,null,null,"Powers","n","x = E'/(k0n')","E'2/(k02n'r')","t'=tanj'","y'=n'/r'"]
[null,null,null,null,null,1,{"$f":"UTMConstants!C13","v":1.6792203863837205E-3},{"$f":"E7/L17","v":2.3373251153311854E-2},{"$f":"(E7*E7)/(L16*L17)","v":5.4767205745141973E-4},{"$f":"TAN(G21)","v":1.3041890689920268},{"$f":"L17/L16","v":1.0024952697124134}]
[null,null,null,null,null,2,{"$f":"G28*G28","v":2.8197811060466918E-6},{"$f":"H28*H28","v":5.463088694757939E-4},{"$f":"I28*I28","v":2.9994468251307122E-7},{"$f":"J28*J28","v":1.7009091276782897},{"$f":"K28*K28","v":1.0049967657957646}]
[null,null,null,null,null,3,{"$f":"G28*G29","v":4.7350339184132405E-9},{"$f":"H28*H29","v":1.2769014413539595E-5},{"$f":"I28*I29","v":1.6427132139354658E-10},{"$f":"J28*J29","v":2.2183070916667891},{"$f":"K29*K28","v":1.0075045037865282}]
[null,null,null,null,null,4,{"$f":"G29*G29","v":7.9511654860179041E-12},{"$f":"H29*H29","v":2.9845338086791999E-7},null,{"$f":"J29*J29","v":2.8930918606193203},{"$f":"K29*K29","v":1.0100184992599468}]
[null,null,null,null,null,5,null,{"$f":"H31*H28","v":6.9758258285809329E-9},null,{"$f":"J31*J28","v":3.7731387802095218}]
[null,null,null,null,null,6,null,{"$f":"H30*H30","v":1.6304772909318194E-10},null,{"$f":"J30*J30","v":4.920886352939168}]
[null,null,null,null,null,7,null,{"$f":"H28*H33","v":3.8109555220720932E-12}]
[]
[null,"Latitude","Deg","Min","Secs","Dec Deg","Radians",null,null,null,null,"Longitude","Deg","Min","Secs","Dec Deg","Radians"]
[null,"Foot point latitude",{"$f":"TRUNC(F37)","v":52},{"$f":"TRUNC((F37-C37)*60)","v":31},{"$f":"(F37-C37-(D37/60))*3600","v":13.630442127841702},{"$f":"(G37/PI())*180","v":52.520452900591067},{"$f":"G21","v":0.91665482775392015},null,null,null,null,"Central meridian",{"$f":"TRUNC(P37)","v":3},{"$f":"TRUNC((P37-M37)*60)","v":0},{"$f":"(P37-M37-(N37/60))*3600","v":0},{"$f":"(E3*UTMConstants!C23)+UTMConstants!C24-UTMConstants!C23","v":3},{"$f":"(P37/180)*PI()","v":5.2359877559829883E-2}]
[null,"1st term",0,-1,-13.664166106642666,-2.0462268362956296E-2,{"$f":"-((J28/(UTMConstants!C22*L16))*H28*E6/2)","v":-3.5713395536025747E-4},null,null,null,null,"1st term",2,{"$f":"TRUNC((P38-M38)*60)","v":12},{"$f":"(P38-M38-(N38/60))*3600","v":3.1749424664502923},{"$f":"(Q38/PI())*180","v":2.2008819284629029},{"$f":"G24*H28","v":3.8412636099319955E-2}]
[null,"2nd term",0,0,3.3760847341938266E-2,9.3780131505384066E-6,{"$f":"(J28/(UTMConstants!C22*L16))*(H30*E6/24)*(-4*K29+9*K28*(1-J29)+12*J29)","v":1.6367720677222183E-7},null,null,null,null,"2nd term",0,{"$f":"TRUNC((P39-M39)*60)","v":0},{"$f":"(P39-M39-(N39/60))*3600","v":-3.1773457294298373},{"$f":"(Q39/PI())*180","v":-8.8259603595273258E-4},{"$f":"-G24*(H30/6)*(K28+2*J29)","v":-1.5404206792425432E-5}]
[null,"3rd term",0,0,-2.0926959432243941E-5,-5.8130442867344282E-9,{"$f":"-(J28/(UTMConstants!C22*L16))*(H32*E6/720)*(8*K31*(11-24*J29)-12*K30*(21-71*J29)+15*K29*(15-98*J29+15*J31)+180*K28*(5*J29-3*J31)+360*J31)","v":-1.0145676236776111E-10},null,null,null,null,"3rd term",0,{"$f":"TRUNC((P40-M40)*60)","v":0},{"$f":"(P40-M40-(N40/60))*3600","v":2.4062502354071846E-3},{"$f":"(Q40/PI())*180","v":6.6840284316866244E-7},{"$f":"G24*(H32/120)*(-4*K30*(1-6*J29)+K29*(9-68*J29)+72*K28*J29+24*J31)","v":1.1665830342984448E-8}]
[null,"4th term",0,0,1.6182380509369898E-8,4.495105697047194E-12,{"$f":"(J28/(UTMConstants!C22*L16))*(H34*E6/40320)*(1385+3633*J29+4095*J31+1575*J33)","v":7.8454394638628279E-14},null,null,null,null,"4th term",0,{"$f":"TRUNC((P41-M41)*60)","v":0},{"$f":"(P41-M41-(N41/60))*3600","v":-2.1912643883804403E-6},{"$f":"(Q41/PI())*180","v":-6.0868455232790008E-10},{"$f":"-G24*(H34/5040)*(61+662*J29+1320*J31+720*J33)","v":-1.0623549544149571E-11}]
[null,"Latitude",52,30,1.5957743926264811E-5,52.500000004432707,{"$f":"SUM(G37:G41)","v":0.9162978573743884},null,null,null,null,"Longitude",5,{"$f":"ABS(TRUNC((P42-M42)*60))","v":12},{"$f":"ABS((P42-M42-(N42/60))*3600)","v":7.9599427049714677E-7},{"$f":"(Q42/PI())*180","v":5.2000000002211095},{"$f":"SUM(Q37:Q41)","v":9.0757121107564218E-2}]
[null,"Grid Convergence","Deg","Min","Secs","Dec Deg","Radians",null,null,null,null,"Point Scale"]
[null,"1st term",{"$f":"TRUNC(F44)","v":-1},{"$f":"TRUNC((F44-C44)*60)","v":-44},{"$f":"(F44-C44-(D44/60))*3600","v":-47.598689705173449},{"$f":"(G44/PI())*180","v":-1.7465551915847704},{"$f":"-J28*H28","v":-3.0483138660954603E-2},null,null,null,null,"1st term",null,null,null,null,{"$f":"1+I28/2","v":1.0002738360287258}]
[null,"2nd term",{"$f":"TRUNC(F45)","v":0},{"$f":"TRUNC((F45-C45)*60)","v":0},{"$f":"(F45-C45-(D45/60))*3600","v":3.0896434631721417},{"$f":"(G45/PI())*180","v":8.5823429532559485E-4},{"$f":"(J28*H30/3)*(-2*K29+3*K28+J29)","v":1.497901420696501E-5},null,null,null,null,"2nd term",null,null,null,null,{"$f":"(I29/24)*(4*K28*(1-6*J29)-3*(1-16*J29)-24*J29/K28)","v":1.2619266930130105E-8}]
[null,"3rd term",{"$f":"TRUNC(F46)","v":0},{"$f":"TRUNC((F46-C46)*60)","v":0},{"$f":"(F46-C46-(D46/60))*3600","v":-2.4011194747118512E-3},{"$f":"(G46/PI())*180","v":-6.6697763186440315E-7},{"$f":"-(J28*H32/15)*(K31*(11-24*J29)-3*K30*(8-23*J29)+5*K29*(3-14*J29)+30*K28*J29+3*J31)","v":-1.1640955713188479E-8},null,null,null,null,"3rd term",null,null,null,null,{"$f":"I30/720","v":2.2815461304659249E-13}]
[null,"4th term",{"$f":"TRUNC(F47)","v":0},{"$f":"TRUNC((F47-C47)*60)","v":0},{"$f":"(F47-C47-(D47/60))*3600","v":2.1909029755482683E-6},{"$f":"(G47/PI())*180","v":6.0858415987451898E-10},{"$f":"(J28*H34/315)*(17+77*J29+105*J31+45*J33)","v":1.0621797365293917E-11},null,null,null,null,"sum",null,null,null,null,{"$f":"SUM(Q44:Q46)","v":1.000273848648221}]
[null,"Grid Convergence",{"$f":"TRUNC(F48)","v":-1},{"$f":"TRUNC((F48-C48)*60)","v":-44},{"$f":"(F48-C48-(D48/60))*3600","v":-44.511445170573836},{"$f":"(G48/PI())*180","v":-1.7456976236584927},{"$f":"SUM(G44:G47)","v":-3.0468171277081554E-2},null,null,null,null,"Point Scale",null,null,{"$f":"Q48","v":0.99987373910876176},null,{"$f":"Q47*UTMConstants!C22","v":0.99987373910876176}]
[]
[]
[null,null,null,null,null,null,null,null,null,null,null,null,null,null,"KEY"]
[null,null,null,null,null,null,null,null,null,null,null,null,null,null,"User input"]
[null,null,null,null,null,null,null,null,null,null,null,null,null,null,"Result"]